Workbook

Sheet BANG TH
B1: UBND TỈNH KHÁNH HÒA | M1: CỘNG HÒA XÃ HỘI CHỦ NGHĨA VIỆT NAM
B2: TRUNG TÂM PHÁT TRIỂN QUỸ ĐẤT | M2: Độc lập - Tự do - Hạnh phúc
A4: BẢNG TỔNG HỢP KINH PHÍ DỰ KIẾN BỒI THƯỜNG, HỖ TRỢ Dự án thành phần 1: Bồi thường, hỗ trợ, tái định cư, giải phóng mặt bằng phục vụ dự án Dự án Xây dựng Bệnh viện đa khoa tỉnh Khánh Hòa trở thành Bệnh viện khu vực Duyên hải Nam Trung Bộ.
A6: STT | B6: Họ và tên | C6: Địa chỉ thửa đất thu hồi đất | D6: Thửa trích đo/ BĐ Trích đo | E6: Tổng diện tích | F6: Diện tích thu hồi (m²) | K6: Số tiền bồi thường, hỗ trợ (đồng) | Q6: Khen thưởng
F7: Diện tích thu hồi | G7: Đất ở | H7: Đất phi nông nghiệp | I7: Đất nông nghiệp | J7: Đất khác | K7: Tổng số tiền bồi thường, hỗ trợ | L7: Bồi thường, hỗ trợ về đất | M7: Bồi thường, hỗ trợ về tài sản & tài sản khác | N7: Bồi thường, hỗ trợ về cây trồng | O7: Bồi thường /Hỗ trợ chi phí di chuyển tài sản | P7: Hỗ trợ khác
A8: 1 | B8: 2 | C8: 3 | D8: 4 | E8: 6 | F8: 7 | G8: 8 | H8: 9 | I8: 10 | J8: 11 | K8: 12=13+14+15+16+17 | L8: 13 | M8: 14 | N8: 15 | O8: 16 | P8: 17 | Q8: 18
A9: 1 | B9: ='N.T.P.Nie (T116)'!B4 -> Hộ ông Nguyễn Trọng Phước Niê | C9: ='N.T.P.Nie (T116)'!B10 -> Tổ dân phố Vĩnh Xuân, Phường Nam Nha Trang, tỉnh Khánh Hòa | D9: 116/10-353599-1 | E9: ='N.T.P.Nie (T116)'!F6 -> 223.6 | F9: ='N.T.P.Nie (T116)'!F7 -> 223.6 | G9: 0 | H9: 0 | I9: 0 | J9: ='N.T.P.Nie (T116)'!F7 -> 223.6 | K9: =SUM(L9:P9) -> 338258378 | L9: ='N.T.P.Nie (T116)'!J5 -> 0 | M9: ='N.T.P.Nie (T116)'!J13+'N.T.P.Nie (T116)'!J28 -> 333596378 | N9: ='N.T.P.Nie (T116)'!J29 -> 4662000 | O9: ='N.T.P.Nie (T116)'!J39 -> 0 | P9: ='N.T.P.Nie (T116)'!J40 -> 0 | Q9: ='N.T.P.Nie (T116)'!J44 -> 8000000
A10: 2 | B10: ='N.N.Như Ý (T117)'!B4 -> Hộ bà Nguyễn Ngọc Như Ý | C10: ='N.N.Như Ý (T117)'!B12 -> Tổ dân phố Vĩnh Xuân, Phường Nam Nha Trang, tỉnh Khánh Hòa | D10: 117/10-353599-1 | E10: ='N.N.Như Ý (T117)'!F6 -> 109 | F10: ='N.N.Như Ý (T117)'!F7 -> 109 | G10: 0 | H10: 0 | I10: 0 | J10: ='N.N.Như Ý (T117)'!F11 -> 109 | K10: =SUM(L10:P10) -> 313055897 | L10: ='N.N.Như Ý (T117)'!J5 -> 0 | M10: ='N.N.Như Ý (T117)'!J13+'N.N.Như Ý (T117)'!J27 -> 312665897 | N10: ='N.N.Như Ý (T117)'!J28 -> 390000 | O10: ='N.N.Như Ý (T117)'!J33 -> 0 | P10: ='N.N.Như Ý (T117)'!J34 -> 0 | Q10: ='N.N.Như Ý (T117)'!J38 -> 8000000
A11: 3 | B11: ='N.Thị Hà (T118)'!B4 -> Hộ bà Nguyễn Thị Hà | C11: ='N.Thị Hà (T118)'!B12 -> Tổ dân phố Vĩnh Xuân, Phường Nam Nha Trang, tỉnh Khánh Hòa | D11: 118/10-353599-1 | E11: ='N.Thị Hà (T118)'!F6 -> 244 | F11: ='N.Thị Hà (T118)'!F6 -> 244 | G11: 0 | H11: 0 | I11: 0 | J11: ='N.Thị Hà (T118)'!F7 -> 244 | K11: =SUM(L11:P11) -> 95136417 | L11: ='N.Thị Hà (T118)'!J5 -> 0 | M11: ='N.Thị Hà (T118)'!J13+'N.Thị Hà (T118)'!J24 -> 90541417 | N11: ='N.Thị Hà (T118)'!J27 -> 4595000 | O11: ='N.Thị Hà (T118)'!J39 -> 0 | P11: ='N.Thị Hà (T118)'!J40 -> 0 | Q11: ='N.Thị Hà (T118)'!J44 -> 8000000
A12: 4 | B12: ='L.THỊ THÀNH (T115)'!B4 -> Hộ bà Lê Thị Thành | C12: ='L.THỊ THÀNH (T115)'!B14 -> Tổ dân phố Vĩnh Xuân, Phường Nam Nha Trang, tỉnh Khánh Hòa | D12: 115/10-353599-1 | E12: ='L.THỊ THÀNH (T115)'!F6 -> 174 | F12: ='L.THỊ THÀNH (T115)'!F7 -> 174 | G12: 0 | H12: 0 | I12: 0 | J12: ='L.THỊ THÀNH (T115)'!F11 -> 174 | K12: =SUM(L12:P12) -> 80132179 | L12: ='L.THỊ THÀNH (T115)'!J5 -> 0 | M12: ='L.THỊ THÀNH (T115)'!J13+'L.THỊ THÀNH (T115)'!J25 -> 79950179 | N12: ='L.THỊ THÀNH (T115)'!J28 -> 182000 | O12: ='L.THỊ THÀNH (T115)'!J31 -> 0 | P12: ='L.THỊ THÀNH (T115)'!J32 -> 0 | Q12: ='L.THỊ THÀNH (T115)'!J36 -> 8000000
A13: 5 | B13: ='T.THỊ TÂM (T51)'!B4 -> Hộ bà Trần Thị Tâm | C13: ='T.THỊ TÂM (T51)'!B12 -> Tổ dân phố Vĩnh Xuân, Phường Nam Nha Trang, tỉnh Khánh Hòa | D13: 51/10-353599-1 | E13: ='T.THỊ TÂM (T51)'!F6 -> 344.1 | F13: ='T.THỊ TÂM (T51)'!F7 -> 16.6 | G13: 0 | H13: 0 | I13: 0 | J13: ='T.THỊ TÂM (T51)'!F11 -> 16.6 | K13: =SUM(L13:P13) -> 23985588 | L13: ='T.THỊ TÂM (T51)'!J5 -> 0 | M13: ='T.THỊ TÂM (T51)'!J13+'T.THỊ TÂM (T51)'!J21 -> 23933588 | N13: ='T.THỊ TÂM (T51)'!J24 -> 52000 | O13: ='T.THỊ TÂM (T51)'!J27 -> 0 | P13: ='T.THỊ TÂM (T51)'!J28 -> 0 | Q13: ='T.THỊ TÂM (T51)'!J32 -> 2398558.8
A14: 6 | B14: ='L.T.MỸ HÒA (T62)'!B4 -> Hộ bà Lê Thị Mỹ Hòa | C14: ='L.T.MỸ HÒA (T62)'!B12 -> Tổ dân phố Vĩnh Xuân, Phường Nam Nha Trang, tỉnh Khánh Hòa | D14: 62/10-353599-1 | E14: ='L.T.MỸ HÒA (T62)'!F6 -> 95.5 | F14: ='L.T.MỸ HÒA (T62)'!F7 -> 95.5 | G14: 0 | H14: 0 | I14: 0 | J14: ='L.T.MỸ HÒA (T62)'!F11 -> 95.5 | K14: =SUM(L14:P14) -> 12096869 | L14: ='L.T.MỸ HÒA (T62)'!J5 -> 0 | M14: ='L.T.MỸ HÒA (T62)'!J13 -> 9204869 | N14: ='L.T.MỸ HÒA (T62)'!J20 -> 2892000 | O14: ='L.T.MỸ HÒA (T62)'!J26 -> 0 | P14: ='L.T.MỸ HÒA (T62)'!J27 -> 0 | Q14: ='L.T.MỸ HÒA (T62)'!J31 -> 1209686.9
A15: 7 | B15: ='N.T.CẨM VÂN (T60)'!B4 -> Hộ bà Nguyễn Thị Cẩm Vân | C15: ='N.T.CẨM VÂN (T60)'!B14 -> Tổ dân phố Vĩnh Xuân, Phường Nam Nha Trang, tỉnh Khánh Hòa | D15: 60/10-353599-1 | E15: ='N.T.CẨM VÂN (T60)'!F6 -> 174.5 | F15: ='N.T.CẨM VÂN (T60)'!F7 -> 174.5 | G15: 0 | H15: 0 | I15: 0 | J15: ='N.T.CẨM VÂN (T60)'!F11 -> 174.5 | K15: =SUM(L15:P15) -> 167341837 | L15: ='N.T.CẨM VÂN (T60)'!J5 -> 0 | M15: ='N.T.CẨM VÂN (T60)'!J13+'N.T.CẨM VÂN (T60)'!J26 -> 138463837 | N15: ='N.T.CẨM VÂN (T60)'!J29 -> 28878000 | O15: ='N.T.CẨM VÂN (T60)'!J47 -> 0 | P15: ='N.T.CẨM VÂN (T60)'!J48 -> 0 | Q15: ='N.T.CẨM VÂN (T60)'!J52 -> 8000000
A16: 8 | B16: ='L.THỊ DẦU (T61)'!B4 -> Hộ ông Nguyễn Thành Tâm và bà Lê Thị Dầu | C16: ='L.THỊ DẦU (T61)'!B14 -> Tổ dân phố Vĩnh Xuân, Phường Nam Nha Trang, tỉnh Khánh Hòa | D16: 61/10-353599-1 | E16: ='L.THỊ DẦU (T61)'!F6 -> 146.8 | F16: ='L.THỊ DẦU (T61)'!F7 -> 146.8 | G16: 0 | H16: 0 | I16: 0 | J16: ='L.THỊ DẦU (T61)'!F11 -> 146.8 | K16: =SUM(L16:P16) -> 388550613 | L16: ='L.THỊ DẦU (T61)'!J5 -> 0 | M16: ='L.THỊ DẦU (T61)'!J13+'L.THỊ DẦU (T61)'!J31 -> 388216613 | N16: ='L.THỊ DẦU (T61)'!J34 -> 334000 | O16: ='L.THỊ DẦU (T61)'!J38 -> 0 | P16: ='L.THỊ DẦU (T61)'!J39 -> 0 | Q16: ='L.THỊ DẦU (T61)'!J43 -> 8000000
A17: 9 | B17: ='N.THANH MINH (T123)'!B4 -> Hộ ông Nguyễn Thanh Minh và bà Lê Thị Ngọc Bích | C17: ='N.THANH MINH (T123)'!B13 -> Tổ dân phố Vĩnh Xuân, Phường Nam Nha Trang, tỉnh Khánh Hòa | D17: 123/10-353599-1 | E17: ='N.THANH MINH (T123)'!F6 -> 454.9 | F17: ='N.THANH MINH (T123)'!F7 -> 290.8 | G17: 0 | H17: 0 | I17: 0 | J17: ='N.THANH MINH (T123)'!F7 -> 290.8 | K17: =SUM(L17:P17) -> 177154918 | L17: ='N.THANH MINH (T123)'!J5 -> 0 | M17: ='N.THANH MINH (T123)'!J12+'N.THANH MINH (T123)'!J35 -> 171177918 | N17: ='N.THANH MINH (T123)'!J36 -> 5977000 | O17: ='N.THANH MINH (T123)'!J51 -> 0 | P17: ='N.THANH MINH (T123)'!J52 -> 0 | Q17: ='N.THANH MINH (T123)'!J56 -> 8000000
A18: 10 | B18: ='L.V.Quang (T95)'!B4 -> Hộ ông Lương Văn Quang | C18: ='L.V.Quang (T95)'!B13 -> Tổ dân phố Vĩnh Xuân, phường Nam Nha Trang, tỉnh Khánh Hòa. | D18: 95/10-353599-1 | E18: ='L.V.Quang (T95)'!F6 -> 111.5 | F18: ='L.V.Quang (T95)'!F7 -> 111.5 | G18: 0 | H18: 0 | I18: 0 | J18: ='L.V.Quang (T95)'!F7 -> 111.5 | K18: =SUM(L18:P18) -> 23220759 | L18: ='L.V.Quang (T95)'!J5 -> 0 | M18: ='L.V.Quang (T95)'!J12+'L.V.Quang (T95)'!J21 -> 15279759 | N18: ='L.V.Quang (T95)'!J22 -> 7941000 | O18: ='L.V.Quang (T95)'!J40 -> 0 | P18: ='L.V.Quang (T95)'!J41 -> 0 | Q18: ='L.V.Quang (T95)'!J45 -> 0
A19: 11 | B19: ='L.V.Quang (T94)'!B4 -> Hộ ông Lương Văn Quang | C19: ='L.V.Quang (T94)'!B10 -> Tổ dân phố Vĩnh Xuân, phường Nam Nha Trang, tỉnh Khánh Hòa. | D19: 94/10-353599-1 | E19: ='L.V.Quang (T94)'!F6 -> 111.5 | F19: ='L.V.Quang (T94)'!F7 -> 111.5 | G19: 0 | H19: 0 | I19: 0 | J19: ='L.V.Quang (T94)'!F11 -> 111.5 | K19: =SUM(L19:P19) -> 364989687 | L19: ='L.V.Quang (T94)'!J5 -> 0 | M19: ='L.V.Quang (T94)'!J13+'L.V.Quang (T94)'!J34 -> 355454687 | N19: ='L.V.Quang (T94)'!J35 -> 9535000 | O19: ='L.V.Quang (T94)'!J44 -> 0 | P19: ='L.V.Quang (T94)'!J45 -> 0 | Q19: ='L.V.Quang (T94)'!J50 -> 8000000
A20: 12 | B20: ='ĐĐSang(T214)'!B4 -> Hộ ông Đồng Đức Sang | C20: ='ĐĐSang(T214)'!B12 -> Tổ dân phố Vĩnh Xuân, Phường Nam Nha Trang, tỉnh Khánh Hòa | D20: 214/10-353599-1 | E20: ='ĐĐSang(T214)'!F6 -> 100 | F20: ='ĐĐSang(T214)'!F7 -> 100 | G20: 0 | H20: 0 | I20: 0 | J20: ='ĐĐSang(T214)'!F11 -> 100 | K20: =SUM(L20:P20) -> 0 | L20: ='ĐĐSang(T214)'!J5 -> 0 | M20: ='ĐĐSang(T214)'!J13+'ĐĐSang(T214)'!J14 -> 0 | N20: ='ĐĐSang(T214)'!J15 -> 0 | O20: ='ĐĐSang(T214)'!J16 -> 0 | P20: ='ĐĐSang(T214)'!J17 -> 0 | Q20: ='ĐĐSang(T214)'!J21 -> 1000000
A21: 13 | B21: ='ĐĐSang(T265)'!B4 -> Hộ ông Đồng Đức Sang | C21: ='ĐĐSang(T265)'!B14 -> Tổ dân phố Vĩnh Xuân, Phường Nam Nha Trang, tỉnh Khánh Hòa | D21: 265/10-353599-1 | E21: ='ĐĐSang(T265)'!F6 -> 100 | F21: ='ĐĐSang(T265)'!F7 -> 100 | G21: 0 | H21: 0 | I21: 0 | J21: ='ĐĐSang(T265)'!F11 -> 100 | K21: =SUM(L21:P21) -> 0 | L21: ='ĐĐSang(T265)'!J5 -> 0 | M21: ='ĐĐSang(T265)'!J13+'ĐĐSang(T265)'!J14 -> 0 | N21: ='ĐĐSang(T265)'!J15 -> 0 | O21: ='ĐĐSang(T265)'!J16 -> 0 | P21: ='ĐĐSang(T265)'!J17 -> 0 | Q21: ='ĐĐSang(T265)'!J17 -> 0
A22: 14 | B22: ='ĐĐSang(T272)'!B4 -> Hộ ông Đồng Đức Sang | C22: ='ĐĐSang(T272)'!B15 -> Tổ dân phố Vĩnh Xuân, Phường Nam Nha Trang, tỉnh Khánh Hòa | D22: 272/10-353599-1 | E22: ='ĐĐSang(T272)'!F6 -> 100 | F22: ='ĐĐSang(T272)'!F7 -> 100 | G22: 0 | H22: 0 | I22: 0 | J22: ='ĐĐSang(T272)'!F11 -> 100 | K22: =SUM(L22:P22) -> 0 | L22: ='ĐĐSang(T272)'!J5 -> 0 | M22: ='ĐĐSang(T272)'!J13+'ĐĐSang(T272)'!J14 -> 0 | N22: ='ĐĐSang(T272)'!J15 -> 0 | O22: ='ĐĐSang(T272)'!J16 -> 0 | P22: ='ĐĐSang(T272)'!J17 -> 0 | Q22: ='ĐĐSang(T272)'!J22 -> 0
A23: 15 | B23: ='LATuấn(T96)'!B4 -> Hộ ông Lê Anh Tuấn | C23: ='LATuấn(T96)'!B14 -> Tổ dân phố Vĩnh Xuân, Phường Nam Nha Trang, tỉnh Khánh Hòa | D23: 96/10-353599-1 | E23: ='LATuấn(T96)'!F6 -> 200 | F23: ='LATuấn(T96)'!F7 -> 200 | G23: 0 | H23: 0 | I23: 0 | J23: ='LATuấn(T96)'!F11 -> 200 | K23: =SUM(L23:P23) -> 122579023 | L23: ='LATuấn(T96)'!J5 -> 0 | M23: ='LATuấn(T96)'!J13+'LATuấn(T96)'!J25 -> 122243023 | N23: ='LATuấn(T96)'!J26 -> 336000 | O23: ='LATuấn(T96)'!J29 -> 0 | P23: ='LATuấn(T96)'!J30 -> 0 | Q23: ='LATuấn(T96)'!J35 -> 8000000
A24: 16 | B24: ='LATuấn(T97)'!B4 -> Hộ ông Lê Anh Tuấn | C24: ='LATuấn(T97)'!B14 -> Tổ dân phố Vĩnh Xuân, Phường Nam Nha Trang, tỉnh Khánh Hòa | D24: 97/10-353599-1 | E24: ='LATuấn(T97)'!F6 -> 200.6 | F24: ='LATuấn(T97)'!F7 -> 200.6 | G24: 0 | H24: 0 | I24: 0 | J24: ='LATuấn(T97)'!F11 -> 200.6 | K24: =SUM(L24:P24) -> 101000 | L24: ='LATuấn(T97)'!J5 -> 0 | M24: ='LATuấn(T97)'!J13+'LATuấn(T97)'!J14 -> 0 | N24: ='LATuấn(T97)'!J15 -> 101000 | O24: ='LATuấn(T97)'!J19 -> 0 | P24: ='LATuấn(T97)'!J20 -> 0 | Q24: ='LATuấn(T97)'!J25 -> 0
A25: 17 | B25: ='LATuấn(T262)'!B4 -> Hộ ông Lê Anh Tuấn | C25: ='LATuấn(T262)'!B12 -> Tổ dân phố Vĩnh Xuân, Phường Nam Nha Trang, tỉnh Khánh Hòa | D25: 262/10-353599-1 | E25: ='LATuấn(T262)'!F6 -> 900 | F25: ='LATuấn(T262)'!F7 -> 900 | G25: 0 | H25: 0 | I25: 0 | J25: ='LATuấn(T262)'!F11 -> 900 | K25: =SUM(L25:P25) -> 414000 | L25: ='LATuấn(T262)'!J5 -> 0 | M25: ='LATuấn(T262)'!J13+'LATuấn(T262)'!J14 -> 0 | N25: ='LATuấn(T262)'!J15 -> 414000 | O25: ='LATuấn(T262)'!J19 -> 0 | P25: ='LATuấn(T262)'!J20 -> 0 | Q25: ='LATuấn(T262)'!J25 -> 0
A26: 18 | B26: ='LATuấn(T288)'!B4 -> Hộ ông Lê Anh Tuấn | C26: ='LATuấn(T288)'!B12 -> Tổ dân phố Vĩnh Xuân, Phường Nam Nha Trang, tỉnh Khánh Hòa | D26: 288/10-353599-1 | E26: ='LATuấn(T288)'!F6 -> 300.4 | F26: ='LATuấn(T288)'!F7 -> 300.4 | G26: 0 | H26: 0 | I26: 0 | J26: ='LATuấn(T288)'!F11 -> 300.4 | K26: =SUM(L26:P26) -> 1204000 | L26: ='LATuấn(T288)'!J5 -> 0 | M26: ='LATuấn(T288)'!J13+'LATuấn(T288)'!J14 -> 0 | N26: ='LATuấn(T288)'!J15 -> 1204000 | O26: ='LATuấn(T288)'!J19 -> 0 | P26: ='LATuấn(T288)'!J20 -> 0 | Q26: ='LATuấn(T288)'!J25 -> 0
A27: 19 | B27: ='LATuấn(T290)'!B4 -> Hộ ông Lê Anh Tuấn | C27: ='LATuấn(T290)'!B12 -> Tổ dân phố Vĩnh Xuân, Phường Nam Nha Trang, tỉnh Khánh Hòa | D27: 290/10-353599-1 | E27: ='LATuấn(T290)'!F6 -> 400 | F27: ='LATuấn(T290)'!F7 -> 400 | G27: 0 | H27: 0 | I27: 0 | J27: ='LATuấn(T290)'!F11 -> 400 | K27: =SUM(L27:P27) -> 106000 | L27: ='LATuấn(T290)'!J5 -> 0 | M27: ='LATuấn(T290)'!J13+'LATuấn(T290)'!J14 -> 0 | N27: ='LATuấn(T290)'!J15 -> 106000 | O27: ='LATuấn(T290)'!J18 -> 0 | P27: ='LATuấn(T290)'!J19 -> 0 | Q27: ='LATuấn(T290)'!J24 -> 0
B28: Tổng | E28: =SUM(E9:E27) -> 4490.4 | F28: =SUM(F9:F27) -> 3998.8 | G28: =SUM(G9:G27) -> 0 | H28: =SUM(H9:H27) -> 0 | I28: =SUM(I9:I27) -> 0 | J28: =SUM(J9:J27) -> 3998.8 | K28: =SUM(K9:K27) -> 2108327165 | L28: =SUM(L9:L27) -> 0 | ... Q28: =SUM(Q9:Q27) -> 76608246
B30: 1/ Số trường hợp bị giải tỏa: | K30: 19 trường hợp / 19 thửa
B31: 2/ Kinh phí bồi thường, hỗ trợ: | K31: =K28 -> 2108327165 | M31: đồng
B32: 3/ Kinh phí tổ chức thực hiện (3% Tổng kinh phí bồi thường, hỗ trợ): | K32: =K31*3% -> 63249815 | M32: đồng
B33: 4/ Kinh phí khen thưởng: | L33: =Q28 -> 76608246 | M33: đồng
B34: 5/ Tổng kinh phí bồi thường, hỗ trợ, khen thưởng và kinh phí tổ chức thực hiện: | K34: =K31+K32+L33 -> 2.2481852e+09 | M34: đồng
B35: Bằng chữ: | C35: Hai tỷ, hai trăm bốn mươi tám triệu, một trăm tám mươi lăm nghìn, hai trăm hai mươi sáu đồng.
L37: Khánh Hòa, ngày 25 tháng 9 năm 2026
L38: TRUNG TÂM PHÁT TRIỂN QUỸ ĐẤT KHÁNH HÒA
A39: Người lập phương án | D39: Người soát | H39: Trưởng phòng | L39: PHÓ GIÁM ĐỐC PHỤ TRÁCH
A50: Đào Thị Phương Lam | D50: Phạm Thị Kiều My | H50: Hà Văn Hùng | L50: Nguyễn Văn Thành
K59: 0.05 | L59: =K32*5% -> 3162490.7
K60: 0.03 | L60: =K32*3% -> 1897494.4
K61: 0.01 | L61: =K32*1% -> 632498.15

Sheet PHÁP LÝ
A2: I | B2: Các căn cứ pháp lý để lập phương án:
A3: 1. | B3: Các văn bản liên quan đến chính sách bồi thường, hỗ trợ, tái định cư:
A4: - | B4: Luật Đất đai số 31/2024/QH15 ngày 18/01/2024;
A5: - | B5: Căn cứ Luật số 43/2024/QH15 ngày 01/8/2024 của Quốc Hội sửa đổi, bổ sung một số điều của Luật Đất đai số 31/2024/QH15, Luật Nhà ở số 27/2023/QH15, Luật Kinh doanh bất động sản số 29/2023/QH15 và Luật Các tổ chức tín dụng số 32/2024/QH15;
A6: - | B6: Nghị định số 102/2024/NĐ-CP ngày 30/7/2024 của Chính phủ về Quy định chi tiết thi hành một số điều của Luật Đất đai;
A7: - | B7: Nghị định số 88/2024/NĐ-CP ngày 15/7/2024 của Chính Phủ Quy định về bồi thường, hỗ trợ, tái định cư khi Nhà nước thu hồi đất;
A8: - | B8: Nghị định số 150/2025/NĐ-CP ngày 12/6/2025 của Chính phủ quy định tổ chức các cơ quan chuyên môn thuộc Ủy ban nhân dân tỉnh, thành phố trực thuộc trung ương và Ủy ban nhân dân xã, phường, đặc khu thuộc tỉnh, thành phố trực thuộc Trung ương;
B9: Nghị định số 151/2025/NĐ-CP ngày 12/6/2025 của Chính phủ Quy định về phân định thẩm quyền của chính quyền địa phương 02 cấp, phân quyền, phân cấp trong lĩnh vực đất đai;
A10: - | B10: Nghị định số 226/2025/NĐ-CP ngày 15/8/2025 của Chính phủ về Sửa đổi, bổ sung một số điều của các nghị định quy định chi tiết thi hành Luật Đất đai;
A11: - | B11: Nghị quyết số 254/2025/QH15 ngày 11/12/2025 của Quốc hội quy định một số cơ chế, chính sách tháo gỡ khó khăn, vướng mắc trong tổ chức thi hành Luật đất đai;
A12: - | B12: Nghị định số 49/2026/NĐ-CP ngày 30/01/2026 của Chính phủ Quy định chi tiết và hướng dẫn một số điều của Nghị quyết số 254/2025/QH15 của Quốc hội quy định một số cơ chế, chính sách tháo gỡ khó khăn, vướng mắc trong tổchức thi hành Luật Đất đai;
A13: - | B13: Nghị định số 50/2026/NĐ-CP ngày 30/01/2026 của Chính phủ Quy định chi tiết một số điều của Nghị quyết số 254/2025/QH15 ngày 11 tháng 12 năm 2025 của Quốc hội quy định một số cơ chế, chính sách tháo gỡ khó khăn,vướng mắc trong tổ chức thi hành Luật Đất đai về tiền sử dụng đất, tiền thuê đất;
A14: - | B14: Nghị quyết số 15/2025/NQ-HĐND ngày 18/12/2025 của Hội đồng nhân dân tỉnh Khánh Hòa quy định về bảng giá đất lần đầu áp dụng từ ngày 01/01/2026 trên địa bàn tỉnh Khánh Hòa;
A15: - | B15: Quyết định số 17/2024/QĐ-UBND ngày 29/8/2024 của UBND tỉnh Khánh Hòa về việc ban hành Quy định chi tiết một số nội dung về bồi thường, hỗ trợ và tái định cư khi Nhà nước thu hồi đất trên địa bàn tỉnh Khánh Hòa;
A16: - | B16: Quyết định số 14/2025/QĐ-UBND ngày 07/8/2025 của UBND tỉnh Khánh Hòa sửa đổi, bổ sung Quyết định số 17/2024/QĐ-UBND ngày 29/8/2024 của UBND tỉnh Khánh Hòa về việc ban hành Quy định chi tiết một số nội dung về bồi thường, hỗ trợ và tái định cư khi Nhà nước thu hồi đất trên địa bàn tỉnh Khánh Hòa;
A17: - | B17: Quyết định số 744/2025/QĐ-UBND ngày 18/8/2025 của UBND tỉnh Khánh Hòa Đính chính sai sót do lỗi về kỹ thuật trình bày tại Quyết định số 14/2025/QĐ-UBND ngày 07 tháng 8 năm 2025 sửa đổi, bổ sung Quyết định số 17/2024/QĐ-UBND ngày 29 tháng 8 năm 2024 của Ủy ban nhân dân tỉnh Khánh Hòa ban hành Quy định chi tiết một số nội dung về bồi thường, hỗ trợ, tái định cư khi Nhà nước thu hồi đất trên địa bàn tỉnh Khánh Hòa;
A18: - | B18: Quyết định số 28/2026/QĐ-UBND ngày 13/4/2026 của UBND tỉnh Khánh Hòa về việc phân cấp thực hiện các nhiệm vụ quản lý Nhà nước về đất đai trên địa bàn tỉnh Khánh Hòa;
A19: - | B19: Quyết định số 32/2026/QĐ-UBND ngày 26/4/2026 của UBND tỉnh Khánh Hòa về việc quy định một số nội dung, biện pháp hỗ trợ khác khi Nhà nước thu hồi đất trên địa bàn tỉnh Khánh Hòa;
A20: - | B20: Quyết định số 35/2026/QĐ-UBND ngày 04/5/2026 của UBND tỉnh Khánh Hòa về việc ban hành đơn giá bồi thường, hỗ trợ thiệt hại đối với cây trồng, vật nuôi khi Nhà nước thu hồi đất trên địa bàn tỉnh Khánh Hòa.
A21: - | B21: Văn bản số 9455/SNNMT-TTBVTV ngày 30/6/2026 của Sở Nông nghiệp và Môi trường V/v hướng dẫn áp dụng đơn giá bồi thường đối với cây trồng khi Nhà nước thu hồi đất theo QĐ số 35/2026/QĐ-UBND ngày 04/5/2026 của UBND tỉnh Khánh Hòa.
... A33: - | B33: Biên bản làm việc ngày 15/9/2026 về nội dung: xác minh tình trạng sinh sống ăn ở thực tế tại địa phương .

Sheet N.T.P.Nie (T116)
A1: II/ Kết quả bồi thường, hỗ trợ, tái định cư
A2: STT | B2: HỌ TÊN VÀ ĐỊA CHỈ (Nơi ở và nơi giải tỏa | C2: GIẤY TỜ NGUỒN GỐC NHÀ ĐẤT | D2: NỘI DUNG BỒI THƯỜNG, HỖ TRỢ | E2: Đơn vị tính | F2: Khối lượng BT, HT | G2: Đơn giá (đồng) | H2: Mức BT (%) | I2: Mức HT (%) | J2: Thành tiền (đồng) | K2: TỔNG TIỀN (đồng) | L2: Ký nhận
A3: 1 | B3: 2 | C3: 3 | D3: 4 | E3: 5 | F3: 6 | G3: 7 | H3: 8 | I3: 9 | J3: 10 | K3: 11 | L3: 12
A4: 1 | B4: Hộ ông Nguyễn Trọng Phước Niê | C4: " * Giấy xác nhận về thửa đất bị thu hồi để phục vụ cho công tác bồi thường, hỗ trợ, tái định cư khi Nhà nước thu hồi đất số 9890/GXN-KTHTĐT ngày 04/8/2026 của Phòng Kinh tế Hạ tầng và Đô thị phường Nam Nha Trang xác nhận: - Về thông tin nguồn gốc đất: * Thửa đất số 116 tờ bản đồ số 10 - 353599-1 (theo Bản đồ địa chính phường Nam Nha Trang - Đo đạc bổ sung): Tổng diện tích: 223,6m², diện tích thu hồi: 223,6m², diện tích còn lại: 0m² thuộc Bản đồ địa chính phường Nam Nha Trang được Sở Nông nghiệp và Môi trường thẩm định ngày 05/5/2026, đối chiếu tương ứng các thửa đất: + Theo Sổ dã ngoại và Bản đồ địa chính xã Vĩnh Thái năm 1996: Thửa đất chưa được đo vẽ. + Đối chiếu bản đồ và sổ mục kê năm 2002: Thửa đất thu hồi tương ứng một phần thửa đất số 407, TBĐ 07, diện tích 3300m2 , Loại đất: đất chưa sử dụng. Ghi chú đất UBND xã. + Đối chiếu Bản đồ ĐC và sổ mục kê năm 2015: Thửa đất thu hồi tương ứng một phần thửa đất số 200 tờ bản đồ số 10, diện tích: 3.277,6m2, loại đất: BHK do ông Nguyễn Văn Ọ đứng tên kê khai và một phần thửa đất số 287 tờ bản đồ số 10, diện tích: 11.650,2m2 do UBND phường quản lý; diện tích lấn đất DTL 20,5m2 + Vị trí thửa đất thu hồi nằm trong Danh sách Kết luận thanh tra Theo Thông báo số 749/TB-UBND-TTra ngày 18/6/2025 của Chủ tịch UBND thành phố Nha Trang, đính kèm Kết luận thanh tra số 511/KL-TTra-KTXH ngày 13/6/2025 của Chánh Thanh tra thành phố Nha Trang, tại Phụ lục I – STT 949 ghi nhận: thửa đất số 407, tờ bản đồ số 07, diện tích 3.300m2 (loại đất Hg/b) thuộc Danh sách các loại đất khác do Nhà nước quản lý theo Sổ mục kê năm 2002, hiện trạng do người dân đang sử dụng. * Nguồn gốc đất: * Theo giấy tờ nguồn gốc đất do hộ gia đình cung cấp: Nguồn gốc đất do ông Nguyễn Ọ chiếm trước năm 2012. Ngày 20/5/2019, ông Nguyễn Ọ lập đơn cho quyền sử dụng đất cho cháu nội là ông Nguyễn Trọng Phước Niê, giấy viết tay, không có xác nhận của cơ quan có thẩm quyền. Diện tích kê khai sử dụng của ông Nguyễn Trọng Phước Niê là: - Tổng diện tích đất: 223,6m² - Diện tích thu hồi: 223,6m2 - Diện tích còn lại: 0m2 - Loại đất: BHK (Theo hồ sơ địa chính năm 2015+2002). - Thời điểm sử dụng đất: sau 2019. -Thời điểm hình thành tài sản, vật kiến trúc: Sau năm 2019 đến trước thông báo thu hồi đất. (Hiện trạng trên đất có nhà) - Thời điểm tạo lập cây trồng, vật nuôi: Sau năm 2019 đến trước thông báo thu hồi đất. - Tổng diện tích đất nông nghiệp của hộ gia đình tại thửa đất bị thu hồi: 223,6m2 (diện tích lấn đất DTL 20,5m2) - Tổng diện tích đất nông nghiệp của hộ gia đình tại địa phương: 223,6m2 - Hộ ông Nguyễn Trọng Phước Niê không trực tiếp sản xuất nông nghiệp tại vị trí thửa đất thu hồi. => Kết luận: Nguồn gốc sử dụng đất Thửa đất số 116, tờ bản đồ số 10 - 353599-1 (theo Bản đồ địa chính phường Nam Nha Trang - Đo đạc bổ sung), Tổng diện tích: 223,6m², diện tích thu hồi: 223,6m², diện tích còn lại: 0m2 thuộc Bản đồ địa chính phường Nam Nha Trang được Sở Nông nghiệp và Môi trường thẩm định ngày 05/5/2026, thuộc trường hợp hộ gia đình, cá nhân đang sử dụng đất do lấn đất hoặc chiếm đất do cơ quan, tổ chức của Nhà nước đã quản lý, được thể hiện trong hồ sơ địa chính (căn cứ Sổ mục kê năm 2002 và Thông báo số 749/TB-UBND-TTra ngày 18/6/2025 của Chủ tịch UBND thành phố Nha Trang, đính kèm Kết luận thanh tra số 511/KL-TTra-KTXH ngày 13/6/2025 của Chánh Thanh tra thành phố Nha Trang, Phụ lục I) 2. Quá trình sử dụng, thay đổi đất, nhà, vật kiến trúc xây dựng trên đất. * Thay đổi về sử dụng đất: - Thay đổi về diện tích, ranh giới sử dụng đất: không. - Thay đổi về mục đích sử dụng đất: không. * Thay đổi về nhà, vật kiến trúc, tài sản trên đất: không. * Thay đổi về địa chỉ thửa đất: không II. Tình hình tranh chấp đối với thửa đất: Hiện hộ ông Nguyễn Trọng Phước Niê đang sử dụng ổn định phần diện tích 223,6m2 từ sau năm 2015 cho đến nay, không lấn chiếm, không tranh chấp, không thuộc trường hợp đất 5%, đất công, đất khác do Nhà nước quản lý, không có đơn thư ngăn chặn, tài sản không bị phong toả để đảm bảo thi hành án. III. Trường hợp diện tích đất thể hiện trên giấy tờ về quyền sử dụng đất có sự chênh lệch so với diện tích đất thực tế đang sử dụng: - Diện tích theo giấy tờ: m2 - Diện tích đất thực tế đang sử dụng: m2 - Diện tích đất chênh lệch tăng/giảm: IV. Trường hợp địa chỉ thửa đất thực tế đang sử dụng khác với địa chỉ thể hiện trên giấy tờ: - Địa chỉ thửa đất theo giấy tờ: thôn Vĩnh Xuân, xã Vĩnh Thái, Nha Trang - Địa chỉ đất giải tỏa: Tổ dân phố Vĩnh Xuân, phường Nam Nha Trang. Hai địa chỉ là cùng một thửa đất. V. Các loại giấy tờ, tài liệu, người làm chứng làm căn cứ xác nhận các nội dung trên: (Giấy tờ kèm theo hồ sơ) - Hồ sơ địa chính xã năm 2002, 2015; - Biên bản họp xác minh nguồn gốc nhà, đất ngày 27/7/2026; - Biên bản kiểm kê khối lượng giải tỏa ngày 24/6/2026; - Phiếu xác nhận kết quả đo đạc địa chính thửa đất số 116 tờ bản đồ số 10; - Bản tự kê khai ngày của ông Nguyễn Trọng Phước Niê. - CCCD số 066099015815 do Bộ Công An cấp ngày 06/10/2025 cho ông Nguyễn Trọng Phước Niê - Giấy cho quyền sử dụng đất của ông Nguyễn Ọ cho cháu là ông Nguyễn Trọng Phước Niê không có xác nhận của cơ quan có thẩm quyền. - Văn bản số 12281/KTHTĐT ngày 22/9/2026 của Phòng Kinh tế, hạ tầng và đô thị phường Nam Nha Trang về việc góp ý phương án dự kiến bồi thường hỗ trợ, tái định cư của 19 trường hợp/ 19 thửa thuộc Dự án thành phần 1: Dự án thành phần giải phóng mặt bằng phục vụ dự án xây dựng Bệnh viện Đa khoa tỉnh Khánh Hòa thành Bệnh viện khu vực duyên hải Nam Trung Bộ tại phường Nam Nha Trang, tỉnh Khánh Hòa
B5: CCCD số 066099015815 do Bộ Công An cấp ngày 06/10/2025 cho ông NguyễN Trọng Phước Niê | D5: I/ Về đất | J5: 0
D6: - Diện tích (thửa số 116 - tờ BĐ số 10-353599-1) | E6: m² | F6: 223.6
D7: + DT đất thu hồi: | E7: m² | F7: =F6 -> 223.6
D8: + DT đất còn lại | E8: m² | F8: 0
B9: - Địa chỉ giải tỏa: | D9: 1. Về đất:
B10: Tổ dân phố Vĩnh Xuân, Phường Nam Nha Trang, tỉnh Khánh Hòa | D10: ** Căn cứ pháp lý áp dụng: - Căn cứ Khoản 2, Điều 101 Luật đất đai năm 2024: " Trường hợp không được bồi thường về đất khi Nhà nước thu hồi đất: Đất do cơ quan tổ chức Nhà nước quản lý quy định tại Điều 217 của Luật này" - Căn cứ Điểm b, Khoản 1, Điều 217 Luật Đất đai năm 2024: "Đất do cơ quan, tổ chức của Nhà nước quản lý là đất chưa giao, chưa cho thuê hoặc đã được giao đất để quản lý, bao gồm: Đất sông, ngòi, kênh, rạch, suối, ao, hồ, đầm, phá....."
B11: - Địa chỉ thường trú | D11: - Diện tích đất không bồi thường: | E11: m² | F11: =F7 -> 223.6 | G11: Vị trí thửa đất thu hồi nằm trong Danh sách Kết luận thanh tra thuộc Danh sách các loại đất khác do Nhà nước quản lý theo Sổ mục kê năm 2002, không bồi thường
B12: Buôn Tliêr, Cư Pui, Đắk Lắk | D12: II/ Tài sản gắn liền với đất (1+2+3) | J12: =J13+J28+J29 -> 338258378
D13: 1- Công trình, vật kiến trúc: | J13: =SUM(J15:J27) -> 333596378
D14: * Căn cứ pháp lý áp dụng: - Biên bản kiểm kê khối lượng giải tỏa: ngày 24/6/2026. - Thông báo thu hồi đất: số 2510/TB-UBND ngày 15/5/2026 của UBND phường Nam Nha Trang. - Quyết định số 08/2026/QĐ-UBND ngày 22/01/2026 của UBND tỉnh Khánh Hòa Quy định đơn giá bồi thường thiệt hại về nhà, nhà ở, công trình xây dựng gắn liền với đất khi Nhà nước thu hồi đất và mức hỗ trợ để tháo dỡ, phá dỡ, di dời công trình xây dựng theo giấy phép xây dựng có thời hạn khi Nhà nước thu hồi đất trên địa bàn tỉnh Khánh Hoà; - Văn bản số 2093/SXD-KTVLXD ngày 05/3/2026 của Sở Xây Dựng V/v hướng dẫn triển khai thực hiện các Quyết định của UBND tỉnh. - Quyết định số 32/2026/QĐ-UBND ngày 29/4/2026 của UBND tỉnh Khánh Hòa Quy định một số biện pháp hỗ trợ khác khi Nhà nước thu hồi đất trên địa bàn tỉnh Khánh Hòa.
D15: - Nhà 1 tầng, móng xây đá chẻ 3 lớp cao 0,6m , tường xây gạch dày 100 cao 3m; tường sơn nước, cửa nhôm kính không trần, nền lát gạch men, có hệ vệ sinh; có hệ thống điện nước DTXD = DTGT : ( 4,7m x 3,4m) + (3,6m x4,5m) = 32,18m² | E15: m²XD | F15: =(4.7*3.4)+(3.6*4.5) -> 32.18 | G15: =(3751000*1.12)+(3751000*15%)+481600 -> 5245370 | I15: 0.8 | J15: =ROUND((F15*G15*I15),0) -> 135036805
D16: Áp đơn giá tại phụ lục STT A1, Quyết định số 08/2026/QĐ-UBND ngày 22/01/2026 của UBND tỉnh Khánh Hòa. Đơn giá: 3.751.000 đ/m². Đơn giá điều chỉnh với hệ số 1,12 vì tường sơn nước (theo Mục I, STT 2 văn bản số 2093/SXD-KTVLXD ngày 05/3/2026 của Sở Xây dựng). Cộng thêm 481.600đ/m² vì nền gạch men (STT 37 mục A, Phụ lục I, Quyết định số 12/QĐ-UBND ngày 24/02/2026 (Áp theo Mục I, STT 03 văn bản số 2093/SXD-KTVLXD ngày 05/3/2026 của Sở Xây dựng). Tăng 8,5% vì 3 lớp đá chẻ và cửa kính , tăng 8,5% vì có hệ sinh (theo Mục I, STT 12 văn bản số 2093/SXD-KTVLXD ngày 05/3/2026 của Sở Xây dựng). 3.751.000 đ/m² x 1,12 + 481.600đ/m² +(3.751.000 đ/m² x 15%) = 5.245.370đ/m²
D17: - Nhà 1 tầng, móng xây đá chẻ 4 lớp cao 0,8m , tường xây gạch dày 100 cao 3m; tường sơn nước, cửa nhôm kính, nền lát gạch men, trần nhựa mái tôn (phần bếp không trần mái tôn; nền xi măng) có hệ vệ sinh; có hệ thống điện nước DTXD = DTGT : 5,2m x 5,8m = 30,16m² DTXD = DTGT : 2,4m x 3,5m = 8,4 m² | E17: m²XD
D18: +Nhà 1 tầng, móng xây đá chẻ 4 lớp cao 0,8m , tường xây gạch dày 100 cao 3m; tường sơn nước, cửa nhôm kính, nền lát gạch men, trần nhựa mái tôn,có hệ vệ sinh; có hệ thống điện nước 'DTXD = DTGT : 5,2m x 5,8m = 30,16m² | E18: m²XD | F18: =5.2*5.8 -> 30.16 | G18: =(3751000*1.12)+(3751000*15%)+481600 -> 5245370 | I18: 0.8 | J18: =ROUND((F18*G18*I18),0) -> 126560287
D19: Áp đơn giá tại phụ lục STT A1, Quyết định số 08/2026/QĐ-UBND ngày 22/01/2026 của UBND tỉnh Khánh Hòa. Đơn giá: 3.751.000 đ/m². Đơn giá điều chỉnh với hệ số 1,12 vì tường sơn nước (theo Mục I, STT 2 văn bản số 2093/SXD-KTVLXD ngày 05/3/2026 của Sở Xây dựng). Cộng thêm 481.600đ/m² vì nền gạch men (STT 37 mục A, Phụ lục I, Quyết định số 12/QĐ-UBND ngày 24/02/2026 (Áp theo Mục I, STT 03 văn bản số 2093/SXD-KTVLXD ngày 05/3/2026 của Sở Xây dựng). Tăng 8,5% vì có nhà vệ sinh , tăng 8,5% vì có trần nhựa, cửa nhôm kính, 4 lớp đá chẻ (theo Mục I, STT 12 văn bản số 2093/SXD-KTVLXD ngày 05/3/2026 của Sở Xây dựng). 3.751.000 đ/m² x 1,12 + 481.600đ/m² +(3.751.000 đ/m² x 15%) = 5.245.370đ/m²
D20: + Phần bếp: Nhà 1 tầng, móng xây đá chẻ 4 lớp cao 0,8m , tường xây gạch dày 100 cao 3m; tường sơn nước, không trần mái tôn; nền xi măng. DTXD = DTGT : 2,4m x 3,5m = 8,4 m² | E20: m²XD | F20: =2.4*3.5 -> 8.4 | G20: =3751000*1.12+(3751000*8.5%) -> 4519955 | I20: 0.8 | J20: =ROUND((F20*G20*I20),0) -> 30374098
D21: Áp đơn giá tại phụ lục STT A1, Quyết định số 08/2026/QĐ-UBND ngày 22/01/2026 của UBND tỉnh Khánh Hòa. Đơn giá: 3.751.000 đ/m². Đơn giá điều chỉnh với hệ số 1,12 vì tường sơn nước (theo Mục I, STT 2 văn bản số 2093/SXD-KTVLXD ngày 05/3/2026 của Sở Xây dựng). Tăng 8,5% vì 4 lớp đá chẻ (theo Mục I, STT 12 văn bản số 2093/SXD-KTVLXD ngày 05/3/2026 của Sở Xây dựng). 3.751.000 đ/m² x 1,12 + (3.751.000 đ/m² x 8.5%) = 4.519.955 đ/m²
D22: - Sân bêtong láng vữa xi măng DT: (3,9m x 1,8m) + (8,2m x 1,9m) + (6m x 1,7m) = 32,8 m² | E22: m²XD | F22: =(3.9*1.8)+(8.2*1.9)+(6*1.7) -> 32.8 | G22: 230583 | I22: 0.8 | J22: =ROUND((F22*G22*I22),0) -> 6050498
D23: Áp đơn giá tại phụ lục STT C.17, Quyết định số 08/2026/QĐ-UBND ngày 22/01/2026 của UBND tỉnh Khánh Hòa, đơn giá: 230.583 đ/m².
D24: - Mái che cột kèo sắt, mái lợp tôn nền xi măng DT: (1,6m x 2,5m) + ( 6,2m x 4,2m ) = 30,04 m² | E24: m²XD | F24: =(1.6*2.5)+(6.2*4.2) -> 30.04 | G24: 1259097 | I24: 0.8 | J24: =ROUND((F24*G24*I24),0) -> 30258619
D25: Áp đơn giá tại phụ lục STT C.04, Quyết định số 08/2026/QĐ-UBND ngày 22/01/2026 của UBND tỉnh Khánh Hòa, đơn giá: 1.259.097 đ/m².
D26: Hàng rào lưới B40 trụ BTCT cao 1,5m không móng dài 10,8 m | E26: m dài | F26: 10.8 | G26: =537955-(537955*8.5%) -> 492228.83 | I26: 1 | J26: =ROUND((F26*G26*I26),0) -> 5316071
D27: Áp giá tại phần C, STT 11, Quyết định số 08/2026/QĐ-UBND ngày 22/01/2026 của UBND tỉnh Khánh Hòa, đơn giá: 537.955 đ/md. Đơn giá giảm 8.5% vì không móng (theo Mục I, STT 12 văn bản số 2093/SXD-KTVLXD ngày 05/3/2026 của Sở Xây dựng) 537.955 đ/md - (537.955 đ/md x 8.5%) = 492.229 đ/md
D28: 2 - Tài sản khác: Không | J28: =ROUND((F28*G28*I28),0) -> 0
D29: 3 - Cây trồng: | J29: =SUM(J31:J38) -> 4662000
D30: * Căn cứ pháp lý áp dụng: - Quyết định số 35/2026/QĐ-UBND ngày 04/5/2026 của UBND tỉnh Khánh Hòa ban hành quy định đơn giá bồi thường thiệt hại đối với cây trồng, vật nuôi khi Nhà nước thu hồi đất trên địa bàn tỉnh Khánh Hòa; - Văn bản số 9455/SNNMT-TTBVTV ngày 30/6/2026 của Sở Nông nghiệp và Môi trường V/v hướng dẫn áp dụng đơn giá bồi thường đối với cây trồng khi Nhà nước thu hồi đất theo QĐ số 35/2026/QĐ-UBND ngày 04/5/2026 của UBND tỉnh Khánh Hòa.
D31: - Mai chấn thủy - Áp giá tương đương cây dâu tằm STT II.13. ĐG: 168.000đồng | E31: cây | F31: 2 | G31: 168000 | I31: 1 | J31: =ROUND((F31*G31*I31),0) -> 336000
D32: - Trúc loại C | E32: cây | F32: 18 | G32: 56000 | I32: 1 | J32: =I32*G32*F32 -> 1008000
D33: - Bồ đề loại A - Áp giá tương đương cây Bồ quân PLII - STT 3, ĐG: 228.000đ/m² | E33: cây | F33: 1 | G33: 228000 | I33: 1 | J33: =ROUND((F33*G33*I33),0) -> 228000
D34: - Phát tài loại C - Áp giá tương đương cây Chùm ngây PLII - STT 10, ĐG: 113.000đ/m² | E34: cây | F34: 1 | G34: 113000 | I34: 1 | J34: =I34*G34*F34 -> 113000
D35: - Mai loại C - Áp giá tương đương cây dâu tằm STT II.13. ĐG: 112.000đồng | E35: cây | F35: 1 | G35: 112000 | I35: 1 | J35: =ROUND((F35*G35*I35),0) -> 112000
D36: - Chuối loại A | E36: cây | F36: 10 | G36: 115000 | I36: 1 | J36: =I36*G36*F36 -> 1150000
D37: - Chuối loại B | E37: cây | F37: 15 | G37: 103000 | I37: 1 | J37: =I37*G37*F37 -> 1545000
D38: - Đu đủ loại 4 năm - Áp giá tương đương cây Đu đủ loại C STT II.15. ĐG: 85.000 đồng | E38: cây | F38: 2 | G38: 85000 | I38: 1 | J38: =I38*G38*F38 -> 170000
D39: III. Hỗ trợ chi phí di chuyển tài sản: Không | J39: 0
D40: IV/ Chính sách hỗ trợ (1+2): | J40: =SUM(J42+J41) -> 0
D41: 1. Hỗ trợ đào tạo, chuyển đổi nghề và tìm kiếm việc làm: (Hộ ông Nguyễn Trọng Phước Niê không trực tiếp sản xuất nông nghiệp trên đất) | F41: Hộ gia đình không trực tiếp sản xuất nông nghiệp tại vị trí thửa đất giải tỏa; không được bồi thường về đất nên không được hỗ trợ theo quy định tại Khoản 1, khoản 2 Điều 22 NĐ số 88/2024-NĐ-CP ngày 15/7/2024 và Điều 9, QĐ số 32/2026/QĐ-UBND ngày 29/4/2026 của UBND tỉnh Khánh Hòa
D42: 2. Hỗ trợ ổn định đời sống (Hộ ông Nguyễn Trọng Phước Niê thực tế không canh tác nông nghiệp trên đất) | F42: Hộ gia đình không được bồi thường về đất, thực tế không tham gia sản xuất nông nghiêp trên đất thu hồi nên không được hỗ trợ theo quy định tại Điều 19 NĐ số 88/2024-NĐ-CP ngày 15/7/2024 và Khoản 1, Điều 6, QĐ số 32/2026/QĐ-UBND ngày 29/4/2026 của UBND tỉnh Khánh Hòa
D43: * Tổng số tiền bồi thường, hỗ trợ | J43: =J5+J12+J40 -> 338258378
D44: V/ Hỗ trợ khen thưởng | J44: =J46 -> 8000000
D45: - Khoản 2, Điều 15 QĐ số 32/2026/QĐ-UBND ngày 29/4/2026 của UBND tỉnh Khánh Hòa:
D46: - Trường hợp thu hồi đất không thuộc các dự án quy định tại khoản 7 Điều 111 Luật Đất đai, bàn giao mặt bằng trước thời hạn quy định thì được khen thưởng 10% tổng giá trị bồi thường, hỗ trợ. Mức khen thưởng tối đa không vượt quá 8.000.000 (tám triệu) đồng /trường hợp; Trường hợp số tiền khen thưởng thấp hơn 1.000.000 (một triệu) đồng thì được khen thưởng là 1.000.000 (một triệu) đồng / trường hợp. | E46: TH | F46: 1 | G46: =IF(J43*10%>=8000000,8000000,IF(J43*10%<=1000000,1000000,J43*10%)) -> 8000000 | J46: =F46*G46 -> 8000000
D47: * Tổng số tiền bồi thường, hỗ trợ, khen thưởng (I+II+III+IV+V) | K47: =J43+J44 -> 346258378
D48: VI. Tái định cư:
D49: - Căn cứ Khoản 5 Điều 111 Luật Đất đai năm 2024, Điều 24 Nghị định số 88/NĐ-CP ngày 15/7/2024 của Chính phủ, Khoản 6 Điều 2 Nghị định số 226/2025/NĐ-CP ngày 15/8/2025 của Chính phủ | F49: Hộ gia đình không đủ điều kiện bố trí tái định cư do không được bồi thường đất ở và không phải di chuyển chỗ ở

Sheet N.N.Như Ý (T117)
A1: II/ Kết quả bồi thường, hỗ trợ, tái định cư
A2: STT | B2: HỌ TÊN VÀ ĐỊA CHỈ (Nơi ở và nơi giải tỏa | C2: GIẤY TỜ NGUỒN GỐC NHÀ ĐẤT | D2: NỘI DUNG BỒI THƯỜNG, HỖ TRỢ | E2: Đơn vị tính | F2: Khối lượng BT, HT | G2: Đơn giá (đồng) | H2: Mức BT (%) | I2: Mức HT (%) | J2: Thành tiền (đồng) | K2: TỔNG TIỀN (đồng) | L2: Ký nhận
A3: 1 | B3: 2 | C3: 3 | D3: 4 | E3: 5 | F3: 6 | G3: 7 | H3: 8 | I3: 9 | J3: 10 | K3: 11 | L3: 12
A4: 2 | B4: Hộ bà Nguyễn Ngọc Như Ý | C4: * Giấy xác nhận về thửa đất bị thu hồi để phục vụ cho công tác bồi thường, hỗ trợ, tái định cư khi Nhà nước thu hồi đất số 9902/GXN-KTHTĐT ngày 04/8/2026 của Phòng Kinh tế Hạ tầng và Đô thị phường Nam Nha Trang xác nhận: - Về thông tin nguồn gốc đất: * Thửa đất số 117 tờ bản đồ số 10 - 353599-1 (theo Bản đồ địa chính phường Nam Nha Trang - Đo đạc bổ sung): Tổng diện tích: 109,0 m², diện tích thu hồi: 109,0 m², diện tích còn lại: 0m² thuộc Bản đồ địa chính phường Nam Nha Trang được Sở Nông nghiệp và Môi trường thẩm định ngày 05/5/2026, đối chiếu tương ứng các thửa đất: + Theo Sổ dã ngoại và Bản đồ địa chính xã Vĩnh Thái năm 1996: Thửa đất chưa được đo vẽ. + Đối chiếu bản đồ và sổ mục kê năm 2002: Thửa đất thu hồi tương ứng một phần thửa đất số 407, TBĐ 07, diện tích 3300m2 , Loại đất: đất chưa sử dụng. Ghi chú đất UBND xã. + Đối chiếu Bản đồ ĐC và sổ mục kê năm 2015: Thửa đất thu hồi tương ứng một phần thửa đất số 200 tờ bản đồ số 10, diện tích: 3.277,6m2, loại đất: BHK do ông Nguyễn Văn Ọ đứng tên kê khai và một phần thửa đất số 287 tờ bản đồ số 10, diện tích: 11.650,2m2 do UBND phường quản lý; diện tích lấn đất DTL 15,3m2 + Vị trí thửa đất thu hồi nằm trong Danh sách Kết luận thanh tra Theo Thông báo số 749/TB-UBND-TTra ngày 18/6/2025 của Chủ tịch UBND thành phố Nha Trang, đính kèm Kết luận thanh tra số 511/KL-TTra-KTXH ngày 13/6/2025 của Chánh Thanh tra thành phố Nha Trang, tại Phụ lục I – STT 949 ghi nhận: thửa đất số 407, tờ bản đồ số 07, diện tích 3.300m2 (loại đất Hg/b) thuộc Danh sách các loại đất khác do Nhà nước quản lý theo Sổ mục kê năm 2002, hiện trạng do người dân đang sử dụng. * Nguồn gốc đất: * Theo giấy tờ nguồn gốc đất do hộ gia đình cung cấp: Nguồn gốc đất do ông Nguyễn Ọ chiếm trước năm 2012. Ngày 26/4/2012, ông Nguyễn Ọ lập cho con là bà Nguyễn Thị Hà cùng chồng là ông Nguyễn Đại Phong, giấy viết tay, không có xác nhận của cơ quan có thẩm quyền. Ngày 30/12/2013, ông Nguyễn Đại Phong và vợ là bà Nguyễn Thị Hà lập giấy cho quyền sử dụng đất cho con gái là bà Nguyễn Ngọc Như Ý, giấy viết tay không ghi thời gian lập, không có xác nhận của cơ quan có thẩm quyền. Diện tích kê khai sử dụng của hộ bà Nguyễn Ngọc Như Ý là: - Tổng diện tích đất: 109,0m² - Diện tích thu hồi: 109,0m2 (diện tích lấn đất DTL 15,3m2) - Diện tích còn lại: 0m2 - Loại đất: BHK (Theo hồ sơ địa chính năm 2015). - Thời điểm sử dụng đất: sau 2015 . -Thời điểm hình thành tài sản, vật kiến trúc: Sau năm 2015 đến trước thông báo thu hồi đất. (Hiện trạng trên đất có nhà) - Thời điểm tạo lập cây trồng, vật nuôi: Sau năm 2015 đến trước thông báo thu hồi đất. - Tổng diện tích đất nông nghiệp của hộ gia đình tại thửa đất bị thu hồi: 109,0m2 diện tích lấn đất DTL 15,3m2 - Tổng diện tích đất nông nghiệp của hộ gia đình tại địa phương: 109,0m2 - Hộ bà Nguyễn Ngọc Như Ý không trực tiếp sản xuất nông nghiệp tại vị trí thửa đất thu hồi. => Kết luận: Nguồn gốc sử dụng đất Thửa đất số 117, tờ bản đồ số 10 - 353599-1 (theo Bản đồ địa chính phường Nam Nha Trang - Đo đạc bổ sung), Tổng diện tích: 109m², diện tích thu hồi: 109m², diện tích còn lại: 0m2 thuộc Bản đồ địa chính phường Nam Nha Trang được Sở Nông nghiệp và Môi trường thẩm định ngày 05/5/2026, thuộc trường hợp hộ gia đình, cá nhân đang sử dụng đất do lấn đất hoặc chiếm đất do cơ quan, tổ chức của Nhà nước đã quản lý, được thể hiện trong hồ sơ địa chính (căn cứ Sổ mục kê năm 2002 và Thông báo số 749/TB-UBND-TTra ngày 18/6/2025 của Chủ tịch UBND thành phố Nha Trang, đính kèm Kết luận thanh tra số 511/KL-TTra-KTXH ngày 13/6/2025 của Chánh Thanh tra thành phố Nha Trang) 2. Quá trình sử dụng, thay đổi đất, nhà, vật kiến trúc xây dựng trên đất. * Thay đổi về sử dụng đất: - Thay đổi về diện tích, ranh giới sử dụng đất: không. - Thay đổi về mục đích sử dụng đất: không. * Thay đổi về nhà, vật kiến trúc, tài sản trên đất: không. * Thay đổi về địa chỉ thửa đất: không II. Tình hình tranh chấp đối với thửa đất: Hiện hộ bà Nguyễn Ngọc Như Ý đang sử dụng ổn định phần diện tích 109,0 m2 từ sau năm 2015 cho đến nay, không lấn chiếm, không tranh chấp, không thuộc trường hợp đất 5%, đất công, đất khác do Nhà nước quản lý, không có đơn thư ngăn chặn, tài sản không bị phong toả để đảm bảo thi hành án. III. Trường hợp diện tích đất thể hiện trên giấy tờ về quyền sử dụng đất có sự chênh lệch so với diện tích đất thực tế đang sử dụng: - Diện tích theo giấy tờ: m2 - Diện tích đất thực tế đang sử dụng: m2 - Diện tích đất chênh lệch tăng/giảm: IV. Trường hợp địa chỉ thửa đất thực tế đang sử dụng khác với địa chỉ thể hiện trên giấy tờ: - Địa chỉ thửa đất theo giấy tờ: thôn Vĩnh Xuân, xã Vĩnh Thái, Nha Trang - Địa chỉ đất giải tỏa: Tổ dân phố Vĩnh Xuân, phường Nam Nha Trang. Hai địa chỉ là cùng một thửa đất. V. Các loại giấy tờ, tài liệu, người làm chứng làm căn cứ xác nhận các nội dung trên: (Giấy tờ kèm theo hồ sơ) - Hồ sơ địa chính xã năm 2002, 2015; - Biên bản họp xác minh nguồn gốc nhà, đất ngày 27/7/2026; - Biên bản kiểm kê khối lượng giải tỏa ngày 24/6/2026; - Phiếu xác nhận kết quả đo đạc địa chính thửa đất số 117 tờ bản đồ số 10; - Bản tự kê khai ngày của bà Nguyễn Ngọc Như Ý . - CCCD số 056193006822 do Bộ Công An cấp ngày 06/10/2025 cấp ngày 12/8/2021 cho bà Nguyễn Ngọc Như Ý; - Giấy cho quyền sử dụng đất của ông Nguyễn Ọ cho con ông Nguyễn Đại Phong và bà Nguyễn Thị Hà ngày 26/4/2012, không có xác nhận của cơ quan có thẩm quyền. - Giấy cho quyền sử dụng đất của ông Nguyễn Đại Phong và bà Nguyễn Thị Hà cho con là bà Nguyễn Ngọc Như Ý không có xác nhận của cơ quan có thẩm quyền. - Văn bản số 12281/KTHTĐT ngày 22/9/2026 của Phòng Kinh tế, hạ tầng và đô thị phường Nam Nha Trang về việc góp ý phương án dự kiến bồi thường hỗ trợ, tái định cư của 19 trường hợp/ 19 thửa thuộc Dự án thành phần 1: Dự án thành phần giải phóng mặt bằng phục vụ dự án xây dựng Bệnh viện Đa khoa tỉnh Khánh Hòa thành Bệnh viện khu vực duyên hải Nam Trung Bộ tại phường Nam Nha Trang, tỉnh Khánh Hòa.
B5: CCCD số 056193006822 do Cục CS QLHC về TTXH cấp ngày 12/8/2021 cho bà Nguyễn Ngọc Như Ý | D5: I/ Về đất | J5: 0
D6: - Diện tích (thửa số 117 - tờ BĐ số 10-353599-1) | E6: m² | F6: 109
D7: + DT đất thu hồi: | E7: m² | F7: =F6 -> 109
D8: + DT đất còn lại | E8: m² | F8: 0
B9: - Địa chỉ thường trú | D9: 1. Về đất:
B10: 16 Hương Điền, Nam Nha Trang | D10: ** Căn cứ pháp lý áp dụng: - Căn cứ Khoản 2, Điều 101 Luật đất đai năm 2024: " Trường hợp không được bồi thường về đất khi Nhà nước thu hồi đất: Đất do cơ quan tổ chức Nhà nước quản lý quy định tại Điều 217 của Luật này" - Căn cứ Điểm b, Khoản 1, Điều 217 Luật Đất đai năm 2024: "Đất do cơ quan, tổ chức của Nhà nước quản lý là đất chưa giao, chưa cho thuê hoặc đã được giao đất để quản lý, bao gồm: Đất sông, ngòi, kênh, rạch, suối, ao, hồ, đầm, phá....."
B11: - Địa chỉ giải tỏa: | D11: - Diện tích đất không bồi thường: | E11: m² | F11: =F7 -> 109 | G11: Vị trí thửa đất thu hồi nằm trong Danh sách Kết luận thanh tra thuộc Danh sách các loại đất khác do Nhà nước quản lý theo Sổ mục kê năm 2002, không bồi thường
B12: Tổ dân phố Vĩnh Xuân, Phường Nam Nha Trang, tỉnh Khánh Hòa | D12: II/ Tài sản gắn liền với đất (1+2+3) | J12: =J13+J27+J28 -> 313055897
D13: 1- Công trình, vật kiến trúc: | J13: =SUM(J15:J26) -> 312665897
D14: * Căn cứ pháp lý áp dụng: - Biên bản kiểm kê khối lượng giải tỏa: ngày 24/6/2026. - Thông báo thu hồi đất: số 2510/TB-UBND ngày 15/5/2026 của UBND phường Nam Nha Trang. - Quyết định số 08/2026/QĐ-UBND ngày 22/01/2026 của UBND tỉnh Khánh Hòa Quy định đơn giá bồi thường thiệt hại về nhà, nhà ở, công trình xây dựng gắn liền với đất khi Nhà nước thu hồi đất và mức hỗ trợ để tháo dỡ, phá dỡ, di dời công trình xây dựng theo giấy phép xây dựng có thời hạn khi Nhà nước thu hồi đất trên địa bàn tỉnh Khánh Hoà; - Văn bản số 2093/SXD-KTVLXD ngày 05/3/2026 của Sở Xây Dựng V/v hướng dẫn triển khai thực hiện các Quyết định của UBND tỉnh. - Quyết định số 32/2026/QĐ-UBND ngày 29/4/2026 của UBND tỉnh Khánh Hòa Quy định một số biện pháp hỗ trợ khác khi Nhà nước thu hồi đất trên địa bàn tỉnh Khánh Hòa.
D15: - Nhà 1 tầng, móng xây đá chẻ 5 lớp cao 1m , tường xây gạch dày 100-200 cao 3,3m; bổ trụ, tường sơn nước, mặt tiền có sảnh sử dụng kết cấu BTCT , tường vệ sinh ốp gạch men cao 1,2m ; nền lát gạch men; cửa nhôm kính, trần thạch cao, mái tôn, có hệ vệ sinh; có hệ thống điện nước DTXD = DTGT : ( 5,8m x 7,6m) + (2,4m x 7m) = 60,88m² | E15: m²XD | F15: =(5.8*7.6)+(2.4*7) -> 60.88 | G15: =(4311253*1.12)+(4311253*8.5%) -> 5195059.9 | I15: 0.8 | J15: =ROUND((F15*G15*I15),0) -> 253020196
D16: Áp đơn giá tại STT A5, PL1, Quyết định số 08/2026/QĐ-UBND ngày 22/01/2026 của UBND tỉnh Khánh Hòa. Đơn giá: 4.641.401đ/m². Đơn giá điều chỉnh với hệ số 1,12 vì tường sơn nước (theo Mục I, STT 2 văn bản số 2093/SXD-KTVLXD ngày 05/3/2026 của Sở Xây dựng), tăng 8,5% vì móng xây 5 lớp đá chẻ, tăng 8,5% vì trần thạch cao, giảm 8,5% vì tường vệ sinh ốp men cao 1,2m và ko ốp men mặt tiền (theo Mục I, STT 12 văn bản số 2093/SXD-KTVLXD ngày 05/3/2026 của Sở Xây dựng). (4.311.253đ/m²XD x 1,12) + (4.311.253đ/m² x 8,5%) = 5.195.060 đ/m²XD.
D17: Ốp men cấu kiện: ( 0,95m x 4,1m) + (5,1m x 0,8m) + (5,1m x 1,8m) = 17,16 m² | E17: m² | F17: =(0.95*4.1) + (5.1*0.8) + (5.1*1.8) -> 17.155 | G17: 401056 | I17: 0.8 | J17: =ROUND((F17*G17*I17),0) -> 5504093
D18: Áp đơn giá tại phụ lục I, STT A33 Quyết định số 12/2026/QĐ-UBND ngày 24/02/2026 của UBND tỉnh Khánh Hòa, đơn giá: 401.056đ/m²
D19: - Mái che cột kèo sắt, mái lợp tôn nền xi măng DT: (6,9m x 3,5m) + ( 7,6m x 1,3m ) = 34,03 m² | E19: m²XD | F19: =(6.9*3.5)+(7.6*1.3) -> 34.03 | G19: 1259097 | I19: 0.8 | J19: =ROUND((F19*G19*I19),0) -> 34277657
D20: Áp đơn giá tại phụ lục STT C.04, Quyết định số 08/2026/QĐ-UBND ngày 22/01/2026 của UBND tỉnh Khánh Hòa, đơn giá: 1.259.097 đ/m².
D21: - Cổng trụ gạch, cánh thép hình cao 1,6m; dài 2,4m | E21: m dài | F21: 2.4 | G21: 3855960 | I21: 1 | J21: =ROUND((F21*G21*I21),0) -> 9254304
D22: Áp giá tại phần C, STT 13, Quyết định số 08/2026/QĐ-UBND ngày 22/01/2026 của UBND tỉnh Khánh Hòa, đơn giá: 3.855.960đ/m.
D23: Hàng rào lưới B40 trụ sắt cao 1,5m móng xây 2 lớp đá chẻ dài 19,2 m | E23: m dài | F23: 19.2 | G23: 537955 | I23: 1 | J23: =ROUND((F23*G23*I23),0) -> 10328736
D24: Áp giá tại phần C, STT 11, Quyết định số 08/2026/QĐ-UBND ngày 22/01/2026 của UBND tỉnh Khánh Hòa, đơn giá: 537.955 đ/md.
D25: Tường xây gạch dày 100 cao 0,8 m; dày 0,6m DT: 0,6m x 0,8m x 3 = 1,44 m² | E25: m² | F25: =0.6*0.8*3 -> 1.44 | G25: 195077 | I25: 1 | J25: =ROUND((F25*G25*I25),0) -> 280911
D26: Áp đơn giá tại phụ lục I, STT A9 Quyết định số 12/2026/QĐ-UBND ngày 24/02/2026 của UBND tỉnh Khánh Hòa, đơn giá: 195.077đ/m²
D27: 2 - Tài sản khác: Không | J27: =ROUND((F27*G27*I27),0) -> 0
D28: 3 - Cây trồng: | J28: =SUM(J30:J32) -> 390000
D29: * Căn cứ pháp lý áp dụng: - Quyết định số 35/2026/QĐ-UBND ngày 04/5/2026 của UBND tỉnh Khánh Hòa ban hành quy định đơn giá bồi thường thiệt hại đối với cây trồng, vật nuôi khi Nhà nước thu hồi đất trên địa bàn tỉnh Khánh Hòa; - Văn bản số 9455/SNNMT-TTBVTV ngày 30/6/2026 của Sở Nông nghiệp và Môi trường V/v hướng dẫn áp dụng đơn giá bồi thường đối với cây trồng khi Nhà nước thu hồi đất theo QĐ số 35/2026/QĐ-UBND ngày 04/5/2026 của UBND tỉnh Khánh Hòa.
D30: - Mai chiếu thủy - Áp giá tương đương cây dâu tằm STT II.13. ĐG: 168.000đồng | E30: cây | F30: 1 | G30: 168000 | I30: 1 | J30: =F30*G30*I30 -> 168000
D31: - Phát tài loại A - Áp giá tương đương cây Chùm ngây PLII - STT 10, ĐG: 169.000đ/m² | E31: cây | F31: 1 | G31: 169000 | I31: 1 | J31: =F31*G31*I31 -> 169000
D32: - Bạch đàn năm thứ 11 - Áp giá tương đương cây Bạch đàn năm thứ 4. ĐG: 53.000đồng | E32: cây | F32: 1 | G32: 53000 | I32: 1 | J32: =ROUND((F32*G32*I32),0) -> 53000
D33: III. Hỗ trợ chi phí di chuyển tài sản: Không | J33: 0
D34: IV/ Chính sách hỗ trợ (1+2): | J34: =SUM(J36+J35) -> 0
D35: 1. Hỗ trợ đào tạo, chuyển đổi nghề và tìm kiếm việc làm: (Hộ bà Nguyễn Ngọc Như Ý không trực tiếp sản xuất nông nghiệp trên đất) | E35: Hộ gia đình không trực tiếp sản xuất nông nghiệp tại vị trí thửa đất giải tỏa; không được bồi thường về đất nên không được hỗ trợ theo quy định tại Khoản 1, khoản 2 Điều 22 NĐ số 88/2024-NĐ-CP ngày 15/7/2024 và Điều 9, QĐ số 32/2026/QĐ-UBND ngày 29/4/2026 của UBND tỉnh Khánh Hòa
D36: 2. Hỗ trợ ổn định đời sống (Hộ bà Nguyễn Ngọc Như Ý thực tế không canh tác nông nghiệp trên đất) | E36: Hộ gia đình không được bồi thường về đất, thực tế không tham gia sản xuất nông nghiêp trên đất thu hồi nên không được hỗ trợ theo quy định tại Điều 19 NĐ số 88/2024-NĐ-CP ngày 15/7/2024 và Khoản 1, Điều 6, QĐ số 32/2026/QĐ-UBND ngày 29/4/2026 của UBND tỉnh Khánh Hòa | J36: 0
D37: * Tổng số tiền bồi thường, hỗ trợ | J37: =J5+J12+J34 -> 313055897
D38: V/ Hỗ trợ khen thưởng | J38: =J40 -> 8000000
D39: - Khoản 2, Điều 15 QĐ số 32/2026/QĐ-UBND ngày 29/4/2026 của UBND tỉnh Khánh Hòa:
D40: - Trường hợp thu hồi đất không thuộc các dự án quy định tại khoản 7 Điều 111 Luật Đất đai, bàn giao mặt bằng trước thời hạn quy định thì được khen thưởng 10% tổng giá trị bồi thường, hỗ trợ. Mức khen thưởng tối đa không vượt quá 8.000.000 (tám triệu) đồng /trường hợp; Trường hợp số tiền khen thưởng thấp hơn 1.000.000 (một triệu) đồng thì được khen thưởng là 1.000.000 (một triệu) đồng / trường hợp. | E40: TH | F40: 1 | G40: =IF(J37*10%>=8000000,8000000,IF(J37*10%<=1000000,1000000,J37*10%)) -> 8000000 | J40: =F40*G40 -> 8000000
D41: * Tổng số tiền bồi thường, hỗ trợ, khen thưởng (I+II+III+IV+V) | K41: =J37+J38 -> 321055897
D42: VI. Tái định cư:
D43: - Căn cứ Khoản 5 Điều 111 Luật Đất đai năm 2024, Điều 24 Nghị định số 88/NĐ-CP ngày 15/7/2024 của Chính phủ, Khoản 6 Điều 2 Nghị định số 226/2025/NĐ-CP ngày 15/8/2025 của Chính phủ | F43: Hộ gia đình không đủ điều kiện bố trí tái định cư do không được bồi thường đất ở và không phải di chuyển chỗ ở

Sheet N.Thị Hà (T118)
A1: II/ Kết quả bồi thường, hỗ trợ, tái định cư
A2: STT | B2: HỌ TÊN VÀ ĐỊA CHỈ (Nơi ở và nơi giải tỏa | C2: GIẤY TỜ NGUỒN GỐC NHÀ ĐẤT | D2: NỘI DUNG BỒI THƯỜNG, HỖ TRỢ | E2: Đơn vị tính | F2: Khối lượng BT, HT | G2: Đơn giá (đồng) | H2: Mức BT (%) | I2: Mức HT (%) | J2: Thành tiền (đồng) | K2: TỔNG TIỀN (đồng) | L2: Ký nhận
A3: 1 | B3: 2 | C3: 3 | D3: 4 | E3: 5 | F3: 6 | G3: 7 | H3: 8 | I3: 9 | J3: 10 | K3: 11 | L3: 12
A4: 3 | B4: Hộ bà Nguyễn Thị Hà | C4: "* Giấy xác nhận về thửa đất bị thu hồi để phục vụ cho công tác bồi thường, hỗ trợ, tái định cư khi Nhà nước thu hồi đất số 9897/GXN-KTHTĐT ngày 04/8/2026 của Phòng Kinh tế, Hạ tầng và Đô thị phường Nam Nha Trang xác nhận: - Về thông tin nguồn gốc đất: * Thửa đất số 118 tờ bản đồ số 10 - 353599-1 (theo Bản đồ địa chính phường Nam Nha Trang - Đo đạc bổ sung): Tổng diện tích: 244,0m², diện tích thu hồi: 244,0m², diện tích còn lại: 0m2 thuộc Bản đồ địa chính phường Nam Nha Trang được Sở Nông nghiệp và Môi trường thẩm định ngày 05/5/2026, đối chiếu tương ứng các thửa đất: + Theo Sổ dã ngoại và Bản đồ địa chính xã Vĩnh Thái năm 1996: Thửa đất chưa được đo vẽ. + Đối chiếu bản đồ và sổ mục kê năm 2002: Thửa đất thu hồi tương ứng một phần thửa đất số 407, TBĐ 07, diện tích 3300m2 ,Loại đất: đất chưa sử dụng. Ghi chú đất UBND xã. + Đối chiếu Bản đồ ĐC và sổ mục kê năm 2015: Thửa đất thu hồi tương ứng một phần thửa đất số 200 tờ bản đồ số 10; do ông Nguyễn Văn Ọ đứng tên kê khai; diện tích: 3.277,6m2; loại đất: BHK và một phần thửa đất số 287 tờ bản đồ số 10; diện tích: 11.650,2m2; loại đất DTL; do UBND phường quản lý, diện tích lấn mương là 43,6m2 + Vị trí thửa đất thu hồi nằm trong Danh sách Kết luận thanh tra Theo Thông báo số 749/TB-UBND-TTra ngày 18/6/2025 của Chủ tịch UBND thành phố Nha Trang, đính kèm Kết luận thanh tra số 511/KL-TTra-KTXH ngày 13/6/2025 của Chánh Thanh tra thành phố Nha Trang, tại Phụ lục I – STT 949 ghi nhận: thửa đất số 407, tờ bản đồ số 07, diện tích 3.300m2 (loại đất Hg/b) thuộc Danh sách các loại đất khác do Nhà nước quản lý theo Sổ mục kê năm 2002, hiện trạng do người dân đang sử dụng. * Nguồn gốc đất: * Theo giấy tờ nguồn gốc đất do hộ gia đình cung cấp: Nguồn gốc đất do ông Nguyễn Ọ chiếm trước năm 2012. Ngày 26/4/2012, ông Nguyễn Ọ lập đơn cho quyền sử dụng đất cho con là bà Nguyễn Thị Hà cùng chồng là ông Nguyễn Đại Phong, giấy viết tay, không có xác nhận của cơ quan có thẩm quyền. Diện tích kê khai sử dụng của bà Nguyễn Thị Hà: - Tổng diện tích đất: 244,0m² - Diện tích thu hồi: 244,0m2 (diện tích lấn mương là 43,6m2) - Diện tích còn lại: 0m2 - Loại đất: BHK (Theo hồ sơ địa chính năm 2015). - Thời điểm sử dụng đất: sau năm 2015. -Thời điểm hình thành tài sản, vật kiến trúc: Sau năm 2015 đến trước thông báo thu hồi đất. (Hiện trạng trên đất có nhà) - Thời điểm tạo lập cây trồng, vật nuôi: Sau năm 2015 đến trước thông báo thu hồi đất. - Tổng diện tích đất nông nghiệp của hộ gia đình tại thửa đất bị thu hồi: 244,0m2 (diện tích lấn mương là 43,6m2) - Tổng diện tích đất nông nghiệp của hộ gia đình tại địa phương: 244,0m2 - Hộ bà Nguyễn Thị Hà không trực tiếp sản xuất nông nghiệp tại vị trí thửa đất thu thồi. - Tình trạng có ăn ở, sinh hoạt tại vị trí thửa đất thu hồi: Căn cứ theo xác minh của Công an phường Nam Nha Trang về tình trạng ăn ở và quá trình cư trú của hộ gia đình tại vị trí thửa đất thu hồi. => Kết luận: Nguồn gốc sử dụng đất Thửa đất số 118, tờ bản đồ số 10 - 353599-1 (theo Bản đồ địa chính phường Nam Nha Trang - Đo đạc bổ sung), Tổng diện tích: 244m², diện tích thu hồi: 244m², diện tích còn lại: 0m2 thuộc Bản đồ địa chính phường Nam Nha Trang được Sở Nông nghiệp và Môi trường thẩm định ngày 05/5/2026, thuộc trường hợp hộ gia đình, cá nhân đang sử dụng đất do lấn đất hoặc chiếm đất do cơ quan, tổ chức của Nhà nước đã quản lý, được thể hiện trong hồ sơ địa chính (căn cứ Sổ mục kê năm 2002 và Thông báo số 749/TB-UBND-TTra ngày 18/6/2025 của Chủ tịch UBND thành phố Nha Trang, đính kèm Kết luận thanh tra số 511/KL-TTra-KTXH ngày 13/6/2025 của Chánh Thanh tra thành phố Nha Trang, Phụ lục I) 2. Quá trình sử dụng, thay đổi đất, nhà, vật kiến trúc xây dựng trên đất. * Thay đổi về sử dụng đất: - Thay đổi về diện tích, ranh giới sử dụng đất: không. - Thay đổi về mục đích sử dụng đất: không. * Thay đổi về nhà, vật kiến trúc, tài sản trên đất: không. * Thay đổi về địa chỉ thửa đất: không II. Tình hình tranh chấp đối với thửa đất: Hiện hộ bà Nguyễn Thị Hà đang sử dụng ổn định phần diện tích 244,0m2từ sau năm 2015 cho đến nay, không lấn chiếm, không tranh chấp, không thuộc trường hợp đất 5%, đất công, đất khác do Nhà nước quản lý, không có đơn thư ngăn chặn, tài sản không bị phong toả để đảm bảo thi hành án. III. Trường hợp diện tích đất thể hiện trên giấy tờ về quyền sử dụng đất có sự chênh lệch so với diện tích đất thực tế đang sử dụng: - Diện tích theo giấy tờ:m2 - Diện tích đất thực tế đang sử dụng: m2 - Diện tích đất chênh lệch tăng/giảm: IV. Trường hợp địa chỉ thửa đất thực tế đang sử dụng khác với địa chỉ thể hiện trên giấy tờ: - Địa chỉ thửa đất theo giấy tờ: thôn Vĩnh Xuân, xã Vĩnh Thái, Nha Trang - Địa chỉ đất giải tỏa: Tổ dân phố Vĩnh Xuân, phường Nam Nha Trang. Hai địa chỉ là cùng một thửa đất. V. Các loại giấy tờ, tài liệu, người làm chứng làm căn cứ xác nhận các nội dung trên: (Giấy tờ kèm theo hồ sơ) - Hồ sơ địa chính xã năm 2002, 2015; - Biên bản họp xác minh nguồn gốc nhà, đất ngày 27/7/2026; - Biên bản kiểm kê khối lượng giải tỏa ngày 24/6/2026; - Phiếu xác nhận kết quả đo đạc địa chính thửa đất số 118 tờ bản đồ số 10; - Bản tự kê khai ngày của bà Nguyễn Thị Hà. -CCCD số 056170005392 do Cục QLHC về TTXH cấp ngày 12/08/2021 cho bà Nguyễn Thị Hà - Giấy cho quyền sử dụng đất của ông Nguyễn Ọ cho con là ông Nguyễn Đại Phong và bà Nguyễn Thị Hà ngày 26/4/2012, không có xác nhận của cơ quan có thẩm quyền. - Văn bản số 12281/KTHTĐT ngày 22/9/2026 của Phòng Kinh tế, hạ tầng và đô thị phường Nam Nha Trang về việc góp ý phương án dự kiến bồi thường hỗ trợ, tái định cư của 19 trường hợp/ 19 thửa thuộc Dự án thành phần 1: Dự án thành phần giải phóng mặt bằng phục vụ dự án xây dựng Bệnh viện Đa khoa tỉnh Khánh Hòa thành Bệnh viện khu vực duyên hải Nam Trung Bộ tại phường Nam Nha Trang, tỉnh Khánh Hòa. - Biên bản làm việc về nội dung: xác minh tình trạng sinh sống ăn ở thực tế tại địa phương ngày 19/8/2026. - Văn bản số 12281/KTHTĐT ngày 22/9/2026 của Phòng Kinh tế, hạ tầng và đô thị phường Nam Nha Trang về việc góp ý phương án dự kiến bồi thường hỗ trợ, tái định cư của 19 trường hợp/ 19 thửa thuộc Dự án thành phần 1: Dự án thành phần giải phóng mặt bằng phục vụ dự án xây dựng Bệnh viện Đa khoa tỉnh Khánh Hòa thành Bệnh viện khu vực duyên hải Nam Trung Bộ tại phường Nam Nha Trang, tỉnh Khánh Hòa.
B5: CCCD số 056170005392 do Cục QLHC về TTXH cấp ngày 12/08/2021 cho bà Nguyễn Thị Hà | D5: I/ Về đất | J5: 0
D6: - Diện tích (thửa số 118 - tờ BĐ số 10-353599-1) | E6: m² | F6: 244
D7: + DT đất thu hồi: | E7: m² | F7: 244
D8: + DT đất còn lại | E8: m² | F8: 0
B9: - Địa chỉ thường trú: | D9: 1. Về đất:
B10: 15 Hương Điền, phường Nam Nha Trang, tỉnh Khánh Hòa | D10: ** Căn cứ pháp lý áp dụng: - Căn cứ Khoản 2, Điều 101 Luật đất đai năm 2024: " Trường hợp không được bồi thường về đất khi Nhà nước thu hồi đất: Đất do cơ quan tổ chức Nhà nước quản lý quy định tại Điều 217 của Luật này" - Căn cứ Điểm b, Khoản 1, Điều 217 Luật Đất đai năm 2024: "Đất do cơ quan, tổ chức của Nhà nước quản lý là đất chưa giao, chưa cho thuê hoặc đã được giao đất để quản lý, bao gồm: Đất sông, ngòi, kênh, rạch, suối, ao, hồ, đầm, phá....."
B11: - Địa chỉ giải tỏa: | D11: - Diện tích đất không bồi thường: | E11: m² | F11: =F7 -> 244 | G11: Vị trí thửa đất thu hồi nằm trong Danh sách Kết luận thanh tra thuộc Danh sách các loại đất khác do Nhà nước quản lý theo Sổ mục kê năm 2002, không bồi thường
B12: Tổ dân phố Vĩnh Xuân, Phường Nam Nha Trang, tỉnh Khánh Hòa | D12: II/ Tài sản gắn liền với đất (1+2+3) | J12: =J13+J24+J27 -> 95136417
D13: 1- Công trình, vật kiến trúc: | J13: =SUM(J15:J23) -> 90541417
D14: * Căn cứ pháp lý áp dụng: - Biên bản kiểm kê khối lượng giải tỏa: ngày 24/6/2026 - Thông báo thu hồi đất: số 2510/TB-UBND ngày 15/5/2026 của UBND phường Nam Nha Trang. - Quyết định số 08/2026/QĐ-UBND ngày 22/01/2026 của UBND tỉnh Khánh Hòa Quy định đơn giá bồi thường thiệt hại về nhà, nhà ở, công trình xây dựng gắn liền với đất khi Nhà nước thu hồi đất và mức hỗ trợ để tháo dỡ, phá dỡ, di dời công trình xây dựng theo giấy phép xây dựng có thời hạn khi Nhà nước thu hồi đất trên địa bàn tỉnh Khánh Hoà; - Văn bản số 2093/SXD-KTVLXD ngày 05/3/2026 của Sở Xây Dựng V/v hướng dẫn triển khai thực hiện các Quyết định của UBND tỉnh. - Quyết định số 32/2026/QĐ-UBND ngày 29/4/2026 của UBND tỉnh Khánh Hòa Quy định một số biện pháp hỗ trợ khác khi Nhà nước thu hồi đất trên địa bàn tỉnh Khánh Hòa. - Căn cứ Biên bản làm việc về nội dung: xác minh tình trạng sinh sống ăn ở thực tế tại địa phương ngày 19/8/2026 Tổ công tác xác nhận bà Nguyễn Thị Hà không thường xuyên sinh sống, ăn ở, sinh hoạt tại khu vực UBND phường Nam Nha Trang ban hành Thông báo số 2510/TB-UBND ngày 15/05/2026 về việc thu hồi đất để thực hiện dự án Bệnh viện đa khoa tỉnh Khánh Hòa.
D15: - Nhà mái lợp tole, cột kèo sắt, vách tole, cửa tole, có hệ vệ sinh trong nhà có hầm tự hoại. + DT nhà có nền lát gạch men: DTXD: 5m x 6,1m =30,5 m²; DTGT: 30,5m² + DT nhà có nền xi măng: 5,0m x 1,9m =9,5 m²; DTGT: 9,5 m²
D16: + Nhà mái lợp tole, cột kèo sắt, vách tole, cửa tole, có hệ vệ sinh trong nhà (có hầm tự hoại). Nền lát gạch men: DTXD: 5m x 6,1m =30,5m²; DTGT: 30,5m² | E16: m²XD | F16: =5*6.1 -> 30.5 | G16: =(2115140*1.1)+(2115140*8.5%)+481600 -> 2988040.9 | I16: 0.7 | J16: =ROUND((F16*G16*I16),0) -> 63794673
D17: Áp giá tại STT A17, PLI Quyết định số 08/2026/QĐ-UBND ngày 22/01/2026 của UBND tỉnh Khánh Hòa, đơn giá: 2.115.140đ/m²XD. Đơn giá điều chỉnh tăng 8,5% vì cột kèo sắt (theo Mục I, STT 12 văn bản số 2093/SXD-KTVLXD ngày 05/3/2026 của Sở Xây dựng), đơn giá nhân hệ số điều chỉnh 1,1 vì có hệ vệ sinh (theo Mục I, STT 1 văn bản số 2093/SXD-KTVLXD ngày 05/3/2026 của Sở Xây dựng). Cộng thêm 481.600đ/m² vì nền gạch men (STT 37 mục A, Phụ lục I, Quyết định số 12/QĐ-UBND ngày 24/02/2026 (Áp theo Mục I, STT 03 văn bản số 2093/SXD-KTVLXD ngày 05/3/2026 của Sở Xây dựng) [(2.115.140 đ/m²XD x 1,1) + 481.600đ/m²] + (2.115.140 đ/m² x 8,5%) = 2.988.041đ/m²XD
D18: + Nhà mái lợp tole, cột kèo sắt, vách tole, cửa tole, có hệ vệ sinh trong nhà (có hầm tự hoại). DT nhà có nền xi măng: 5,0m x 1,9m =9,5m²; DTGT: 9,5m² | E18: m²XD | F18: =5*1.9 -> 9.5 | G18: =(2115140*1.1)+(2115140*8.5%) -> 2506440.9 | I18: 0.7 | J18: =ROUND((F18*G18*I18),0) -> 16667832
D19: Áp giá tại STT A17, PLI Quyết định số 08/2026/QĐ-UBND ngày 22/01/2026 của UBND tỉnh Khánh Hòa, đơn giá: 2.115.140đ/m²XD. Đơn giá điều chỉnh tăng 8,5% vì cột kèo sắt (theo Mục I, STT 12 văn bản số 2093/SXD-KTVLXD ngày 05/3/2026 của Sở Xây dựng), đơn giá nhân hệ số điều chỉnh 1,1 vì có hệ vệ sinh (theo Mục I, STT 1 văn bản số 2093/SXD-KTVLXD ngày 05/3/2026 của Sở Xây dựng). (2.115.140 đ/m²XD x 1,1) + (2.115.140 đ/m² x 8,5%) = 2.506.441đ/m²XD
D20: - Chuồng gà: vách lưới B40, trụ gỗ, mái lợp bạt, cột kèo gỗ, nền đất. DT: 2,7m x 3,5m = 9,45 m² | E20: m²XD | F20: =2.7*3.5 -> 9.45 | G20: 409513 | I20: 0.7 | J20: =ROUND((F20*G20*I20),0) -> 2708928
D21: Áp đơn giá tại phụ lục STT C.02, Quyết định số 08/2026/QĐ-UBND ngày 22/01/2026 của UBND tỉnh Khánh Hòa, đơn giá: 409,513 đ/m². Giảm 8,5% vì lợp bạt, tăng 8,5% vì vách lưới B40. (theo Mục I, STT 12 văn bản số 2093/SXD-KTVLXD ngày 05/3/2026 của Sở Xây dựng)
D22: - Hàng rào lưới B40, trụ BTCT cao 1,5m dài 13,7m | E22: m dài | F22: 13.7 | G22: 537955 | I22: 1 | J22: =ROUND((F22*G22*I22),0) -> 7369984
D23: Áp giá tại phần C, STT 11, Quyết định số 08/2026/QĐ-UBND ngày 22/01/2026 của UBND tỉnh Khánh Hòa, đơn giá: 537.955 đ/md.
D24: 2 - Tài sản khác: | J24: 0
D25: - Công tơ điện 1 pha: 01 cái | F25: Không có Hợp đồng, hóa đơn thu tiền của điện lực
D26: - Đồng hồ nước: 01 cụm
D27: 3 - Cây trồng: | J27: =SUM(J29:J38) -> 4595000
D28: * Căn cứ pháp lý áp dụng: - Quyết định số 35/2026/QĐ-UBND ngày 04/5/2026 của UBND tỉnh Khánh Hòa ban hành quy định đơn giá bồi thường thiệt hại đối với cây trồng, vật nuôi khi Nhà nước thu hồi đất trên địa bàn tỉnh Khánh Hòa; - Văn bản số 9455/SNNMT-TTBVTV ngày 30/6/2026 của Sở Nông nghiệp và Môi trường V/v hướng dẫn áp dụng đơn giá bồi thường đối với cây trồng khi Nhà nước thu hồi đất theo QĐ số 35/2026/QĐ-UBND ngày 04/5/2026 của UBND tỉnh Khánh Hòa.
D29: - Khế loại A: 02 cây | E29: cây | F29: 2 | G29: 276000 | I29: 1 | J29: =ROUND((F29*G29*I29),0) -> 552000
D30: - Thanh long loại A: 1 bụi | E30: bụi | F30: 1 | G30: 169000 | I30: 1 | J30: =ROUND((F30*G30*I30),0) -> 169000
D31: - Nhãn 4 năm: 02 cây | E31: cây | F31: 2 | G31: 544000 | I31: 1 | J31: =ROUND((F31*G31*I31),0) -> 1088000
D32: - Sơ ri loại 1 năm: 01 cây | E32: cây | F32: 1 | G32: 103000 | I32: 1 | J32: =ROUND((F32*G32*I32),0) -> 103000
D33: - Bạch đàn trên 4 năm: 05 cây - Áp giá tương đương bạch đàn năm thứ 3 | E33: cây | F33: 5 | G33: 53000 | I33: 1 | J33: =ROUND((F33*G33*I33),0) -> 265000
D34: - Gỗ hương trên 4 năm: 01 cây - Áp giá tương đương Sưa năm thứ 4. ĐG: 114.000 đồng/cây | E34: cây | F34: 1 | G34: 114000 | I34: 1 | J34: =ROUND((F34*G34*I34),0) -> 114000
D35: - Sanh loại A: 08 cây - Áp giá tương đương cây bồ quân STT II.3. ĐG: 228.000đồng | E35: cây | F35: 8 | G35: 228000 | I35: 1 | J35: =ROUND((F35*G35*I35),0) -> 1824000
D36: - Trúc loại A: 01 cây | E36: cây | F36: 1 | G36: 84000 | I36: 1 | J36: =F36*G36*I36 -> 84000
D37: - Bàng loại A: 01 cây - Áp giá tương đương cây bồ quân STT II.3. ĐG: 228.000đồng | E37: cây | F37: 1 | G37: 228000 | I37: 1 | J37: =ROUND((F37*G37*I37),0) -> 228000
D38: - Mai loại A: 01 cây - Áp giá tương đương cây dâu tằm STT II.13. ĐG: 168.000đồng | E38: cây | F38: 1 | G38: 168000 | I38: 1 | J38: =F38*G38*I38 -> 168000
D39: III. Hỗ trợ chi phí di chuyển tài sản: Không | J39: 0
D40: IV/ Chính sách hỗ trợ (1+2+3): | J40: =SUM(J41:J42) -> 0
D41: 1. Hỗ trợ đào tạo, chuyển đổi nghề và tìm kiếm việc làm: (Hộ bà Nguyễn Thị Hà không trực tiếp sản xuất nông nghiệp trên đất) | F41: Hộ gia đình không trực tiếp sản xuất nông nghiệp tại vị trí thửa đất giải tỏa; không được bồi thường về đất nên không được hỗ trợ theo quy định tại Khoản 1, khoản 2 Điều 22 NĐ số 88/2024-NĐ-CP ngày 15/7/2024 và Điều 9, QĐ số 32/2026/QĐ-UBND ngày 29/4/2026 của UBND tỉnh Khánh Hòa
D42: 2. Hỗ trợ ổn định đời sống (Hộ bà Nguyễn Thị Hà thực tế không canh tác nông nghiệp trên đất) | F42: Hộ gia đình không được bồi thường về đất, thực tế không tham gia sản xuất nông nghiêp trên đất thu hồi nên không được hỗ trợ theo quy định tại Điều 19 NĐ số 88/2024-NĐ-CP ngày 15/7/2024 và Khoản 1, Điều 6, QĐ số 32/2026/QĐ-UBND ngày 29/4/2026 của UBND tỉnh Khánh Hòa
D43: * Tổng số tiền bồi thường, hỗ trợ | J43: =J5+J12+J40+J39 -> 95136417
D44: V/ Hỗ trợ khen thưởng | J44: =J46 -> 8000000
D45: - Khoản 2, Điều 15 QĐ số 32/2026/QĐ-UBND ngày 29/4/2026 của UBND tỉnh Khánh Hòa:
D46: - Trường hợp thu hồi đất không thuộc các dự án quy định tại khoản 7 Điều 111 Luật Đất đai, bàn giao mặt bằng trước thời hạn quy định thì được khen thưởng 10% tổng giá trị bồi thường, hỗ trợ. Mức khen thưởng tối đa không vượt quá 8.000.000 (tám triệu) đồng /trường hợp; Trường hợp số tiền khen thưởng thấp hơn 1.000.000 (một triệu) đồng thì được khen thưởng là 1.000.000 (một triệu) đồng / trường hợp. | E46: TH | F46: 1 | G46: =IF(J43*10%>=8000000,8000000,IF(J43*10%<=1000000,1000000,J43*10%)) -> 8000000 | J46: =F46*G46 -> 8000000
D47: * Tổng số tiền bồi thường, hỗ trợ, khen thưởng (I+II+III+IV+V) | K47: =J43+J44 -> 103136417
D48: VI. Tái định cư:
D49: - Căn cứ Khoản 5 Điều 111 Luật Đất đai năm 2024, Điều 24 Nghị định số 88/NĐ-CP ngày 15/7/2024 của Chính phủ, Khoản 6 Điều 2 Nghị định số 226/2025/NĐ-CP ngày 15/8/2025 của Chính phủ | F49: Hộ gia đình không đủ điều kiện bố trí tái định cư do không được bồi thường đất ở và không phải di chuyển chỗ ở

Sheet L.THỊ THÀNH (T115)
A1: II/ Kết quả bồi thường, hỗ trợ, tái định cư
A2: STT | B2: HỌ TÊN VÀ ĐỊA CHỈ (Nơi ở và nơi giải tỏa | C2: GIẤY TỜ NGUỒN GỐC NHÀ ĐẤT | D2: NỘI DUNG BỒI THƯỜNG, HỖ TRỢ | E2: Đơn vị tính | F2: Khối lượng BT, HT | G2: Đơn giá (đồng) | H2: Mức BT (%) | I2: Mức HT (%) | J2: Thành tiền (đồng) | K2: TỔNG TIỀN (đồng) | L2: Ký nhận
A3: 1 | B3: 2 | C3: 3 | D3: 4 | E3: 5 | F3: 6 | G3: 7 | H3: 8 | I3: 9 | J3: 10 | K3: 11 | L3: 12
A4: 4 | B4: Hộ bà Lê Thị Thành | C4: " * Giấy xác nhận về thửa đất bị thu hồi để phục vụ cho công tác bồi thường, hỗ trợ, tái định cư khi Nhà nước thu hồi đất số 9895/GXN-KTHTĐT ngày 04/8/2026 của Phòng Kinh tế Hạ tầng và Đô thị phường Nam Nha Trang xác nhận: - Về thông tin nguồn gốc đất: * Thửa đất số 115 tờ bản đồ số 10 - 353599-1 (theo Bản đồ địa chính phường Nam Nha Trang - Đo đạc bổ sung): Tổng diện tích: 174,0m², diện tích thu hồi: 174,0m², diện tích còn lại: 0m² thuộc Bản đồ địa chính phường Nam Nha Trang được Sở Nông nghiệp và Môi trường thẩm định ngày 05/5/2026, đối chiếu tương ứng các thửa đất: + Theo Sổ dã ngoại và Bản đồ địa chính xã Vĩnh Thái năm 1996: Thửa đất chưa được đo vẽ. + Đối chiếu bản đồ và sổ mục kê năm 2002: Thửa đất thu hồi tương ứng một phần thửa đất số 407, TBĐ 07, diện tích 3300m2 , Loại đất: đất chưa sử dụng. Ghi chú đất UBND xã. + Đối chiếu Bản đồ ĐC và sổ mục kê năm 2015: Thửa đất thu hồi tương ứng một phần thửa đất số 200 tờ bản đồ số 10, diện tích: 3.277,6m2, loại đất: BHK do ông Nguyễn Văn Ọ đứng tên kê khai và một phần thửa đất số 287 tờ bản đồ số 10, diện tích: 11.650,2m2 do UBND phường quản lý; diện tích đất lấn 11,8m2 + Vị trí thửa đất thu hồi nằm trong Danh sách Kết luận thanh tra Theo Thông báo số 749/TB-UBND-TTra ngày 18/6/2025 của Chủ tịch UBND thành phố Nha Trang, đính kèm Kết luận thanh tra số 511/KL-TTra-KTXH ngày 13/6/2025 của Chánh Thanh tra thành phố Nha Trang, tại Phụ lục I – STT 949 ghi nhận: thửa đất số 407, tờ bản đồ số 07, diện tích 3.300m2 (loại đất Hg/b) thuộc Danh sách các loại đất khác do Nhà nước quản lý theo Sổ mục kê năm 2002, hiện trạng do người dân đang sử dụng. * Nguồn gốc đất: * Theo giấy tờ nguồn gốc đất do hộ gia đình cung cấp: Nguồn gốc đất do ông Nguyễn Ọ chiếm trước năm 2012. Ngày 25/3/2010, ông Nguyễn Ọ lập hợp đồng bán đất khai hoang chuyển nhượng quyền sử dụng đất cho ông Nguyễn Minh Nguyên và bà Lê Thị Thành, giấy viết tay, không có xác nhận của cơ quan có thẩm quyền. Diện tích kê khai sử dụng của hộ bà Lê Thị Thành là: - Tổng diện tích đất: 174,0m² - Diện tích thu hồi: 174,0m2 - Diện tích còn lại: 0m2 - Loại đất: BHK (Theo hồ sơ địa chính năm 2015+2002). - Thời điểm sử dụng đất: sau 2015. -Thời điểm hình thành tài sản, vật kiến trúc: Sau năm 2015 đến trước thông báo thu hồi đất. (Hiện trạng trên đất có nhà) - Thời điểm tạo lập cây trồng, vật nuôi: Sau năm 2015 đến trước thông báo thu hồi đất. - Tổng diện tích đất nông nghiệp của hộ gia đình tại thửa đất bị thu hồi: 174,0m2 diện tích lấn đất DTL 11,8m2 - Tổng diện tích đất nông nghiệp của hộ gia đình tại địa phương: 174,0m2 - Hộ bà Lê Thị Thành không trực tiếp sản xuất nông nghiệp tại vị trí thửa đất thu hồi. => Kết luận: Nguồn gốc sử dụng đất Thửa đất số 115, tờ bản đồ số 10 - 353599-1 (theo Bản đồ địa chính phường Nam Nha Trang - Đo đạc bổ sung), Tổng diện tích: 174m², diện tích thu hồi: 174m², diện tích còn lại: 0m2 thuộc Bản đồ địa chính phường Nam Nha Trang được Sở Nông nghiệp và Môi trường thẩm định ngày 05/5/2026, thuộc trường hợp hộ gia đình, cá nhân đang sử dụng đất do lấn đất hoặc chiếm đất do cơ quan, tổ chức của Nhà nước đã quản lý, được thể hiện trong hồ sơ địa chính (căn cứ Sổ mục kê năm 2002 và Thông báo số 749/TB-UBND-TTra ngày 18/6/2025 của Chủ tịch UBND thành phố Nha Trang, đính kèm Kết luận thanh tra số 511/KL-TTra-KTXH ngày 13/6/2025 của Chánh Thanh tra thành phố Nha Trang, Phụ lục I) 2. Quá trình sử dụng, thay đổi đất, nhà, vật kiến trúc xây dựng trên đất. * Thay đổi về sử dụng đất: - Thay đổi về diện tích, ranh giới sử dụng đất: không. - Thay đổi về mục đích sử dụng đất: không. * Thay đổi về nhà, vật kiến trúc, tài sản trên đất: không. * Thay đổi về địa chỉ thửa đất: không II. Tình hình tranh chấp đối với thửa đất: Hiện hộ bà Lê Thị Thành đang sử dụng ổn định phần diện tích 174,0m2từ sau năm 2015 cho đến nay, không lấn chiếm, không tranh chấp, không thuộc trường hợp đất 5%, đất công, đất khác do Nhà nước quản lý, không có đơn thư ngăn chặn, tài sản không bị phong toả để đảm bảo thi hành án. III. Trường hợp diện tích đất thể hiện trên giấy tờ về quyền sử dụng đất có sự chênh lệch so với diện tích đất thực tế đang sử dụng: - Diện tích theo giấy tờ:m2 - Diện tích đất thực tế đang sử dụng: m2 - Diện tích đất chênh lệch tăng/giảm: IV. Trường hợp địa chỉ thửa đất thực tế đang sử dụng khác với địa chỉ thể hiện trên giấy tờ: - Địa chỉ thửa đất theo giấy tờ: thôn Vĩnh Xuân, xã Vĩnh Thái, Nha Trang - Địa chỉ đất giải tỏa: Tổ dân phố Vĩnh Xuân, phường Nam Nha Trang. Hai địa chỉ là cùng một thửa đất. V. Các loại giấy tờ, tài liệu, người làm chứng làm căn cứ xác nhận các nội dung trên: (Giấy tờ kèm theo hồ sơ) - Hồ sơ địa chính xã năm 2002, 2015; - Biên bản họp xác minh nguồn gốc nhà, đất ngày 27/7/2026; - Biên bản kiểm kê khối lượng giải tỏa ngày 23/6/2026; - Phiếu xác nhận kết quả đo đạc địa chính thửa đất số 115 tờ bản đồ số 10; - Bản tự kê khai ngày của bà Lê Thị Thành. - CCCD số 038192019519 do Cục QLHC về TTXH cấp ngày 08/11/2022 cho Bà Lê Thị Thành - Giấy chuyển nhượng quyền sử dụng đất của ông Nguyễn Ọ chuyển nhượng cho bà Lê Thị Thành không có xác nhận của cơ quan có thẩm quyền. - Văn bản số 12281/KTHTĐT ngày 22/9/2026 của Phòng Kinh tế, hạ tầng và đô thị phường Nam Nha Trang về việc góp ý phương án dự kiến bồi thường hỗ trợ, tái định cư của 19 trường hợp/ 19 thửa thuộc Dự án thành phần 1: Dự án thành phần giải phóng mặt bằng phục vụ dự án xây dựng Bệnh viện Đa khoa tỉnh Khánh Hòa thành Bệnh viện khu vực duyên hải Nam Trung Bộ tại phường Nam Nha Trang, tỉnh Khánh Hòa.
B5: CCCD số 038192019519 do Cục QLHC về TTXH cấp ngày 08/11/2022 cho Bà Lê Thị Thành | D5: I/ Về đất | J5: 0
D6: - Diện tích (thửa số 115 - tờ BĐ số 10-353599-1) | E6: m² | F6: 174
D7: + DT đất thu hồi : | E7: m² | F7: =F6 -> 174
D8: + DT đất còn lại | E8: m² | F8: 0
D9: 1. Về đất:
D10: ** Căn cứ pháp lý áp dụng: - Căn cứ Khoản 2, Điều 101 Luật đất đai năm 2024: " Trường hợp không được bồi thường về đất khi Nhà nước thu hồi đất: Đất do cơ quan tổ chức Nhà nước quản lý quy định tại Điều 217 của Luật này" - Căn cứ Điểm b, Khoản 1, Điều 217 Luật Đất đai năm 2024: "Đất do cơ quan, tổ chức của Nhà nước quản lý là đất chưa giao, chưa cho thuê hoặc đã được giao đất để quản lý, bao gồm: Đất sông, ngòi, kênh, rạch, suối, ao, hồ, đầm, phá....."
D11: - Diện tích đất không bồi thường: | E11: m² | F11: =F7 -> 174 | G11: Vị trí thửa đất thu hồi nằm trong Danh sách Kết luận thanh tra thuộc Danh sách các loại đất khác do Nhà nước quản lý theo Sổ mục kê năm 2002, không bồi thường
D12: II/ Tài sản gắn liền với đất (1+2+3) | J12: =J13+J25+J28 -> 80132179
B13: - Địa chỉ giải tỏa: | D13: 1- Công trình, vật kiến trúc: | J13: =SUM(J15:J24) -> 79950179
B14: Tổ dân phố Vĩnh Xuân, Phường Nam Nha Trang, tỉnh Khánh Hòa | D14: * Căn cứ pháp lý áp dụng: - Biên bản kiểm kê khối lượng giải tỏa: ngày 23/6/2026 - Thông báo thu hồi đất: số 2510/TB-UBND ngày 15/5/2026 của UBND phường Nam Nha Trang. - Quyết định số 08/2026/QĐ-UBND ngày 22/01/2026 của UBND tỉnh Khánh Hòa Quy định đơn giá bồi thường thiệt hại về nhà, nhà ở, công trình xây dựng gắn liền với đất khi Nhà nước thu hồi đất và mức hỗ trợ để tháo dỡ, phá dỡ, di dời công trình xây dựng theo giấy phép xây dựng có thời hạn khi Nhà nước thu hồi đất trên địa bàn tỉnh Khánh Hoà; - Văn bản số 2093/SXD-KTVLXD ngày 05/3/2026 của Sở Xây Dựng V/v hướng dẫn triển khai thực hiện các Quyết định của UBND tỉnh. - Quyết định số 32/2026/QĐ-UBND ngày 29/4/2026 của UBND tỉnh Khánh Hòa Quy định một số biện pháp hỗ trợ khác khi Nhà nước thu hồi đất trên địa bàn tỉnh Khánh Hòa.
D15: - Nhà mái lợp ngói, cột kèo gỗ tiêu chuẩn, vách tole, nền XM, cửa gỗ DT: (5,5m x 4,1m) = 22,55 m²xd | E15: m²XD | F15: =5.5*4.1 -> 22.55 | G15: =(2115140+(2115140*8.5%)) -> 2294926.9 | I15: 0.8 | J15: =ROUND((F15*G15*I15),0) -> 41400481
D16: Áp đơn giá tại phụ lục STT A17, Quyết định số 08/2026/QĐ-UBND ngày 22/01/2026 của UBND tỉnh Khánh Hòa, đơn giá: 2.115.140đ/m². Đơn giá tăng 8.5% vì mái lợp ngói (theo Mục I, STT 12 văn bản số 2093/SXD-KTVLXD ngày 05/3/2026 của Sở Xây dựng) Đơn giá: 2.115.140 đ/m² + (2.115.140 đ/m² x 8,5%) = 2.294.927 đ/m²
D17: - Nhà vệ sinh độc lập có hầm tự hoại, tường gạch cửa nhựa, mái lợp tole, kèo gỗ tiêu chuẩn DT: 1,7m x 2,8m = 4,76 m² | E17: m²XD | F17: =1.7*2.8 -> 4.76 | G17: 6960234 | I17: 0.7 | J17: =ROUND((F17*G17*I17),0) -> 23191500
D18: Áp đơn giá tại phụ lục STT C.7, Quyết định số 08/2026/QĐ-UBND ngày 22/01/2026 của UBND tỉnh Khánh Hòa, đơn giá: 6.960.234 đ/m².
D19: - Mái che lợp tole, cột kèo gỗ tiêu chuẩn, nền đất. DT= 4,1m x 1,9m = 7,79 m² | E19: m²XD | F19: =4.1*1.9 -> 7.79 | G19: =741439-(741439*8.5%) -> 678416.69 | I19: 0.7 | J19: =ROUND((F19*G19*I19),0) -> 3699406
D20: Áp đơn giá tại phụ lục STT C.03, Quyết định số 08/2026/QĐ-UBND ngày 22/01/2026 của UBND tỉnh Khánh Hòa, đơn giá: 741.439 đ/m²XD. Giảm 8,5% vì nền đất (theo Mục I, STT 12 văn bản số 2093/SXD-KTVLXD ngày 05/3/2026 của Sở Xây dựng) 741.439đ/m²XD - ( 741.439đ/m²XD x 8,5%) = 678.417đ/m²XD
D21: - Chuồng gà: mái lợp tôn, cột kèo gỗ, vách lưới B40, nền đất. DT: 6m x 2,5m = 15m²XD | E21: m²XD | F21: =6*2.5 -> 15 | G21: =409513+(409513*8.5%) -> 444321.6 | I21: 0.7 | J21: =ROUND((F21*G21*I21),0) -> 4665377
D22: Áp đơn giá tại phụ lục STT C.02, Quyết định số 08/2026/QĐ-UBND ngày 22/01/2026 của UBND tỉnh Khánh Hòa, đơn giá: 409.513 đ/m². Tăng 8.5% vì có vách lưới B40 ( theo Mục I, STT 12 văn bản số 2093/SXD-KTVLXD ngày 05/3/2026 của Sở Xây dựng) 409.513đ/m²XD + (409.513 đ/m²XD x 8,5%) = 444.322đ/m²XD
D23: Hàng rào trụ BTCT cao 1,5m lưới B40 dài 13m | E23: m dài | F23: 13 | G23: 537955 | I23: 1 | J23: =ROUND((F23*G23*I23),0) -> 6993415
D24: Áp đơn giá tại phụ lục STT C.11.1, Quyết định số 08/2026/QĐ-UBND ngày 22/01/2026 của UBND tỉnh Khánh Hòa, đơn giá: 537.955 đ/m².
D25: 2 - Tài sản khác: | J25: =SUM(G26+G27) -> 0
D26: - Công tơ điện 1 pha: 01 cái | F26: Không có Hợp đồng, hóa đơn thu tiền của điện lực
D27: - Đồng hồ nước: 01 cụm
D28: 3 - Cây trồng: | J28: =SUM(J30:J30) -> 182000
D29: * Căn cứ pháp lý áp dụng: - Quyết định số 35/2026/QĐ-UBND ngày 04/5/2026 của UBND tỉnh Khánh Hòa ban hành quy định đơn giá bồi thường thiệt hại đối với cây trồng, vật nuôi khi Nhà nước thu hồi đất trên địa bàn tỉnh Khánh Hòa; - Văn bản số 9455/SNNMT-TTBVTV ngày 30/6/2026 của Sở Nông nghiệp và Môi trường V/v hướng dẫn áp dụng đơn giá bồi thường đối với cây trồng khi Nhà nước thu hồi đất theo QĐ số 35/2026/QĐ-UBND ngày 04/5/2026 của UBND tỉnh Khánh Hòa.
D30: - Chuối loại C: 2 Cây | E30: cây | F30: 2 | G30: 91000 | I30: 1 | J30: =ROUND((F30*G30*I30),0) -> 182000
D31: III. Hỗ trợ chi phí di chuyển tài sản: Không | J31: 0
D32: IV/ Chính sách hỗ trợ (1+2): | J32: =SUM(J34+J33) -> 0
D33: 1. Hỗ trợ đào tạo, chuyển đổi nghề và tìm kiếm việc làm: (Hộ bà Lê Thị Thành không trực tiếp sản xuất nông nghiệp trên đất) | F33: Hộ gia đình không trực tiếp sản xuất nông nghiệp tại vị trí thửa đất giải tỏa; không được bồi thường về đất nên không được hỗ trợ theo quy định tại Khoản 1, khoản 2 Điều 22 NĐ số 88/2024-NĐ-CP ngày 15/7/2024 và Điều 9, QĐ số 32/2026/QĐ-UBND ngày 29/4/2026 của UBND tỉnh Khánh Hòa
D34: 2. Hỗ trợ ổn định đời sống (Hộ bà Lê Thị Thành thực tế không canh tác nông nghiệp trên đất) | F34: Hộ gia đình không được bồi thường về đất, thực tế không tham gia sản xuất nông nghiêp trên đất thu hồi nên không được hỗ trợ theo quy định tại Điều 19 NĐ số 88/2024-NĐ-CP ngày 15/7/2024 và Khoản 1, Điều 6, QĐ số 32/2026/QĐ-UBND ngày 29/4/2026 của UBND tỉnh Khánh Hòa
D35: * Tổng số tiền bồi thường, hỗ trợ | J35: =J5+J12+J32 -> 80132179
D36: V/ Hỗ trợ khen thưởng | J36: =J38 -> 8000000
D37: - Khoản 2, Điều 15 QĐ số 32/2026/QĐ-UBND ngày 29/4/2026 của UBND tỉnh Khánh Hòa:
D38: - Trường hợp thu hồi đất không thuộc các dự án quy định tại khoản 7 Điều 111 Luật Đất đai, bàn giao mặt bằng trước thời hạn quy định thì được khen thưởng 10% tổng giá trị bồi thường, hỗ trợ. Mức khen thưởng tối đa không vượt quá 8.000.000 (tám triệu) đồng /trường hợp; Trường hợp số tiền khen thưởng thấp hơn 1.000.000 (một triệu) đồng thì được khen thưởng là 1.000.000 (một triệu) đồng / trường hợp. | E38: TH | F38: 1 | G38: =IF(J35*10%>=8000000,8000000,IF(J35*10%<=1000000,1000000,J35*10%)) -> 8000000 | J38: =F38*G38 -> 8000000
D39: * Tổng số tiền bồi thường, hỗ trợ, khen thưởng (I+II+III+IV+V) | K39: =J35+J36 -> 88132179
D40: VI. Tái định cư:
D41: - Căn cứ Khoản 5 Điều 111 Luật Đất đai năm 2024, Điều 24 Nghị định số 88/NĐ-CP ngày 15/7/2024 của Chính phủ, Khoản 6 Điều 2 Nghị định số 226/2025/NĐ-CP ngày 15/8/2025 của Chính phủ | F41: Hộ gia đình không đủ điều kiện bố trí tái định cư do không được bồi thường đất ở và không phải di chuyển chỗ ở

Sheet T.THỊ TÂM (T51)
A1: II/ Kết quả bồi thường, hỗ trợ, tái định cư
A2: STT | B2: HỌ TÊN VÀ ĐỊA CHỈ (Nơi ở và nơi giải tỏa | C2: GIẤY TỜ NGUỒN GỐC NHÀ ĐẤT | D2: NỘI DUNG BỒI THƯỜNG, HỖ TRỢ | E2: Đơn vị tính | F2: Khối lượng BT, HT | G2: Đơn giá (đồng) | H2: Mức BT (%) | I2: Mức HT (%) | J2: Thành tiền (đồng) | K2: TỔNG TIỀN (đồng) | L2: Ký nhận
A3: 1 | B3: 2 | C3: 3 | D3: 4 | E3: 5 | F3: 6 | G3: 7 | H3: 8 | I3: 9 | J3: 10 | K3: 11 | L3: 12
A4: 5 | B4: Hộ bà Trần Thị Tâm | C4: * Giấy xác nhận về thửa đất bị thu hồi để phục vụ cho công tác bồi thường, hỗ trợ, tái định cư khi Nhà nước thu hồi đất số 9893/GXN-KTHTĐT ngày 04/8/2026 của Phòng Kinh tế, Hạ tầng và Đô thị phường Nam Nha Trang xác nhận: - Về thông tin nguồn gốc đất: * Thửa đất số 51 tờ bản đồ số 10 - 353599-1 (theo Bản đồ địa chính phường Nam Nha Trang - Đo đạc bổ sung), Tổng diện tích: 344,1m², diện tích thu hồi: 16,6m², diện tích còn lại: 327,5m² thuộc Bản đồ địa chính phường Nam Nha Trang được Sở Nông nghiệp và Môi trường thẩm định ngày 05/5/2026, đối chiếu tương ứng các thửa đất: + Theo Sổ dã ngoại và Bản đồ địa chính xã Vĩnh Thái năm 1996: Thửa đất chưa được đo vẽ. + Đối chiếu bản đồ và sổ mục kê năm 2002: Tương ứng phần thuộc thửa đất 447, TBĐ 07, diện tích 2785m²; loại đất Hg; không người đứng tên kê khai, ghi chú UBND xã; và một phần diện tích lấn chiếm đất giao thông (diện tích lấn chiếm là 12,6m2). + Đối chiếu Bản đồ ĐC và sổ mục kê năm 2015: Tương ứng một phần thửa đất số 181 tờ bản đồ số 10; diện tích 28.760.3m2; loại đất TSL do Lan đứng tên kê khai (nhưng ý kiến đại diện hộ dân - ông Trần Văn Minh cho rằng thực tế là đất của bà Nguyễn Thị Long đang quản lý sử dụng, do đoàn đo đạc tại thời điểm đó ghi nhầm); và 1 phần thửa đất số 287, TBĐ 10, diện tích: 11560,2m2; loại đất: DTL, do UBND phường quản lý, diện tích lấn mương là 13,3m². + Vị trí thửa đất thu hồi nằm trong Danh sách Kết luận thanh tra Theo Thông báo số 749/TB-UBND-TTra ngày 18/6/2025 của Chủ tịch UBND thành phố Nha Trang, đính kèm Kết luận thanh tra số 511/KL-TTra-KTXH ngày 13/6/2025 của Chánh Thanh tra thành phố Nha Trang, tại Phụ lục I – STT 952 ghi nhận: thửa đất số 447, tờ bản đồ số 07, diện tích 2.785m2 (loại đất Hg/b) thuộc Danh sách các loại đất khác do Nhà nước quản lý theo Sổ mục kê năm 2002, hiện trạng do người dân đang sử dụng. + Nguồn gốc đất: * Theo giấy tờ nguồn gốc đất do hộ gia đình cung cấp: Nguồn gốc đất của ông Hoàng Xuân Tấc có Thông báo nộp thuế sử dụng đất nông nghiệp và thuế đất năm 2001. Ngày 04/02/2001, ông Hoàng Xuân Tấc lập giấy chuyển nhượng quyền sử dụng đìa nuôi tôm cho bà Nguyễn Thị Long, giấy viết tay, không có xác nhận của cơ quan có thẩm quyền. Ngày 14/3/2007, bà Nguyễn Thị Long lập giấy chuyển nhượng quyền sử dụng đất gò cho bà Trần Thị Tâm, giấy viết tay, không có xác nhận của cơ quan có thẩm quyền. Diện tích kê khai sử dụng của hộ bà Trần Thị Tâm là 344,1m², trong đó: - Tổng diện tích đất: 344,1m² - Diện tích thu hồi: 16,6m² (trong đó 13,3m² đất lấn mương) - Diện tích còn lại: 327,5m² - Loại đất: TSL+ DTL (Theo hồ sơ địa chính năm 2015+2002) nhưng hộ dân đã tự sang lấp mặt bằng và sử dụng vào mục đích khác. - Thời điểm sử dụng đất: sau năm 2015. -Thời điểm hình thành tài sản, vật kiến trúc: Sau năm 2015 đến trước thông báo thu hồi đất. (Hiện trạng trên đất có nhà) - Thời điểm tạo lập cây trồng, vật nuôi: Sau năm 2015 đến trước thông báo thu hồi đất. - Tổng diện tích đất nông nghiệp của hộ gia đình tại thửa đất bị thu hồi: 16,6m² (diện tích 13,3m² lấn đất lấn mương) - Tổng diện tích đất nông nghiệp của hộ gia đình tại địa phương: 344,1m2 - Hộ bà Trần Thị Tâm không trực tiếp sản xuất tại vị trí thửa đất thu hồi. => Kết luận: Nguồn gốc sử dụng đất Thửa đất số 51, tờ bản đồ số 10 - 353599-1 (theo Bản đồ địa chính phường Nam Nha Trang - Đo đạc bổ sung), Tổng diện tích: 344,1m², diện tích thu hồi: 16,6m², diện tích còn lại: 327,5m2 thuộc Bản đồ địa chính phường Nam Nha Trang được Sở Nông nghiệp và Môi trường thẩm định ngày 05/5/2026, hợp hộ gia đình, cá nhân đang sử dụng đất do lấn đất hoặc chiếm đất do cơ quan, tổ chức của Nhà nước đã quản lý, được thể hiện trong hồ sơ địa chính (căn cứ Sổ mục kê năm 2002 và Thông báo số 749/TB-UBND-TTra ngày 18/6/2025 của Chủ tịch UBND thành phố Nha Trang, đính kèm Kết luận thanh tra số 511/KL-TTra-KTXH ngày 13/6/2025 của Chánh Thanh tra thành phố Nha Trang, Phụ lục I) - Quá trình sử dụng, thay đổi đất, nhà, vật kiến trúc xây dựng trên đất: * Thay đổi về sử dụng đất: - Thay đổi về diện tích, ranh giới sử dụng đất: không. - Thay đổi về mục đích sử dụng đất: không. * Thay đổi về nhà, vật kiến trúc, tài sản trên đất: không. * Thay đổi về địa chỉ thửa đất: không * Tình hình tranh chấp đối với thửa đất: - Hiện hộ bà Trần Thị Tâm đang sử dụng ổn định phần diện tích 344,1m2từ sau năm 2015 cho đến nay, không lấn chiếm, không tranh chấp, không thuộc trường hợp đất 5%, đất công, đất khác do Nhà nước quản lý, không có đơn thư ngăn chặn, tài sản không bị phong toả để đảm bảo thi hành án. * Trường hợp diện tích đất thể hiện trên giấy tờ về quyền sử dụng đất có sự chênh lệch so với diện tích đất thực tế đang sử dụng: - Diện tích theo giấy tờ:m² - Diện tích đất thực tế đang sử dụng: m² - Diện tích đất chênh lệch tăng/giảm: * Trường hợp địa chỉ thửa đất thực tế đang sử dụng khác với địa chỉ thể hiện trên giấy tờ: - Địa chỉ thửa đất theo giấy tờ: thôn Vĩnh Xuân, xã Vĩnh Thái, Nha Trang - Địa chỉ đất giải tỏa: Tổ dân phố Vĩnh Xuân, phường Nam Nha Trang. Hai địa chỉ là cùng một thửa đất. * Các loại giấy tờ, tài liệu, người làm chứng làm căn cứ xác nhận các nội dung trên: (Giấy tờ kèm theo hồ sơ) - Hồ sơ địa chính xã năm 2002, 2015; - Biên bản họp xác minh nguồn gốc nhà, đất ngày 27/7/2026; - Biên bản kiểm kê khối lượng giải tỏa ngày 19/6/2026; - Phiếu xác nhận kết quả đo đạc địa chính Thửa đất số 51, tờ bản đồ số 10; - Bản tự kê khai ngày của bà Trần Thị Tâm; - Giấy chuyển nhượng quyền sử dụng đìa tôm của ông Hoàng Xuân Tấc chuyển nhượng cho bà Nguyễn Thị Long, giấy viết tay ký ngày 04/02/2001, không có xác nhận của cơ quan có thẩm quyền. - Giấy chuyển nhượng đất gò của ông Nguyễn Thị Long chuyển nhượng quyền sử dụng đất cho bà Trần Thị Tâm, giấy viết tay ký ngày 14/3/2007, không có xác nhận của cơ quan có thẩm quyền. - CCCD số 040175027280 do Cục QLHC về TTXH cấp ngày 01/9/2021 cho bà Trần Thị Tâm; - Văn bản số 12281/KTHTĐT ngày 22/9/2026 của Phòng Kinh tế, hạ tầng và đô thị phường Nam Nha Trang về việc góp ý phương án dự kiến bồi thường hỗ trợ, tái định cư của 19 trường hợp/ 19 thửa thuộc Dự án thành phần 1: Dự án thành phần giải phóng mặt bằng phục vụ dự án xây dựng Bệnh viện Đa khoa tỉnh Khánh Hòa thành Bệnh viện khu vực duyên hải Nam Trung Bộ tại phường Nam Nha Trang, tỉnh Khánh Hòa.
B5: CCCD số 040175027280 do Cục QLHC về TTXH cấp ngày 01/9/2021 cho bà Trần Thị Tâm | D5: I/ Về đất | J5: 0
D6: - Diện tích (thửa số 51 - tờ BĐ số 10-353599-1) | E6: m² | F6: 344.1
D7: + DT đất thu hồi: | E7: m² | F7: 16.6
D8: + DT đất còn lại | E8: m² | F8: =F6-F7 -> 327.5
B9: - Địa chỉ thường trú: | D9: 1. Về đất: | E9: m² | F9: =SUM(F7) -> 16.6
B10: Thôn Phú Vinh 1, Phường Tây Nha Trang, tỉnh Khánh Hòa | D10: ** Căn cứ pháp lý áp dụng: - Căn cứ Khoản 2, Điều 101 Luật đất đai năm 2024: " Trường hợp không được bồi thường về đất khi Nhà nước thu hồi đất: Đất do cơ quan tổ chức Nhà nước quản lý quy định tại Điều 217 của Luật này" - Căn cứ Điểm b, Khoản 1, Điều 217 Luật Đất đai năm 2024: "Đất do cơ quan, tổ chức của Nhà nước quản lý là đất chưa giao, chưa cho thuê hoặc đã được giao đất để quản lý, bao gồm: Đất sông, ngòi, kênh, rạch, suối, ao, hồ, đầm, phá....."
B11: - Địa chỉ giải tỏa: | D11: - Diện tích đất không bồi thường: | E11: m² | F11: =F9 -> 16.6 | G11: Vị trí thửa đất thu hồi nằm trong Danh sách Kết luận thanh tra thuộc Danh sách các loại đất khác do Nhà nước quản lý theo Sổ mục kê năm 2002, không bồi thường
B12: Tổ dân phố Vĩnh Xuân, Phường Nam Nha Trang, tỉnh Khánh Hòa | D12: II/ Tài sản gắn liền với đất (1+2+3) | J12: =J13+J21+J24 -> 23985588
D13: 1- Công trình, vật kiến trúc: | J13: =SUM(J15:J20) -> 23933588
D14: * Căn cứ pháp lý áp dụng: - Biên bản kiểm kê khối lượng giải tỏa: ngày 19/6/2026 - Thông báo thu hồi đất: số 2510/TB-UBND ngày 15/5/2026 của UBND phường Nam Nha Trang. - Quyết định số 08/2026/QĐ-UBND ngày 22/01/2026 của UBND tỉnh Khánh Hòa Quy định đơn giá bồi thường thiệt hại về nhà, nhà ở, công trình xây dựng gắn liền với đất khi Nhà nước thu hồi đất và mức hỗ trợ để tháo dỡ, phá dỡ, di dời công trình xây dựng theo giấy phép xây dựng có thời hạn khi Nhà nước thu hồi đất trên địa bàn tỉnh Khánh Hoà; - Văn bản số 2093/SXD-KTVLXD ngày 05/3/2026 của Sở Xây Dựng V/v hướng dẫn triển khai thực hiện các Quyết định của UBND tỉnh. - Quyết định số 32/2026/QĐ-UBND ngày 29/4/2026 của UBND tỉnh Khánh Hòa Quy định một số biện pháp hỗ trợ khác khi Nhà nước thu hồi đất trên địa bàn tỉnh Khánh Hòa. - Căn cứ Xác nhận thông tin về cư trú số 000040/XN ngày 22/01/2025 của Công an xã Vĩnh Thái bà Trần Thị Tâm tạm trú tại thôn Vĩnh Xuân, xã Vĩnh Thái, thành phố Nha Trang.
D15: - Nhà vách tole, mái lợp tole, cột kèo sắt, cửa tole, nền gạch men, móng đá chẻ, hệ vệ sinh (có hầm tự hoại) DT: 10,2m x 5,1m = 52,02m² DTGT: 5,84m² DTCL: 52,2m² - 5,84m² = 46,18m² | E15: m²XD | F15: 5.84 | G15: =2401296*1.1+481600+(2401296*8.5%) -> 3327135.8 | I15: 0.8 | J15: =ROUND((F15*G15*I15),0) -> 15544378
D16: Áp đơn giá tại STT A16, PL1, Quyết định số 08/2026/QĐ-UBND ngày 22/01/2026 của UBND tỉnh Khánh Hòa. Đơn giá: 2.401.296 đ/m²XD. Đơn giá nhân hệ số điều chỉnh 1,1 vì có hệ vệ sinh (theo Mục I, STT 1 văn bản số 2093/SXD-KTVLXD ngày 05/3/2026 của Sở Xây dựng). Cộng thêm 481.600đ/m² vì nền gạch men (STT 37 mục A, Phụ lục I, Quyết định số 12/QĐ-UBND ngày 24/02/2026 (Áp theo Mục I, STT 03 văn bản số 2093/SXD-KTVLXD ngày 05/3/2026 của Sở Xây dựng). Tăng 8,5% vì cột kèo sắt, móng đá chẻ (theo Mục I, STT 12 văn bản số 2093/SXD-KTVLXD ngày 05/3/2026 của Sở Xây dựng) 2.401.296đ/m²XD x 1,1 + 481.600đ/m²XD + (2.401.296đ/m²XD x 8,5%) = 3.327.136 đ/m²XD
D17: - Hàng rào lưới B40, cột BTCT cao 1,5m dài 6,8m | E17: m dài | F17: 6.8 | G17: =537955 -> 537955 | I17: 1 | J17: =ROUND((F17*G17*I17),0) -> 3658094
D18: Áp giá tại phần C, STT11, Quyết định số 08/2026/QĐ-UBND ngày 22/01/2026 của UBND tỉnh Khánh Hòa. Đơn giá: 537.955 đ/md.
D19: - Móng xây đá chẻ (6,8 x 0,4 x 0,2) + (8,2 x 0,6 x 0,2) = 1,528m³ | E19: m³ | F19: =(6.8*0.4*0.2)+(8.2*0.6*0.2) -> 1.528 | G19: 3096280 | I19: 1 | J19: =ROUND((F19*G19*I19),0) -> 4731116
D20: Áp giá tại phần C, STT 48, Quyết định số 08/2026/QĐ-UBND ngày 22/01/2026 của UBND tỉnh Khánh Hòa. Đơn giá: 3.096.280 đ/m³.
D21: 2 - Tài sản khác: | J21: =SUM(J22:J23) -> 0
D22: - Công tơ điện 1 pha: 01 cái | F22: Không có Hợp đồng, hóa đơn thu tiền của điện lực
D23: - Đồng hồ nước: 01 cụm
D24: 3 - Cây trồng: | J24: =J26 -> 52000
D25: * Căn cứ pháp lý áp dụng: - Quyết định số 35/2026/QĐ-UBND ngày 04/5/2026 của UBND tỉnh Khánh Hòa ban hành quy định đơn giá bồi thường thiệt hại đối với cây trồng, vật nuôi khi Nhà nước thu hồi đất trên địa bàn tỉnh Khánh Hòa; - Văn bản số 9455/SNNMT-TTBVTV ngày 30/6/2026 của Sở Nông nghiệp và Môi trường V/v hướng dẫn áp dụng đơn giá bồi thường đối với cây trồng khi Nhà nước thu hồi đất theo QĐ số 35/2026/QĐ-UBND ngày 04/5/2026 của UBND tỉnh Khánh Hòa.
D26: - Keo lá tràm năm thứ 04: 01 cây - Áp giá tương đương Keo lá tràm năm thứ 3 | E26: cây | F26: 1 | G26: 52000 | I26: 1 | J26: =ROUND((F26*G26*I26),0) -> 52000
D27: III. Hỗ trợ chi phí di chuyển tài sản: Không | J27: 0
D28: IV/ Chính sách hỗ trợ (1+2): | J28: =J30+J29 -> 0
D29: 1. Hỗ trợ đào tạo, chuyển đổi nghề và tìm kiếm việc làm: (Hộ bà Trần Thị Tâm không trực tiếp sản xuất nông nghiệp trên đất) | F29: Hộ gia đình không trực tiếp sản xuất nông nghiệp tại vị trí thửa đất giải tỏa; không được bồi thường về đất nên không được hỗ trợ theo quy định tại Khoản 1, khoản 2 Điều 22 NĐ số 88/2024-NĐ-CP ngày 15/7/2024 và Điều 9, QĐ số 32/2026/QĐ-UBND ngày 29/4/2026 của UBND tỉnh Khánh Hòa
D30: 2. Hỗ trợ ổn định đời sống (Hộ bà Trần Thị Tâm thực tế không canh tác nông nghiệp trên đất) | F30: Hộ gia đình không được bồi thường về đất, thực tế không tham gia sản xuất nông nghiêp trên đất thu hồi nên không được hỗ trợ theo quy định tại Điều 19 NĐ số 88/2024-NĐ-CP ngày 15/7/2024 và Khoản 1, Điều 6, QĐ số 32/2026/QĐ-UBND ngày 29/4/2026 của UBND tỉnh Khánh Hòa
D31: * Tổng số tiền bồi thường, hỗ trợ | J31: =J5+J12+J28 -> 23985588
D32: V/ Hỗ trợ khen thưởng | J32: =J34 -> 2398558.8
D33: - Khoản 2, Điều 15 QĐ số 32/2026/QĐ-UBND ngày 29/4/2026 của UBND tỉnh Khánh Hòa:
D34: - Trường hợp thu hồi đất không thuộc các dự án quy định tại khoản 7 Điều 111 Luật Đất đai, bàn giao mặt bằng trước thời hạn quy định thì được khen thưởng 10% tổng giá trị bồi thường, hỗ trợ. Mức khen thưởng tối đa không vượt quá 8.000.000 (tám triệu) đồng /trường hợp; Trường hợp số tiền khen thưởng thấp hơn 1.000.000 (một triệu) đồng thì được khen thưởng là 1.000.000 (một triệu) đồng / trường hợp. | E34: TH | F34: 1 | G34: =IF(J31*10%>=8000000,8000000,IF(J31*10%<=1000000,1000000,J31*10%)) -> 2398558.8 | J34: =F34*G34 -> 2398558.8
D35: * Tổng số tiền bồi thường, hỗ trợ, khen thưởng (I+II+III+IV+V) | K35: =J31+J32 -> 26384147
D36: VI. Tái định cư:
D37: - Căn cứ Khoản 5 Điều 111 Luật Đất đai năm 2024, Điều 24 Nghị định số 88/NĐ-CP ngày 15/7/2024 của Chính phủ, Khoản 6 Điều 2 Nghị định số 226/2025/NĐ-CP ngày 15/8/2025 của Chính phủ | F37: Hộ gia đình không đủ điều kiện bố trí tái định cư do không được bồi thường đất ở và không phải di chuyển chỗ ở

Sheet L.T.MỸ HÒA (T62)
A1: II/ Kết quả bồi thường, hỗ trợ, tái định cư
A2: STT | B2: HỌ TÊN VÀ ĐỊA CHỈ (Nơi ở và nơi giải tỏa | C2: GIẤY TỜ NGUỒN GỐC NHÀ ĐẤT | D2: NỘI DUNG BỒI THƯỜNG, HỖ TRỢ | E2: Đơn vị tính | F2: Khối lượng BT, HT | G2: Đơn giá (đồng) | H2: Mức BT (%) | I2: Mức HT (%) | J2: Thành tiền (đồng) | K2: TỔNG TIỀN (đồng) | L2: Ký nhận
A3: 1 | B3: 2 | C3: 3 | D3: 4 | E3: 5 | F3: 6 | G3: 7 | H3: 8 | I3: 9 | J3: 10 | K3: 11 | L3: 12
A4: 6 | B4: Hộ bà Lê Thị Mỹ Hòa | C4: "* Giấy xác nhận về thửa đất bị thu hồi để phục vụ cho công tác bồi thường, hỗ trợ, tái định cư khi Nhà nước thu hồi đất số 9896/GXN-KTHTĐT ngày 04/8/2026 của Phòng Kinh tế, Hạ tầng và Đô thị phường Nam Nha Trang xác nhận: - Về thông tin nguồn gốc đất: * Thửa đất số 62 tờ bản đồ số 10 - 353599-1 (theo Bản đồ địa chính phường Nam Nha Trang - Đo đạc bổ sung): Tổng diện tích: 95,5m², diện tích thu hồi: 95,5m², diện tích còn lại: 0m² thuộc Bản đồ địa chính phường Nam Nha Trang được Sở Nông nghiệp và Môi trường thẩm định ngày 05/5/2026, đối chiếu tương ứng các thửa đất: + Theo Sổ dã ngoại và Bản đồ địa chính xã Vĩnh Thái năm 1996: Thửa đất chưa được đo vẽ. + Đối chiếu bản đồ và sổ mục kê năm 2002: Thửa đất thu hồi tương ứng thửa đất số 407, TBĐ 07, diện tích 3300m² , Loại đất: đất chưa sử dụng. Ghi chú đất UBND xã. + Đối chiếu Bản đồ ĐC và sổ mục kê năm 2015: Thửa đất thu hồi tương ứng một phần thửa đất số 200 tờ bản đồ số 10, diện tích: 3.277,6m², loại đất: BHK, do ông Nguyễn Văn Ọ đứng tên kê khai. + Vị trí thửa đất thu hồi nằm trong Danh sách Kết luận thanh tra Theo Thông báo số 749/TB-UBND-TTra ngày 18/6/2025 của Chủ tịch UBND thành phố Nha Trang, đính kèm Kết luận thanh tra số 511/KL-TTra-KTXH ngày 13/6/2025 của Chánh Thanh tra thành phố Nha Trang, tại Phụ lục I – STT 949 ghi nhận: thửa đất số 407, tờ bản đồ số 07, diện tích 3.300m2 (loại đất Hg/b) thuộc Danh sách các loại đất khác do Nhà nước quản lý theo Sổ mục kê năm 2002, hiện trạng do người dân đang sử dụng. + Nguồn gốc đất: * Theo giấy tờ nguồn gốc đất do hộ gia đình cung cấp: Nguồn gốc đất do ông Nguyễn Ọ chiếm trước năm 2012. Ngày 20/4/2011, ông Nguyễn Ọ lập đơn cho quyền sử dụng đất cho con trai là ông Nguyễn Thành Tâm và con dâu là bà Lê Thị Dầu, giấy viết tay, không có xác nhận của cơ quan có thẩm quyền. Sau đó, ông Nguyễn Thành Tâm và vợ là bà Lê Thị Dầu lập đơn cho quyền sử dụng đất cho con gái là bà Lê Thị Mỹ Hòa, giấy viết tay không ghi thời gian lập, không có xác nhận của cơ quan có thẩm quyền. Diện tích kê khai sử dụng của bà Lê Thị Mỹ Hòa là: - Tổng diện tích đất: 95,5m² - Diện tích thu hồi: 95,5m² - Diện tích còn lại: 0m² - Loại đất: BHK (Theo hồ sơ địa chính năm 2015). - Thời điểm sử dụng đất: sau 2015 theo HSĐC 2015 . -Thời điểm hình thành tài sản, vật kiến trúc: Sau năm 2015 đến trước thông báo thu hồi đất. - Thời điểm tạo lập cây trồng, vật nuôi: Sau năm 2015 đến trước thông báo thu hồi đất. - Tổng diện tích đất nông nghiệp của hộ gia đình tại thửa đất bị thu hồi: 95,5m² (diện tích lấn giao thông 2,6m²) - Tổng diện tích đất nông nghiệp của hộ gia đình tại địa phương: 95,5m² - Hộ bà Lê Thị Mỹ Hòa không trực tiếp sản xuất nông nghiệp tại vị trí thửa đất thu hồi. => Kết luận: Nguồn gốc sử dụng đất Thửa đất số 62, tờ bản đồ số 10 - 353599-1 (theo Bản đồ địa chính phường Nam Nha Trang - Đo đạc bổ sung), Tổng diện tích: 95,5m², diện tích thu hồi: 95,5m², diện tích còn lại: 0m2 thuộc Bản đồ địa chính phường Nam Nha Trang được Sở Nông nghiệp và Môi trường thẩm định ngày 05/5/2026, thuộc trường hợp hộ gia đình, cá nhân đang sử dụng đất do lấn đất hoặc chiếm đất do cơ quan, tổ chức của Nhà nước đã quản lý, được thể hiện trong hồ sơ địa chính (căn cứ Sổ mục kê năm 2002 và Thông báo số 749/TB-UBND-TTra ngày 18/6/2025 của Chủ tịch UBND thành phố Nha Trang, đính kèm Kết luận thanh tra số 511/KL-TTra-KTXH ngày 13/6/2025 của Chánh Thanh tra thành phố Nha Trang, Phụ lục I) - Quá trình sử dụng, thay đổi đất, nhà, vật kiến trúc xây dựng trên đất: * Thay đổi về sử dụng đất: - Thay đổi về diện tích, ranh giới sử dụng đất: không. - Thay đổi về mục đích sử dụng đất: không. * Thay đổi về nhà, vật kiến trúc, tài sản trên đất: không. * Thay đổi về địa chỉ thửa đất: không * Tình hình tranh chấp đối với thửa đất: - Hiện hộ bà Lê Thị Mỹ Hòa đang sử dụng ổn định phần diện tích 95,5m2từ sau năm 2015 cho đến nay, không lấn chiếm, không tranh chấp, không thuộc trường hợp đất 5%, đất công, đất khác do Nhà nước quản lý, không có đơn thư ngăn chặn, tài sản không bị phong toả để đảm bảo thi hành án. * Trường hợp diện tích đất thể hiện trên giấy tờ về quyền sử dụng đất có sự chênh lệch so với diện tích đất thực tế đang sử dụng: - Diện tích theo giấy tờ:m² - Diện tích đất thực tế đang sử dụng: m² - Diện tích đất chênh lệch tăng/giảm: * Trường hợp địa chỉ thửa đất thực tế đang sử dụng khác với địa chỉ thể hiện trên giấy tờ: - Địa chỉ thửa đất theo giấy tờ: thôn Vĩnh Xuân, xã Vĩnh Thái, Nha Trang - Địa chỉ đất giải tỏa: Tổ dân phố Vĩnh Xuân, phường Nam Nha Trang. Hai địa chỉ là cùng một thửa đất. * Các loại giấy tờ, tài liệu, người làm chứng làm căn cứ xác nhận các nội dung trên: (Giấy tờ kèm theo hồ sơ) - Hồ sơ địa chính xã năm 2002, 2015; - Biên bản họp xác minh nguồn gốc nhà, đất ngày 27/7/2026; - Biên bản kiểm kê khối lượng giải tỏa ngày 23/6/2026; - Phiếu xác nhận kết quả đo đạc địa chính Thửa đất số 51, tờ bản đồ số 10; - Bản tự kê khai ngày của bà Lê Thị Mỹ Hòa; - Giấy cho quyền sử dụng đất của ông Nguyễn Ọ cho ông Nguyễn Thành Tâm và bà Lê Thị Dầu, giấy viết tay ký ngày 20/4/2011 không có xác nhận của cơ quan có thẩm quyền. - Giấy cho quyền sử dụng đất củaông Nguyễn Thành Tâm và bà Lê Thị Dầu cho con là bà Lê Thị Mỹ Hòa, giấy viết tay, không có xác nhận của cơ quan có thẩm quyền. - CCCD số 056304011093 do Cục QLHC về TTXH cấp ngày 01/9/2021 cho bà Lê Thị Mỹ Hòa; - Văn bản số 12281/KTHTĐT ngày 22/9/2026 của Phòng Kinh tế, hạ tầng và đô thị phường Nam Nha Trang về việc góp ý phương án dự kiến bồi thường hỗ trợ, tái định cư của 19 trường hợp/ 19 thửa thuộc Dự án thành phần 1: Dự án thành phần giải phóng mặt bằng phục vụ dự án xây dựng Bệnh viện Đa khoa tỉnh Khánh Hòa thành Bệnh viện khu vực duyên hải Nam Trung Bộ tại phường Nam Nha Trang, tỉnh Khánh Hòa.
B5: CCCD số 056304011093 do Cục QLHC về TTXH cấp ngày 01/9/2021 cho bà Lê Thị Mỹ Hòa | D5: I/ Về đất | J5: 0
D6: - Diện tích (thửa số 62 - tờ BĐ số 353599-1) | E6: m² | F6: 95.5
D7: + DT đất thu hồi: | E7: m² | F7: 95.5
D8: + DT đất còn lại | E8: m² | F8: 0
B9: - Địa chỉ thường trú: | D9: 1. Về đất: | E9: m²
B10: Thôn Thái Thông, Phường Nam Nha Trang, tỉnh Khánh Hòa | D10: ** Căn cứ pháp lý áp dụng: - Căn cứ Khoản 2, Điều 101 Luật đất đai năm 2024: " Trường hợp không được bồi thường về đất khi Nhà nước thu hồi đất: Đất do cơ quan tổ chức Nhà nước quản lý quy định tại Điều 217 của Luật này" - Căn cứ Điểm b, Khoản 1, Điều 217 Luật Đất đai năm 2024: "Đất do cơ quan, tổ chức của Nhà nước quản lý là đất chưa giao, chưa cho thuê hoặc đã được giao đất để quản lý, bao gồm: Đất sông, ngòi, kênh, rạch, suối, ao, hồ, đầm, phá....."
B11: - Địa chỉ giải tỏa: | D11: - Diện tích đất không bồi thường: | E11: m² | F11: =F7 -> 95.5 | G11: Vị trí thửa đất thu hồi nằm trong Danh sách Kết luận thanh tra thuộc Danh sách các loại đất khác do Nhà nước quản lý theo Sổ mục kê năm 2002, không bồi thường
B12: Tổ dân phố Vĩnh Xuân, Phường Nam Nha Trang, tỉnh Khánh Hòa | D12: II/ Tài sản gắn liền với đất (1+2+3) | J12: =J13+J19+J20 -> 12096869
D13: 1- Công trình, vật kiến trúc: | J13: =SUM(J15:J18) -> 9204869
D14: * Căn cứ pháp lý áp dụng: - Biên bản kiểm kê khối lượng giải tỏa: ngày23/6/2026 - Thông báo thu hồi đất: số 2510/TB-UBND ngày 15/5/2026 của UBND phường Nam Nha Trang. - Quyết định số 08/2026/QĐ-UBND ngày 22/01/2026 của UBND tỉnh Khánh Hòa Quy định đơn giá bồi thường thiệt hại về nhà, nhà ở, công trình xây dựng gắn liền với đất khi Nhà nước thu hồi đất và mức hỗ trợ để tháo dỡ, phá dỡ, di dời công trình xây dựng theo giấy phép xây dựng có thời hạn khi Nhà nước thu hồi đất trên địa bàn tỉnh Khánh Hoà; - Văn bản số 2093/SXD-KTVLXD ngày 05/3/2026 của Sở Xây Dựng V/v hướng dẫn triển khai thực hiện các Quyết định của UBND tỉnh. - Quyết định số 32/2026/QĐ-UBND ngày 29/4/2026 của UBND tỉnh Khánh Hòa Quy định một số biện pháp hỗ trợ khác khi Nhà nước thu hồi đất trên địa bàn tỉnh Khánh Hòa.
D15: - Móng xây đá chẻ (3,9m + 4,5m + 18,7m + 5,7m) x 0,4 x 0,2 = 2,624m³ | E15: m³ | F15: =(3.9+4.5+18.7+5.7)*0.4*0.2 -> 2.624 | G15: 3096390 | I15: 1 | J15: =ROUND((F15*G15*I15),0) -> 8124927
D16: Áp giá tại phần C, STT 48, Quyết định số 08/2026/QĐ-UBND ngày 22/01/2026 của UBND tỉnh Khánh Hòa. Đơn giá: 3.096.280 đ/m³.
D17: - Hàng rào cột gỗ + dây thép gai (2 dây) cao 1,4m dài 3,3m | E17: m dài | F17: 3.3 | G17: =ROUND((357656-(357656*8.5%)),0) -> 327255 | I17: 1 | J17: =ROUND((F17*G17*I17),0) -> 1079942
D18: Áp giá tại phần C, STT12.1, Quyết định số 08/2026/QĐ-UBND ngày 22/01/2026 của UBND tỉnh Khánh Hòa. Đơn giá: 357.656 đ/md. Đơn giá giảm 8,5% vì không móng (theo Mục I, STT 12 văn bản số 2093/SXD-KTVLXD ngày 05/3/2026 của Sở Xây dựng) 357.656đ/md - (357.656đ/md x 8,5%) = 327.255đ/md
D19: 2 - Tài sản khác: | J19: 0
D20: 3 - Cây trồng: | J20: =SUM(J22:J25) -> 2892000
D21: * Căn cứ pháp lý áp dụng: - Quyết định số 35/2026/QĐ-UBND ngày 04/5/2026 của UBND tỉnh Khánh Hòa ban hành quy định đơn giá bồi thường thiệt hại đối với cây trồng, vật nuôi khi Nhà nước thu hồi đất trên địa bàn tỉnh Khánh Hòa; - Văn bản số 9455/SNNMT-TTBVTV ngày 30/6/2026 của Sở Nông nghiệp và Môi trường V/v hướng dẫn áp dụng đơn giá bồi thường đối với cây trồng khi Nhà nước thu hồi đất theo QĐ số 35/2026/QĐ-UBND ngày 04/5/2026 của UBND tỉnh Khánh Hòa.
D22: - Dừa xiêm 04 năm: 02 cây (áp giá PL1 - STT 18, ĐG: 997.000đ/m²) | E22: cây | F22: 2 | G22: 997000 | I22: 1 | J22: =ROUND((F22*G22*I22),0) -> 1994000
D23: - Bạch đàn năm thứ 04: 02 cây - Áp giá tương đương cây Bạch đàn năm thứ 3 | E23: cây | F23: 2 | G23: 53000 | I23: 1 | J23: =ROUND((F23*G23*I23),0) -> 106000
D24: - Trứng cá loại A: 02 cây (áp giá tương đương cây dâu tằm PL2 - STT 13, ĐG: 168.000đ/m²) | E24: cây | F24: 2 | G24: 168000 | I24: 1 | J24: =ROUND((F24*G24*I24),0) -> 336000
D25: - Bồ đề loại A: 02 cây (áp giá tương đương cây Bồ Quân PL2 - STT 3, ĐG: 228.000đ/m²) | E25: cây | F25: 2 | G25: 228000 | I25: 1 | J25: =ROUND((F25*G25*I25),0) -> 456000
D26: III. Hỗ trợ chi phí di chuyển tài sản: Không | J26: 0
D27: IV/ Chính sách hỗ trợ (1+2+3): | J27: =J29+J28 -> 0
D28: 1. Hỗ trợ đào tạo, chuyển đổi nghề và tìm kiếm việc làm: (Hộ bà Lê Thị Mỹ Hòa không trực tiếp sản xuất nông nghiệp trên đất) | F28: Hộ gia đình không trực tiếp sản xuất nông nghiệp tại vị trí thửa đất giải tỏa; không được bồi thường về đất nên không được hỗ trợ theo quy định tại Khoản 1, khoản 2 Điều 22 NĐ số 88/2024-NĐ-CP ngày 15/7/2024 và Điều 9, QĐ số 32/2026/QĐ-UBND ngày 29/4/2026 của UBND tỉnh Khánh Hòa
D29: 2. Hỗ trợ ổn định đời sống (Hộ bà Lê Thị Mỹ Hòa thực tế không canh tác nông nghiệp trên đất) | F29: Hộ gia đình không được bồi thường về đất, thực tế không tham gia sản xuất nông nghiêp trên đất thu hồi nên không được hỗ trợ theo quy định tại Điều 19 NĐ số 88/2024-NĐ-CP ngày 15/7/2024 và Khoản 1, Điều 6, QĐ số 32/2026/QĐ-UBND ngày 29/4/2026 của UBND tỉnh Khánh Hòa
D30: * Tổng số tiền bồi thường, hỗ trợ | J30: =J5+J12+J27 -> 12096869
D31: V/ Hỗ trợ khen thưởng | J31: =J33 -> 1209686.9
D32: - Khoản 2, Điều 15 QĐ số 32/2026/QĐ-UBND ngày 29/4/2026 của UBND tỉnh Khánh Hòa:
D33: - Trường hợp thu hồi đất không thuộc các dự án quy định tại khoản 7 Điều 111 Luật Đất đai, bàn giao mặt bằng trước thời hạn quy định thì được khen thưởng 10% tổng giá trị bồi thường, hỗ trợ. Mức khen thưởng tối đa không vượt quá 8.000.000 (tám triệu) đồng /trường hợp; Trường hợp số tiền khen thưởng thấp hơn 1.000.000 (một triệu) đồng thì được khen thưởng là 1.000.000 (một triệu) đồng / trường hợp. | E33: TH | F33: 1 | G33: =IF(J30*10%>=8000000,8000000,IF(J30*10%<=1000000,1000000,J30*10%)) -> 1209686.9 | J33: =F33*G33 -> 1209686.9
D34: * Tổng số tiền bồi thường, hỗ trợ, khen thưởng (I+II+III+IV+V) | K34: =J5+J12+J26+J27+J31 -> 13306556
D35: VI. Tái định cư:
D36: - Căn cứ Khoản 5 Điều 111 Luật Đất đai năm 2024, Điều 24 Nghị định số 88/NĐ-CP ngày 15/7/2024 của Chính phủ, Khoản 6 Điều 2 Nghị định số 226/2025/NĐ-CP ngày 15/8/2025 của Chính phủ | F36: Hộ gia đình không đủ điều kiện bố trí tái định cư do không được bồi thường đất ở và không phải di chuyển chỗ ở

Sheet N.T.CẨM VÂN (T60)
A1: II/ Kết quả bồi thường, hỗ trợ, tái định cư
A2: STT | B2: HỌ TÊN VÀ ĐỊA CHỈ (Nơi ở và nơi giải tỏa | C2: GIẤY TỜ NGUỒN GỐC NHÀ ĐẤT | D2: NỘI DUNG BỒI THƯỜNG, HỖ TRỢ | E2: Đơn vị tính | F2: Khối lượng BT, HT | G2: Đơn giá (đồng) | H2: Mức BT (%) | I2: Mức HT (%) | J2: Thành tiền (đồng) | K2: TỔNG TIỀN (đồng) | L2: Ký nhận
A3: 1 | B3: 2 | C3: 3 | D3: 4 | E3: 5 | F3: 6 | G3: 7 | H3: 8 | I3: 9 | J3: 10 | K3: 11 | L3: 12
A4: 7 | B4: Hộ bà Nguyễn Thị Cẩm Vân | C4: "* Giấy xác nhận về thửa đất bị thu hồi để phục vụ cho công tác bồi thường, hỗ trợ, tái định cư khi Nhà nước thu hồi đất số 9894/GXN-KTHTĐT ngày 04/8/2026 của Phòng Kinh tế, Hạ tầng và Đô thị phường Nam Nha Trang xác nhận: - Về thông tin nguồn gốc đất: * Thửa đất số 60 tờ bản đồ số 10 - 353599-1 (theo Bản đồ địa chính phường Nam Nha Trang - Đo đạc bổ sung): Tổng diện tích: 174,5m², diện tích thu hồi: 174,5m², diện tích còn lại: 0m² thuộc Bản đồ địa chính phường Nam Nha Trang được Sở Nông nghiệp và Môi trường thẩm định ngày 05/5/2026, đối chiếu tương ứng các thửa đất: + Theo Sổ dã ngoại và Bản đồ địa chính xã Vĩnh Thái năm 1996: Thửa đất chưa được đo vẽ. + Đối chiếu sổ bản đồ và sổ mục kê năm 2002: tương ứng thửa đất số 407, TBĐ 07, diện tích 3300m², Loại đất: đất chưa sử dụng và một phần diện tích đất giao thông, ghi chú đất UBND xã. + Đối chiếu Bản đồ ĐC và sổ mục kê năm 2015: Tương ứng một phần thửa đất số 200 tờ bản đồ số 10; diện tích: 3.277,6m²; loại đất: BHK,do ông Nguyễn Văn Ọ đứng tên kê khai; + tương ứng một phần thửa đất số 287, TBĐ 10, diện tích: 11560,2m²; loại đất: DTL, do UBND phường quản lý, diện tích 7,3m² + Vị trí thửa đất thu hồi nằm trong Danh sách Kết luận thanh tra Theo Thông báo số 749/TB-UBND-TTra ngày 18/6/2025 của Chủ tịch UBND thành phố Nha Trang, đính kèm Kết luận thanh tra số 511/KL-TTra-KTXH ngày 13/6/2025 của Chánh Thanh tra thành phố Nha Trang, tại Phụ lục I – STT 949 ghi nhận: thửa đất số 407, tờ bản đồ số 07, diện tích 3.300m² (loại đất Hg/b) thuộc Danh sách các loại đất khác do Nhà nước quản lý theo Sổ mục kê năm 2002, hiện trạng do người dân đang sử dụng. + Nguồn gốc đất: * Theo giấy tờ nguồn gốc đất do hộ gia đình cung cấp: Nguồn gốc đất do ông Nguyễn Ọ chiếm trước năm 2012. Ngày 26/4/2012, ông Nguyễn Ọ lập đơn cho quyền sử dụng đất cho con gái là bà Nguyễn Thị Cẩm Vân, giấy viết tay, không có xác nhận của cơ quan có thẩm quyền. Diện tích kê khai sử dụng của hộ bà Nguyễn Thị Cẩm Vân là: - Tổng diện tích đất: 174,5m² - Diện tích thu hồi: 174,5m² (diện tích lấn đất thủy lợi 7,3m²) - Diện tích còn lại: 0m² - Loại đất: BHK (Theo hồ sơ địa chính năm 2015+2002) - Thời điểm sử dụng đất: sau năm 2015. -Thời điểm hình thành tài sản, vật kiến trúc: Sau năm 2015 đến trước thông báo thu hồi đất. (Hiện trạng trên đất có nhà) - Thời điểm tạo lập cây trồng, vật nuôi: Sau năm 2015 đến trước thông báo thu hồi đất. - Tổng diện tích đất nông nghiệp của hộ gia đình tại thửa đất bị thu hồi: 174,5m² (diện tích lấn đất thủy lợi 7,3m²) - Tổng diện tích đất nông nghiệp của hộ gia đình tại địa phương: 174,5m² - Hộ bà Nguyễn Thị Cẩm Vân không trực tiếp sản xuất nông nghiệp tại vị trí thửa đất thu hồi. - Tình trạng có ăn ở, sinh hoạt tại vị trí thửa đất thu hồi: Căn cứ theo xác minh của Công an phường Nam Nha Trang về tình trạng ăn ở và quá trình cư trú của hộ gia đình tại vị trí thửa đất thu hồi. => Kết luận: Nguồn gốc sử dụng đất Thửa đất số 60, tờ bản đồ số 10 - 353599-1 (theo Bản đồ địa chính phường Nam Nha Trang - Đo đạc bổ sung), Tổng diện tích: 174,5m², diện tích thu hồi: 174,5m², diện tích còn lại: 0m2 thuộc Bản đồ địa chính phường Nam Nha Trang được Sở Nông nghiệp và Môi trường thẩm định ngày 05/5/2026, thuộc trường hợp hộ gia đình, cá nhân đang sử dụng đất do lấn đất hoặc chiếm đất do cơ quan, tổ chức của Nhà nước đã quản lý, được thể hiện trong hồ sơ địa chính (căn cứ Sổ mục kê năm 2002 và Thông báo số 749/TB-UBND-TTra ngày 18/6/2025 của Chủ tịch UBND thành phố Nha Trang, đính kèm Kết luận thanh tra số 511/KL-TTra-KTXH ngày 13/6/2025 của Chánh Thanh tra thành phố Nha Trang, Phụ lục I) - Quá trình sử dụng, thay đổi đất, nhà, vật kiến trúc xây dựng trên đất: * Thay đổi về sử dụng đất: - Thay đổi về diện tích, ranh giới sử dụng đất: không. - Thay đổi về mục đích sử dụng đất: không. * Thay đổi về nhà, vật kiến trúc, tài sản trên đất: không. * Thay đổi về địa chỉ thửa đất: không * Tình hình tranh chấp đối với thửa đất: - Hiện hộ bà Nguyễn Thị Cẩm Vân đang sử dụng ổn định phần diện tích 174,5m2từ sau năm 2015 cho đến nay, không lấn chiếm, không tranh chấp, không thuộc trường hợp đất 5%, đất công, đất khác do Nhà nước quản lý, không có đơn thư ngăn chặn, tài sản không bị phong toả để đảm bảo thi hành án. * Trường hợp diện tích đất thể hiện trên giấy tờ về quyền sử dụng đất có sự chênh lệch so với diện tích đất thực tế đang sử dụng: - Diện tích theo giấy tờ:m² - Diện tích đất thực tế đang sử dụng: m² - Diện tích đất chênh lệch tăng/giảm: * Trường hợp địa chỉ thửa đất thực tế đang sử dụng khác với địa chỉ thể hiện trên giấy tờ: - Địa chỉ thửa đất theo giấy tờ: thôn Vĩnh Xuân, xã Vĩnh Thái, Nha Trang - Địa chỉ đất giải tỏa: Tổ dân phố Vĩnh Xuân, phường Nam Nha Trang. Hai địa chỉ là cùng một thửa đất. * Các loại giấy tờ, tài liệu, người làm chứng làm căn cứ xác nhận các nội dung trên: (Giấy tờ kèm theo hồ sơ) - Hồ sơ địa chính xã năm 2002, 2015; - Biên bản họp xác minh nguồn gốc nhà, đất ngày 27/7/2026; - Biên bản kiểm kê khối lượng giải tỏa ngày 23/6/2026; - Phiếu xác nhận kết quả đo đạc địa chính Thửa đất số 60, tờ bản đồ số 10; - Bản tự kê khai ngày của bà Nguyễn Thị Cẩm Vân; - Giấy cho quyền sử dụng đất của ông Nguyễn Ọ cho bà Nguyễn Thị Cẩm Vân, giấy viết tay ký ngày 26/4/2012 không có xác nhận của cơ quan có thẩm quyền. - Sổ tạm trú số 330062523 do Công an xã Vĩnh Thái cấp ngày 20/12/2011. - Văn bản số 12281/KTHTĐT ngày 22/9/2026 của Phòng Kinh tế, hạ tầng và đô thị phường Nam Nha Trang về việc góp ý phương án dự kiến bồi thường hỗ trợ, tái định cư của 19 trường hợp/ 19 thửa thuộc Dự án thành phần 1: Dự án thành phần giải phóng mặt bằng phục vụ dự án xây dựng Bệnh viện Đa khoa tỉnh Khánh Hòa thành Bệnh viện khu vực duyên hải Nam Trung Bộ tại phường Nam Nha Trang, tỉnh Khánh Hòa.
B5: CCCD số 056178009315 do Cục QLHC về TTXH cấp ngày 14/8/2021 cho bà Nguyễn Thị Cẩm Vân | D5: I/ Về đất | J5: 0
D6: - Diện tích (thửa số 60 - tờ BĐ số 353599-1) | E6: m² | F6: 174.5
D7: + DT đất thu hồi: | E7: m² | F7: 174.5
D8: + DT đất còn lại | E8: m² | F8: 0
D9: 1. Về đất:
B10: - Địa chỉ thường trú: 63 Phan Đình Giót, phường Tây Nha Trang, tỉnh Khánh Hòa | D10: ** Căn cứ pháp lý áp dụng: - Căn cứ Khoản 2, Điều 101 Luật đất đai năm 2024: " Trường hợp không được bồi thường về đất khi Nhà nước thu hồi đất: Đất do cơ quan tổ chức Nhà nước quản lý quy định tại Điều 217 của Luật này" - Căn cứ Điểm b, Khoản 1, Điều 217 Luật Đất đai năm 2024: "Đất do cơ quan, tổ chức của Nhà nước quản lý là đất chưa giao, chưa cho thuê hoặc đã được giao đất để quản lý, bao gồm: Đất sông, ngòi, kênh, rạch, suối, ao, hồ, đầm, phá....."
D11: - Diện tích đất không bồi thường: | E11: m² | F11: =F7 -> 174.5 | G11: Vị trí thửa đất thu hồi nằm trong Danh sách Kết luận thanh tra thuộc Danh sách các loại đất khác do Nhà nước quản lý theo Sổ mục kê năm 2002, không bồi thường
D12: II/ Tài sản gắn liền với đất (1+2+3) | J12: =J13+J26+J29 -> 167341837
B13: - Địa chỉ giải tỏa: | D13: 1- Công trình, vật kiến trúc: | J13: =SUM(J15:J25) -> 138463837
B14: Tổ dân phố Vĩnh Xuân, Phường Nam Nha Trang, tỉnh Khánh Hòa | D14: * Căn cứ pháp lý áp dụng: - Biên bản kiểm kê khối lượng giải tỏa: ngày 23/6/2026 - Thông báo thu hồi đất: số 2510/TB-UBND ngày 15/5/2026 của UBND phường Nam Nha Trang. - Quyết định số 08/2026/QĐ-UBND ngày 22/01/2026 của UBND tỉnh Khánh Hòa Quy định đơn giá bồi thường thiệt hại về nhà, nhà ở, công trình xây dựng gắn liền với đất khi Nhà nước thu hồi đất và mức hỗ trợ để tháo dỡ, phá dỡ, di dời công trình xây dựng theo giấy phép xây dựng có thời hạn khi Nhà nước thu hồi đất trên địa bàn tỉnh Khánh Hoà; - Văn bản số 2093/SXD-KTVLXD ngày 05/3/2026 của Sở Xây Dựng V/v hướng dẫn triển khai thực hiện các Quyết định của UBND tỉnh. - Quyết định số 32/2026/QĐ-UBND ngày 29/4/2026 của UBND tỉnh Khánh Hòa Quy định một số biện pháp hỗ trợ khác khi Nhà nước thu hồi đất trên địa bàn tỉnh Khánh Hòa. - Căn cứ Biên bản làm việc về nội dung: xác minh tình trạng sinh sống ăn ở thực tế tại địa phương ngày 19/8/2026 Tổ công tác xác nhận bà Nguyễn Thị Cẩm Vân thường xuyên sinh sống, ăn ở, sinh hoạt tại khu vực UBND phường Nam Nha Trang ban hành Thông báo số 2510/TB-UBND ngày 15/05/2026 về việc thu hồi đất để thực hiện dự án Bệnh viện đa khoa tỉnh Khánh Hòa.
D15: - Nhà mái lợp tole, cột kèo sắt, vách tole, cửa tole, có hệ vệ sinh trong nhà (có hầm tự hoại) + DT nhà có nền lát gạch men: DTXD: 6m x 4,6m = 27,6m²; DTGT: 27,6m² + DT nhà có nền xi măng: 2,1m x 4,6m = 9,66m²; DTGT: 9,66m²
D16: + Nhà mái lợp tole, cột kèo sắt, vách tole, cửa tole, có hệ vệ sinh trong nhà (có hầm tự hoại) + Nền lát gạch men: DTXD: 6m x 4,6m = 27,6m²; DTGT: 27,6m² | E16: m²XD | F16: =6*4.6 -> 27.6 | G16: =ROUND(((2309288*1.1)+481600-(2309288*8.5%)),0) -> 2825527 | I16: 0.8 | J16: =ROUND((F16*G16*I16),0) -> 62387636
D17: Áp giá tại STT A18, PLI Quyết định số 08/2026/QĐ-UBND ngày 22/01/2026 của UBND tỉnh Khánh Hòa, đơn giá: 2.309.288 đ/m²XD. Đơn giá điều chỉnh giảm 8,5% vì không trần (theo Mục I, STT 12 văn bản số 2093/SXD-KTVLXD ngày 05/3/2026 của Sở Xây dựng), đơn giá nhân hệ số điều chỉnh 1,1 vì có hệ vệ sinh (theo Mục I, STT 1 văn bản số 2093/SXD-KTVLXD ngày 05/3/2026 của Sở Xây dựng). Cộng thêm 481.600đ/m² vì nền gạch men (STT 37 mục A, Phụ lục I, Quyết định số 12/QĐ-UBND ngày 24/02/2026 (Áp theo Mục I, STT 03 văn bản số 2093/SXD-KTVLXD ngày 05/3/2026 của Sở Xây dựng) [(2.309.288 đ/m²XD x 1,1) + 481.600đ/m²] - (2.309.288 đ/m²XD x 8,5%) = 2.825.527đ/m²XD
D18: + Nhà mái lợp tole, cột kèo sắt, vách tole, cửa tole, có hệ vệ sinh trong nhà (có hầm tự hoại) + DT nhà có nền xi măng: 2,1m x 4,6m = 9,66m²; DTGT: 9,66m² | E18: m²XD | F18: =2.1*4.6 -> 9.66 | G18: =ROUND(((2309288*1.1) - (2309288*8.5%)),0) -> 2343927 | I18: 0.8 | J18: =ROUND((F18*G18*I18),0) -> 18113868
D19: Áp giá tại STT A18, PLI Quyết định số 08/2026/QĐ-UBND ngày 22/01/2026 của UBND tỉnh Khánh Hòa, đơn giá: 2.309.288 đ/m²XD. Đon giá điều chỉnh giảm 8,5% vì không trần (theo Mục I, STT 12 văn bản số 2093/SXD-KTVLXD ngày 05/3/2026 của Sở Xây dựng), đơn giá nhân hệ số điều chỉnh 1,1 vì có hệ vệ sinh (theo Mục I, STT 1 văn bản số 2093/SXD-KTVLXD ngày 05/3/2026 của Sở Xây dựng). 2.309.288 đ/m²XD x 1,1 - (2.309.288 đ/m² x 8,5%) = 2.343.927đ/m²XD
D20: - Mái che cột kèo sắt, mái lợp tole, nền xi măng DTXD = DTGT = 3,3m x 8,1m = 26,73m² | E20: m²XD | F20: =3.3*8.1 -> 26.73 | G20: 1259097 | I20: 0.8 | J20: =ROUND((F20*G20*I20),0) -> 26924530
D21: Áp đơn giá tại phụ lục STT C.04, Quyết định số 08/2026/QĐ-UBND ngày 22/01/2026 của UBND tỉnh Khánh Hòa, đơn giá: 1.259.097 đ/m²XD.
D22: - Nền xi măng bê tông lót DT: (1,9m x 3,3m) + (7,8m x 2,1m) = 22,65m²XD | E22: m²XD | F22: =(1.9*3.3)+(7.8*2.1) -> 22.65 | G22: 230583 | I22: 0.7 | J22: =ROUND((F22*G22*I22),0) -> 3655893
D23: Áp đơn giá tại STT C17 Quyết định số 08/2026/QĐ-UBND ngày 22/01/2026 của UBND tỉnh Khánh Hòa. Đơn giá: 230.583đ/m².
D24: - Hàng rào lưới B40, trụ BTCT cao 1,5m dài 50,90m (18 trụ BTCT) | E24: m dài | F24: 50.9 | G24: 537955 | I24: 1 | J24: =ROUND((F24*G24*I24),0) -> 27381910
D25: Áp giá tại phần C, STT 11, Quyết định số 08/2026/QĐ-UBND ngày 22/01/2026 của UBND tỉnh Khánh Hòa, đơn giá: 537.955 đ/md.
D26: 2 - Tài sản khác: | J26: =SUM(J27:J28) -> 0
D27: - Công tơ điện: 01 cái | E27: cái | F27: Không có Hợp đồng, hóa đơn thu tiền của điện lực
D28: - Đồng hồ nước: 01 cụm | E28: cụm
D29: 3 - Cây trồng: | J29: =SUM(J31:J46) -> 28878000
D30: * Căn cứ pháp lý áp dụng: - Quyết định số 35/2026/QĐ-UBND ngày 04/5/2026 của UBND tỉnh Khánh Hòa ban hành quy định đơn giá bồi thường thiệt hại đối với cây trồng, vật nuôi khi Nhà nước thu hồi đất trên địa bàn tỉnh Khánh Hòa; - Văn bản số 9455/SNNMT-TTBVTV ngày 30/6/2026 của Sở Nông nghiệp và Môi trường V/v hướng dẫn áp dụng đơn giá bồi thường đối với cây trồng khi Nhà nước thu hồi đất theo QĐ số 35/2026/QĐ-UBND ngày 04/5/2026 của UBND tỉnh Khánh Hòa.
D31: - Xoài hạt loại C: 02 cây | E31: cây | F31: 2 | G31: 4933000 | I31: 1 | J31: =ROUND((F31*G31*I31),0) -> 9866000
D32: - Bưởi loại A: 12 cây | E32: cây | F32: 12 | G32: 986000 | I32: 1 | J32: =ROUND((F32*G32*I32),0) -> 11832000
D33: - Bưởi loại C: 02 cây | E33: cây | F33: 2 | G33: 824000 | I33: 1 | J33: =ROUND((F33*G33*I33),0) -> 1648000
D34: - Mãng cầu loại A: 02 cây | E34: cây | F34: 2 | G34: 593000 | I34: 1 | J34: =ROUND((F34*G34*I34),0) -> 1186000
D35: - Dừa xiêm loại A: 01 cây | E35: cây | F35: 1 | G35: 1844000 | I35: 1 | J35: =ROUND((F35*G35*I35),0) -> 1844000
D36: - Me năm loại 4 năm: 01 cây | E36: cây | F36: 1 | G36: 185000 | I36: 1 | J36: =ROUND((F36*G36*I36),0) -> 185000
D37: - Thanh long loại A: 02 bụi | E37: bụi | F37: 2 | G37: 169000 | I37: 1 | J37: =ROUND((F37*G37*I37),0) -> 338000
D38: - Bạch đàn năm thứ 04: 02 cây - Áp giá tương đương bạch đàn năm thứ 3 | E38: cây | F38: 2 | G38: 53000 | I38: 1 | J38: =ROUND((F38*G38*I38),0) -> 106000
D39: - Xưa năm thứ 04: 01 cây | E39: cây | F39: 1 | G39: 114000 | I39: 1 | J39: =ROUND((F39*G39*I39),0) -> 114000
D40: - Chùm ngây loại B: 01 cây | E40: cây | F40: 1 | G40: 141000 | I40: 1 | J40: =ROUND((F40*G40*I40),0) -> 141000
D41: - Trúc loại A: 01 bụi | E41: bụi | F41: 1 | G41: 84000 | I41: 1 | J41: =ROUND((F41*G41*I41),0) -> 84000
D42: - Sanh loại A: 03 cây - Áp giá tương đương cây bồ quân STT II.3. ĐG: 228.000đồng | E42: cây | F42: 3 | G42: 228000 | I42: 1 | J42: =ROUND((F42*G42*I42),0) -> 684000
... D46: - Hoa nhài loại A: 01 cây - Áp giá tương đương cây Gòn STT II.19. ĐG: 125.000đồng | E46: cây | F46: 1 | G46: 125000 | I46: 1 | J46: =ROUND((F46*G46*I46),0) -> 125000
D47: III. Hỗ trợ chi phí di chuyển tài sản: Không | J47: 0
D48: IV/ Chính sách hỗ trợ (1+2+3): | J48: =J50 -> 0
D49: 1. Hỗ trợ đào tạo, chuyển đổi nghề và tìm kiếm việc làm: (Hộ bà Nguyễn Thị Cẩm Vân không trực tiếp sản xuất nông nghiệp trên đất) | F49: Hộ gia đình không trực tiếp sản xuất nông nghiệp tại vị trí thửa đất giải tỏa; không được bồi thường về đất nên không được hỗ trợ theo quy định tại Khoản 1, khoản 2 Điều 22 NĐ số 88/2024-NĐ-CP ngày 15/7/2024 và Điều 9, QĐ số 32/2026/QĐ-UBND ngày 29/4/2026 của UBND tỉnh Khánh Hòa
D50: 2. Hỗ trợ ổn định đời sống (Hộ bà Nguyễn Thị Cẩm Vân thực tế không canh tác nông nghiệp trên đất) | F50: Hộ gia đình không được bồi thường về đất, thực tế không tham gia sản xuất nông nghiêp trên đất thu hồi nên không được hỗ trợ theo quy định tại Điều 19 NĐ số 88/2024-NĐ-CP ngày 15/7/2024 và Khoản 1, Điều 6, QĐ số 32/2026/QĐ-UBND ngày 29/4/2026 của UBND tỉnh Khánh Hòa
D51: * Tổng số tiền bồi thường, hỗ trợ | J51: =J5+J12+J48 -> 167341837
D52: V/ Hỗ trợ khen thưởng | J52: =J54 -> 8000000
D53: - Khoản 2, Điều 15 QĐ số 32/2026/QĐ-UBND ngày 29/4/2026 của UBND tỉnh Khánh Hòa:
D54: - Trường hợp thu hồi đất không thuộc các dự án quy định tại khoản 7 Điều 111 Luật Đất đai, bàn giao mặt bằng trước thời hạn quy định thì được khen thưởng 10% tổng giá trị bồi thường, hỗ trợ. Mức khen thưởng tối đa không vượt quá 8.000.000 (tám triệu) đồng /trường hợp; Trường hợp số tiền khen thưởng thấp hơn 1.000.000 (một triệu) đồng thì được khen thưởng là 1.000.000 (một triệu) đồng / trường hợp. | E54: TH | F54: 1 | G54: =IF(J51*10%>=8000000,8000000,IF(J51*10%<=1000000,1000000,J51*10%)) -> 8000000 | J54: =F54*G54 -> 8000000
D55: * Tổng số tiền bồi thường, hỗ trợ, khen thưởng (I+II+III+IV+V) | K55: =J51+J52 -> 175341837
D56: VI. Tái định cư:
D57: - Căn cứ Khoản 5 Điều 111 Luật Đất đai năm 2024, Điều 24 Nghị định số 88/NĐ-CP ngày 15/7/2024 của Chính phủ, Khoản 6 Điều 2 Nghị định số 226/2025/NĐ-CP ngày 15/8/2025 của Chính phủ | F57: Hộ gia đình không đủ điều kiện bố trí tái định cư do không được bồi thường đất ở và không phải di chuyển chỗ ở

Sheet L.THỊ DẦU (T61)
A1: II/ Kết quả bồi thường, hỗ trợ, tái định cư
A2: STT | B2: HỌ TÊN VÀ ĐỊA CHỈ (Nơi ở và nơi giải tỏa | C2: GIẤY TỜ NGUỒN GỐC NHÀ ĐẤT | D2: NỘI DUNG BỒI THƯỜNG, HỖ TRỢ | E2: Đơn vị tính | F2: Khối lượng BT, HT | G2: Đơn giá (đồng) | H2: Mức BT (%) | I2: Mức HT (%) | J2: Thành tiền (đồng) | K2: TỔNG TIỀN (đồng) | L2: Ký nhận
A3: 1 | B3: 2 | C3: 3 | D3: 4 | E3: 5 | F3: 6 | G3: 7 | H3: 8 | I3: 9 | J3: 10 | K3: 11 | L3: 12
A4: 8 | B4: Hộ ông Nguyễn Thành Tâm và bà Lê Thị Dầu | C4: * Giấy xác nhận về thửa đất bị thu hồi để phục vụ cho công tác bồi thường, hỗ trợ, tái định cư khi Nhà nước thu hồi đất số 9898/GXN-KTHTĐT ngày 04/8/2026 của Phòng Kinh tế Hạ tầng và Đô thị phường Nam Nha Trang xác nhận: - Về thông tin nguồn gốc đất: * Thửa đất số 61 tờ bản đồ số 10 - 353599-1 (theo Bản đồ địa chính phường Nam Nha Trang - Đo đạc bổ sung): Tổng diện tích: 146,8m², diện tích thu hồi: 146,8m², diện tích còn lại: 0m2 thuộc Bản đồ địa chính phường Nam Nha Trang được Sở Nông nghiệp và Môi trường thẩm định ngày 05/5/2026, đối chiếu tương ứng các thửa đất: + Theo Sổ dã ngoại và Bản đồ địa chính xã Vĩnh Thái năm 1996: Thửa đất chưa được đo vẽ. + Đối chiếu bản đồ và sổ mục kê năm 2002: thửa đất thu hồi tương ứng thửa đất số 407, TBĐ 07, diện tích 3300m2, Loại đất: đất chưa sử dụng. Ghi chú đất UBND xã. + Đối chiếu Bản đồ ĐC và sổ mục kê năm 2015: Thửa đất thu hồi tương ứng một phần thửa đất số 200 tờ bản đồ số 10; diện tích: 3.277,6m2, loại đất: BHK, do ông Nguyễn Văn Ọ đứng tên kê khai. + Vị trí thửa đất thu hồi nằm trong Danh sách Kết luận thanh tra Theo Thông báo số 749/TB-UBND-TTra ngày 18/6/2025 của Chủ tịch UBND thành phố Nha Trang, đính kèm Kết luận thanh tra số 511/KL-TTra-KTXH ngày 13/6/2025 của Chánh Thanh tra thành phố Nha Trang, tại Phụ lục I – STT 949 ghi nhận: thửa đất số 407, tờ bản đồ số 07, diện tích 3.300m2 (loại đất Hg/b) thuộc Danh sách các loại đất khác do Nhà nước quản lý theo Sổ mục kê năm 2002, hiện trạng do người dân đang sử dụng. + Nguồn gốc đất: Nguồn gốc đất do ông Nguyễn Ọ chiếm trước năm 2012. Ngày 20/4/2011, ông Nguyễn Ọ lập đơn cho quyền sử dụng đất cho con trai là ông Nguyễn Thành Tâm và con dâu là bà Lê Thị Dầu, giấy viết tay, không có xác nhận của cơ quan có thẩm quyền.- Diện tích kê khai sử dụng của hộ ông Nguyễn Thành Tâmlà: - Tổng diện tích đất: 146,8m² - Diện tích thu hồi: 146,8m2 - Diện tích còn lại: 0m2 - Thời điểm sử dụng đất: sau 2015. - Loại đất: BHK (Theo hồ sơ địa chính năm 2015+2002). - Thời điểm hình thành tài sản, vật kiến trúc: Sau năm 2015 đến trước thông báo thu hồi đất. (Hiện trạng trên đất có nhà) - Thời điểm tạo lập cây trồng, vật nuôi: Sau năm 2015 đến trước thông báo thu hồi đất. - Tổng diện tích đất nông nghiệp của hộ gia đình tại thửa đất bị thu hồi: 146,8m2 - Tổng diện tích đất nông nghiệp của hộ gia đình tại địa phương: 146,8m2 - Hộ ông Nguyễn Thành Tâm không trực tiếp sản xuất nông nghiệp tại vị trí thửa đất thu hồi. * Tình hình tranh chấp đối với thửa đất: '- Hiện hộ ông Nguyễn Thành Tâm đang sử dụng ổn định phần diện tích 146,8m2từ sau năm 2015 cho đến nay, không lấn chiếm, không tranh chấp, không thuộc trường hợp đất 5%, đất công, đất khác do Nhà nước quản lý, không có đơn thư ngăn chặn, tài sản không bị phong toả để đảm bảo thi hành án. - Trường hợp diện tích đất thể hiện trên giấy tờ về quyền sử dụng đất có sự chênh lệch so với diện tích đất thực tế đang sử dụng: - Diện tích theo giấy tờ: m2 - Diện tích đất thực tế đang sử dụng: m2 - Diện tích đất chênh lệch tăng/giảm: *Trường hợp địa chỉ thửa đất thực tế đang sử dụng khác với địa chỉ thể hiện trên giấy tờ: - Địa chỉ thửa đất theo giấy tờ: thôn Vĩnh Xuân, xã Vĩnh Thái, Nha Trang - Địa chỉ đất giải tỏa: Tổ dân phố Vĩnh Xuân, phường Nam Nha Trang. Hai địa chỉ là cùng một thửa đất. * Các loại giấy tờ, tài liệu, người làm chứng làm căn cứ xác nhận các nội dung trên: (Giấy tờ kèm theo hồ sơ) - Hồ sơ địa chính xã năm 2002, 2015; - Biên bản họp xác minh nguồn gốc nhà, đất ngày 27/7/2026; - Biên bản kiểm kê khối lượng giải tỏa ngày 23/6/2026; - Phiếu xác nhận kết quả đo đạc địa chính thửa đất số 61 tờ bản đồ số 10; - Bản tự kê khai ngày của bà Lê Thị Dầu. - Giấy cho quyền sử dụng đất của ông Nguyễn Ọ cho ông Nguyễn Thành Tâm và bà Lê Thị Dầu, giấy viết tay ký ngày 20/4/2011 không có xác nhận của cơ quan có thẩm quyền. - Văn bản số 12281/KTHTĐT ngày 22/9/2026 của Phòng Kinh tế, hạ tầng và đô thị phường Nam Nha Trang về việc góp ý phương án dự kiến bồi thường hỗ trợ, tái định cư của 19 trường hợp/ 19 thửa thuộc Dự án thành phần 1: Dự án thành phần giải phóng mặt bằng phục vụ dự án xây dựng Bệnh viện Đa khoa tỉnh Khánh Hòa thành Bệnh viện khu vực duyên hải Nam Trung Bộ tại phường Nam Nha Trang, tỉnh Khánh Hòa.
B5: CCCD số 056173008980 do Cục QLHC về TTXH cấp ngày 14/8/2021 cho bà Lê Thị Dầu | D5: I/ Về đất | J5: =J11 -> 0
D6: - Diện tích (thửa số 61- tờ BĐ số 353599-1- Tờ 10) | E6: m² | F6: 146.8
D7: + DT đất thu hồi | E7: m² | F7: 146.8
D8: + DT đất còn lại | E8: m² | F8: =F6-F7 -> 0
D9: 1. Về đất:
B10: - Địa chỉ thường trú | D10: ** Căn cứ pháp lý áp dụng: - Căn cứ Khoản 2, Điều 101 Luật đất đai năm 2024: " Trường hợp không được bồi thường về đất khi Nhà nước thu hồi đất: Đất do cơ quan tổ chức Nhà nước quản lý quy định tại Điều 217 của Luật này" - Căn cứ Điểm b, Khoản 1, Điều 217 Luật Đất đai năm 2024: "Đất do cơ quan, tổ chức của Nhà nước quản lý là đất chưa giao, chưa cho thuê hoặc đã được giao đất để quản lý, bao gồm: Đất sông, ngòi, kênh, rạch, suối, ao, hồ, đầm, phá....."
B11: Thái Thông, P. Nam Nha Trang, Khánh Hòa. | D11: - Diện tích đất không bồi thường: | E11: m² | F11: =F7 -> 146.8 | G11: Vị trí thửa đất thu hồi nằm trong Danh sách Kết luận thanh tra thuộc Danh sách các loại đất khác do Nhà nước quản lý theo Sổ mục kê năm 2002, không bồi thường
D12: II/ Tài sản gắn liền với đất (1+2+3) | J12: =J13+J31+J34 -> 388550613
B13: - Địa chỉ giải tỏa: | D13: 1- Công trình, vật kiến trúc: | J13: =SUM(J15:J30) -> 388216613
B14: Tổ dân phố Vĩnh Xuân, Phường Nam Nha Trang, tỉnh Khánh Hòa | D14: * Căn cứ pháp lý áp dụng: - Biên bản kiểm kê khối lượng giải tỏa: ngày 10/7/2026 - Thông báo thu hồi đất: số 2510/TB-UBND ngày 15/5/2026 của UBND phường Nam Nha Trang. - Quyết định số 08/2026/QĐ-UBND ngày 22/01/2026 của UBND tỉnh Khánh Hòa Quy định đơn giá bồi thường thiệt hại về nhà, nhà ở, công trình xây dựng gắn liền với đất khi Nhà nước thu hồi đất và mức hỗ trợ để tháo dỡ, phá dỡ, di dời công trình xây dựng theo giấy phép xây dựng có thời hạn khi Nhà nước thu hồi đất trên địa bàn tỉnh Khánh Hoà; - Văn bản số 2093/SXD-KTVLXD ngày 05/3/2026 của Sở Xây Dựng V/v hướng dẫn triển khai thực hiện các Quyết định của UBND tỉnh. - Quyết định số 32/2026/QĐ-UBND ngày 29/4/2026 của UBND tỉnh Khánh Hòa Quy định một số biện pháp hỗ trợ khác khi Nhà nước thu hồi đất trên địa bàn tỉnh Khánh Hòa.
D15: - Nhà vách tole, mái tole, cột kèo gỗ tiêu chuẩn, cửa tole, nền xi măng DTXD = DTGT = 1,8m x 1,3m = 2,34m² | E15: m²XD | F15: =1.8*1.3 -> 2.34 | G15: =2115140+(2115140*8.5%) -> 2294926.9 | I15: 0.7 | J15: =ROUND((F15*G15*I15),0) -> 3759090
D16: Áp đơn giá tại phụ lục STT A.17, Quyết định số 08/2026/QĐ-UBND ngày 22/01/2026 của UBND tỉnh Khánh Hòa, đơn giá: 2.115.140đ/m²xd. Đơn giá tăng 8,5% vì vách tole (theo Mục I, STT 12 văn bản số 2093/SXD-KTVLXD ngày 05/3/2026 của Sở Xây dựng) 2.115.140đ/m²xd + (2.115.140đ/m²xd x 8,5%) = 2.294.927 đ/m²xd
D17: - Nhà vệ sinh độc lập có hầm tự hoại, tường gạch mái tole, cột kèo gỗ tiêu chuẩn, cửa gỗ nền xi măng DTXD =DTGT=1,3m x 1,2m = 1,56 m2 | E17: m²XD | F17: =1.3*1.2 -> 1.56 | G17: 6960234 | I17: 0.8 | J17: =ROUND((F17*G17*I17),0) -> 8686372
D18: Áp đơn giá tại phụ lục STT C.7, Quyết định số 08/2026/QĐ-UBND ngày 22/01/2026 của UBND tỉnh Khánh Hòa, đơn giá: 6.960.234 đ/m².
D19: - Nhà vách tole, mái lợp tole, cột kèo gỗ tiêu chuẩn, cửa tole, nền xi măng DTXD =DTGT= (3,4 m x 3,4m)- (1,3m x 1,2m) = 10m2 | E19: m²XD | F19: =(3.4*3.4)-(1.3*1.2) -> 10 | G19: =2115140+(2115140*8.5%) -> 2294926.9 | I19: 0.8 | J19: =ROUND((F19*G19*I19),0) -> 18359415
D20: Áp đơn giá tại phụ lục STT A.17, Quyết định số 08/2026/QĐ-UBND ngày 22/01/2026 của UBND tỉnh Khánh Hòa, đơn giá: 2.115.140đ/m²xd. Đơn giá tăng 8,5% vì vách tole (theo Mục I, STT 12 văn bản số 2093/SXD-KTVLXD ngày 05/3/2026 của Sở Xây dựng) 2.115.140đ/m²xd + (2.115.140đ/m²xd x 8,5%) = 2.294.927 đ/m²xd
D21: Nền xi măng (1,6m x1,3m)+(0,9m x7,2m) + (3,4m x 1,7m) +(2m x 4m) +(3,4m x 0,8m) =25,06 m2 | E21: m² | F21: =(1.6*1.3)+(0.9*7.2)+(3.4*1.7)+(2*4)+(3.4*0.8) -> 25.06 | G21: 230583 | I21: 0.8 | J21: =ROUND((F21*G21*I21),0) -> 4622728
D22: Áp đơn giá tại phụ lục STT C.17, Quyết định số 08/2026/QĐ-UBND ngày 22/01/2026 của UBND tỉnh Khánh Hòa, đơn giá: 230.583 đ/m².
D23: Móng đá chẻ (0,6m + 6,6m) x 0,2 x 0,2 =0,288 m3 | E23: m3 | F23: =(0.6+6.6)*0.2*0.2 -> 0.288 | G23: 3096280 | I23: 1 | J23: =ROUND((F23*G23*I23),0) -> 891729
D24: Áp đơn giá tại phụ lục STT C.48, Quyết định số 08/2026/QĐ-UBND ngày 22/01/2026 của UBND tỉnh Khánh Hòa, đơn giá: 3.096.280 đ/m².
D25: - Nhà tường xây gạch cao 3,3m, cửa sắt, mái tole, cột kèo sắt, nền gạch men, không trần, không nhà vệ sinh, móng đá chẻ DT = 9,9m x 8,44m = 83,56 m² | E25: m² | F25: =9.9*8.44 -> 83.556 | G25: =3751000+338256+(3751000*8.5%) -> 4408091 | I25: 0.8 | J25: =ROUND((F25*G25*I25),0) -> 294657961
D26: Áp đơn giá tại phụ lục STT A.1, Quyết định số 08/2026/QĐ-UBND ngày 22/01/2026 của UBND tỉnh Khánh Hòa, đơn giá: 3.751.000 đ/m². Đơn giá tăng 8,5% vì tường xây gạch cao 3,3m (theo Mục I, STT 12 văn bản số 2093/SXD-KTVLXD ngày 05/3/2026 của Sở Xây dựng).Đơn giá cộng thêm 338.256 đ/m² vì nền gạch men (theo Mục I, STT 3 văn bản số 2093/SXD-KTVLXD ngày 05/3/2026 của Sở Xây dựng). Đơn giá: (3.751.000 đ/m² + 338.256đ/m² ) +((3.751.000 đ/m² x 8%)= 4.408.091 đ/m²
D27: - Mái che mái lợp tole, cột kèo sắt, nền xi măng DT = 3,1m x 8,44m = 26,16 m² | E27: m² | F27: =3.1*8.44 -> 26.164 | G27: 1259097 | I27: 0.8 | J27: =ROUND((F27*G27*I27),0) -> 26354411
D28: Áp đơn giá tại phụ lục STT C.4, Quyết định số 08/2026/QĐ-UBND ngày 22/01/2026 của UBND tỉnh Khánh Hòa, đơn giá: 1.259.097đ/m².
D29: - Cổng khung sắt + lưới B40, diện tích cao 2,4 m dài 3,6 m | E29: m² | F29: =2.4*3.6 -> 8.64 | G29: 3574642 | I29: 1 | J29: =ROUND((F29*G29*I29),0) -> 30884907
D30: Áp đơn giá tại phụ lục STT C.80, Quyết định số 08/2026/QĐ-UBND ngày 22/01/2026 của UBND tỉnh Khánh Hòa, đơn giá: 3.574.642 đ/m².
D31: 2 - Tài sản khác: | J31: =SUM(J32:J33) -> 0
D32: - Đồng hồ điện 1 pha | F32: Không có Hợp đồng, hóa đơn thu tiền của điện lực
D33: - Đồng hồ nước
D34: 3 - Cây trồng: | J34: =SUM(J36:J37) -> 334000
D35: - Quyết định số 35/2026/QĐ-UBND ngày 04/5/2026 của UBND tỉnh Khánh Hòa ban hành quy định đơn giá bồi thường thiệt hại đối với cây trồng, vật nuôi khi Nhà nước thu hồi đất trên địa bàn tỉnh Khánh Hòa; - Văn bản số 9455/SNNMT-TTBVTV ngày 30/6/2026 của Sở Nông nghiệp và Môi trường V/v hướng dẫn áp dụng đơn giá bồi thường đối với cây trồng khi Nhà nước thu hồi đất theo QĐ số 35/2026/QĐ-UBND ngày 04/5/2026 của UBND tỉnh Khánh Hòa.
D36: - Bạch đàn năm thứ 04: 02 cây - Áp giá tương đương bạch đàn năm thứ 3. ĐG: 53.000 đồng | E36: cây | F36: 2 | G36: 53000 | I36: 1 | J36: =ROUND((F36*G36*I36),0) -> 106000
D37: - Sanh loại A: 01 cây - Áp giá tương đương cây bồ quân STT II.3. ĐG: 228.000đồng | E37: cây | F37: 1 | G37: 228000 | I37: 1 | J37: =ROUND((F37*G37*I37),0) -> 228000
D38: III. Hỗ trợ chi phí di chuyển tài sản: Không | J38: 0
D39: IV/ Chính sách hỗ trợ (1+2): | J39: =SUM(J40:J41) -> 0
D40: 1. Hỗ trợ đào tạo, chuyển đổi nghề và tìm kiếm việc làm: (Hộ ông Nguyễn Thành Tâm và bà Lê Thị Dầu không trực tiếp sản xuất nông nghiệp trên đất) | F40: Hộ gia đình không trực tiếp sản xuất nông nghiệp tại vị trí thửa đất giải tỏa; không được bồi thường về đất nên không được hỗ trợ theo quy định tại Khoản 1, khoản 2 Điều 22 NĐ số 88/2024-NĐ-CP ngày 15/7/2024 và Điều 9, QĐ số 32/2026/QĐ-UBND ngày 29/4/2026 của UBND tỉnh Khánh Hòa
D41: 2. Hỗ trợ ổn định đời sống (Hộ ông Nguyễn Thành Tâm và bà Lê Thị Dầu thực tế không canh tác nông nghiệp trên đất) | F41: Hộ gia đình không được bồi thường về đất, thực tế không tham gia sản xuất nông nghiêp trên đất thu hồi nên không được hỗ trợ theo quy định tại Điều 19 NĐ số 88/2024-NĐ-CP ngày 15/7/2024 và Khoản 1, Điều 6, QĐ số 32/2026/QĐ-UBND ngày 29/4/2026 của UBND tỉnh Khánh Hòa
D42: * Tổng số tiền bồi thường, hỗ trợ | J42: =J5+J12+J39 -> 388550613
D43: V/ Hỗ trợ khen thưởng | J43: =J45 -> 8000000
D44: - Khoản 2, Điều 15 QĐ số 32/2026/QĐ-UBND ngày 29/4/2026 của UBND tỉnh Khánh Hòa:
D45: - Trường hợp thu hồi đất không thuộc các dự án quy định tại khoản 7 Điều 111 Luật Đất đai, bàn giao mặt bằng trước thời hạn quy định thì được khen thưởng 10% tổng giá trị bồi thường, hỗ trợ. Mức khen thưởng tối đa không vượt quá 8.000.000 (tám triệu) đồng /trường hợp; Trường hợp số tiền khen thưởng thấp hơn 1.000.000 (một triệu) đồng thì được khen thưởng là 1.000.000 (một triệu) đồng / trường hợp. | E45: TH | F45: 1 | G45: =IF(J42*10%>=8000000,8000000,IF(J42*10%<=1000000,1000000,J42*10%)) -> 8000000 | J45: =F45*G45 -> 8000000 | K45: =J42+J43 -> 396550613
D46: * Tổng số tiền bồi thường, hỗ trợ, khen thưởng (I+II+III+IV+V)
D47: VI. Tái định cư:
D48: - Căn cứ Khoản 5 Điều 111 Luật Đất đai năm 2024, Điều 24 Nghị định số 88/NĐ-CP ngày 15/7/2024 của Chính phủ, Khoản 6 Điều 2 Nghị định số 226/2025/NĐ-CP ngày 15/8/2025 của Chính phủ | F48: Hộ gia đình không đủ điều kiện bố trí tái định cư do không được bồi thường đất ở và không phải di chuyển chỗ ở

Sheet N.THANH MINH (T123)
A1: II/ Kết quả bồi thường, hỗ trợ, tái định cư
A2: STT | B2: HỌ TÊN VÀ ĐỊA CHỈ (Nơi ở và nơi giải tỏa | C2: GIẤY TỜ NGUỒN GỐC NHÀ ĐẤT | D2: NỘI DUNG BỒI THƯỜNG, HỖ TRỢ | E2: Đơn vị tính | F2: Khối lượng BT, HT | G2: Đơn giá (đồng) | H2: Mức BT (%) | I2: Mức HT (%) | J2: Thành tiền (đồng) | K2: TỔNG TIỀN (đồng) | L2: Ký nhận
A3: 1 | B3: 2 | C3: 3 | D3: 4 | E3: 5 | F3: 6 | G3: 7 | H3: 8 | I3: 9 | J3: 10 | K3: 11 | L3: 12
A4: 9 | B4: Hộ ông Nguyễn Thanh Minh và bà Lê Thị Ngọc Bích | C4: "* Giấy xác nhận về thửa đất bị thu hồi để phục vụ cho công tác bồi thường, hỗ trợ, tái định cư khi Nhà nước thu hồi đất số 9899/GXN-KTHTĐT ngày 04/8/2026 của Phòng Kinh tế, Hạ tầng và Đô thị phường Nam Nha Trang xác nhận: - Về thông tin nguồn gốc đất: * Thửa đất số 123 tờ bản đồ số 10 - 353599-1 (theo Bản đồ địa chính phường Nam Nha Trang - Đo đạc bổ sung): Tổng diện tích: 454,9m², diện tích thu hồi: 290,8m², diện tích còn lại: 164,1m2 thuộc Bản đồ địa chính phường Nam Nha Trang được Sở Nông nghiệp và Môi trường thẩm định ngày 05/5/2026, đối chiếu tương ứng các thửa đất: + Theo Sổ dã ngoại và Bản đồ địa chính xã Vĩnh Thái năm 1996: Thửa đất chưa được đo vẽ. + Đối chiếu bản đồ và sổ mục kê năm 2002: Thửa đất thu hồi tương ứng một phần thửa đất số 407, TBĐ 07, diện tích 3300m2 ,Loại đất: đất chưa sử dụng. Ghi chú đất UBND xã. + Đối chiếu Bản đồ ĐC và sổ mục kê năm 2015: Thửa đất thu hồi tương ứng một phần thửa đất số 200 tờ bản đồ số 10; do ông Nguyễn Văn Ọ đứng tên kê khai; diện tích: 3.277,6m2; loại đất: BHK và một phần thửa đất số 287 tờ bản đồ số 10; diện tích: 11.650,2m2 do UBND phường quản lý, diện tích lấn mương 84,3m2. + Vị trí thửa đất thu hồi nằm trong Danh sách Kết luận thanh tra Theo Thông báo số 749/TB-UBND-TTra ngày 18/6/2025 của Chủ tịch UBND thành phố Nha Trang, đính kèm Kết luận thanh tra số 511/KL-TTra-KTXH ngày 13/6/2025 của Chánh Thanh tra thành phố Nha Trang, tại Phụ lục I – STT 949 ghi nhận: thửa đất số 407, tờ bản đồ số 07, diện tích 3.300m2 (loại đất Hg/b) thuộc Danh sách các loại đất khác do Nhà nước quản lý theo Sổ mục kê năm 2002, hiện trạng do người dân đang sử dụng. + Nguồn gốc đất: * Theo giấy tờ nguồn gốc đất do hộ gia đình cung cấp: Nguồn gốc đất do ông Nguyễn Ọ chiếm trước năm 2012. Ngày 19/4/2012, ông Nguyễn Ọ lập đơn cho quyền sử dụng đất cho con trai là ông Nguyễn Thanh Minh cùng vợ là bà Lê Thị Ngọc Bích, giấy viết tay, không có xác nhận của cơ quan có thẩm quyền. Diện tích kê khai sử dụng của bà Lê Thị Ngọc Bích là: - Tổng diện tích đất: 454,9m² - Diện tích thu hồi: 290,8m2 - Diện tích còn lại: 164,1m2 - Loại đất: BHK (Theo hồ sơ địa chính năm 2015+2002). - Thời điểm sử dụng đất: sau 2015 . -Thời điểm hình thành tài sản, vật kiến trúc: sau 2015 đến trước Thông báo thu hồi đất. (Hiện trạng trên đất có nhà) - Thời điểm tạo lập cây trồng, vật nuôi: được tạo lập trước thời điểm có Thông báo thu hồi đất. - Tổng diện tích đất nông nghiệp của hộ gia đình tại thửa đất bị thu hồi: 290,8m2, diện tích lấn mương 84,3m2. - Tổng diện tích đất nông nghiệp của hộ gia đình tại địa phương: 454,9m2 - Hộ bà Lê Thị Ngọc Bích không trực tiếp sản xuất nông nghiệp tại vị trí thửa đất thu hồi. => Kết luận: Nguồn gốc sử dụng đất Thửa đất số 123, tờ bản đồ số 10 - 353599-1 (theo Bản đồ địa chính phường Nam Nha Trang - Đo đạc bổ sung), Tổng diện tích: 454,9m², diện tích thu hồi: 290,8m², diện tích còn lại: 164,1m2 thuộc Bản đồ địa chính phường Nam Nha Trang được Sở Nông nghiệp và Môi trường thẩm định ngày 05/5/2026, thuộc trường hợp hộ gia đình, cá nhân đang sử dụng đất do lấn đất hoặc chiếm đất do cơ quan, tổ chức của Nhà nước đã quản lý, được thể hiện trong hồ sơ địa chính (căn cứ Sổ mục kê năm 2002 và Thông báo số 749/TB-UBND-TTra ngày 18/6/2025 của Chủ tịch UBND thành phố Nha Trang, đính kèm Kết luận thanh tra số 511/KL-TTra-KTXH ngày 13/6/2025 của Chánh Thanh tra thành phố Nha Trang, Phụ lục I). - Quá trình sử dụng, thay đổi đất, nhà, vật kiến trúc xây dựng trên đất: * Thay đổi về sử dụng đất: - Thay đổi về diện tích, ranh giới sử dụng đất: không. - Thay đổi về mục đích sử dụng đất: không. * Thay đổi về nhà, vật kiến trúc, tài sản trên đất: không. * Thay đổi về địa chỉ thửa đất: không * Tình hình tranh chấp đối với thửa đất: - Hiện hộ bà Lê Thị Ngọc Bích đang sử dụng ổn định phần diện tích 454,9m2 từ sau năm 2015 cho đến nay, không lấn chiếm, không tranh chấp, không thuộc trường hợp đất 5%, đất công, đất khác do Nhà nước quản lý, không có đơn thư ngăn chặn, tài sản không bị phong toả để đảm bảo thi hành án. * Trường hợp diện tích đất thể hiện trên giấy tờ về quyền sử dụng đất có sự chênh lệch so với diện tích đất thực tế đang sử dụng: - Diện tích theo giấy tờ:m² - Diện tích đất thực tế đang sử dụng: m² - Diện tích đất chênh lệch tăng/giảm: * Trường hợp địa chỉ thửa đất thực tế đang sử dụng khác với địa chỉ thể hiện trên giấy tờ: - Địa chỉ thửa đất theo giấy tờ: thôn Vĩnh Xuân, xã Vĩnh Thái, Nha Trang - Địa chỉ đất giải tỏa: Tổ dân phố Vĩnh Xuân, phường Nam Nha Trang. Hai địa chỉ là cùng một thửa đất. * Các loại giấy tờ, tài liệu, người làm chứng làm căn cứ xác nhận các nội dung trên: (Giấy tờ kèm theo hồ sơ) - Hồ sơ địa chính xã năm 2002, 2015; - Biên bản họp xác minh nguồn gốc nhà, đất ngày 27/7/2026; - Biên bản kiểm kê khối lượng giải tỏa ngày 24/6/2026; - Phiếu xác nhận kết quả đo đạc địa chính thửa đất số 123 tờ bản đồ số 10; - Bản tự kê khai ngày của bà Lê Thị Ngọc Bích. - Giấy cho quyền sử dụng đất của ông Nguyễn Ọ cho con là ông Nguyễn Thanh Minh và vợ là bà Lê Thị Ngọc Bích 0ngày 19/4/2012, không có xác nhận của cơ quan có thẩm quyền. - CCCD số 056082006732 do Cục QLHC về TTXH cấp ngày 06/12/2021 cho ông Nguyễn Thanh Minh; - CC số 056186005709 do Bộ Công an cấp ngày 17/3/2026 cho bà Lê Thị Ngọc Bích; - Văn bản số 12281/KTHTĐT ngày 22/9/2026 của Phòng Kinh tế, hạ tầng và đô thị phường Nam Nha Trang về việc góp ý phương án dự kiến bồi thường hỗ trợ, tái định cư của 19 trường hợp/ 19 thửa thuộc Dự án thành phần 1: Dự án thành phần giải phóng mặt bằng phục vụ dự án xây dựng Bệnh viện Đa khoa tỉnh Khánh Hòa thành Bệnh viện khu vực duyên hải Nam Trung Bộ tại phường Nam Nha Trang, tỉnh Khánh Hòa.
B5: CCCD số 056082006732 do Cục QLHC về TTXH cấp ngày 06/12/2021 cho ông Nguyễn Thanh Minh | D5: I/ Về đất | J5: =J10 -> 0
D6: - Diện tích (thửa số 123 - tờ BĐ số 10 - 353599-1) | E6: m² | F6: 454.9
D7: + DT đất thu hồi: | E7: m² | F7: =290.8 -> 290.8
D8: + DT đất còn lại | E8: m² | F8: =164.1 -> 164.1
B9: CC số 056186005709 do Bộ Công an cấp ngày 17/3/2026 cho bà Lê Thị Ngọc Bích | D9: ** Căn cứ pháp lý áp dụng: - Căn cứ Khoản 2, Điều 101 Luật đất đai năm 2024: " Trường hợp không được bồi thường về đất khi Nhà nước thu hồi đất: Đất do cơ quan tổ chức Nhà nước quản lý quy định tại Điều 217 của Luật này" - Căn cứ Điểm b, Khoản 1, Điều 217 Luật Đất đai năm 2024: "Đất do cơ quan, tổ chức của Nhà nước quản lý là đất chưa giao, chưa cho thuê hoặc đã được giao đất để quản lý, bao gồm: Đất sông, ngòi, kênh, rạch, suối, ao, hồ, đầm, phá....."
B10: - Địa chỉ thường trú | D10: - Diện tích đất không bồi thường: | E10: m² | F10: =F7 -> 290.8 | G10: Vị trí thửa đất thu hồi nằm trong Danh sách Kết luận thanh tra thuộc Danh sách các loại đất khác do Nhà nước quản lý theo Sổ mục kê năm 2002, không bồi thường
B11: Thái Thông, phường Nam Nha Trang, tỉnh Khánh Hòa | D11: II/ Tài sản gắn liền với đất (1+2+3) | J11: =J12+J35+J36 -> 177154918
B12: - Địa chỉ giải tỏa: | D12: 1- Công trình, vật kiến trúc: | J12: =SUM(J14:J34) -> 171177918
B13: Tổ dân phố Vĩnh Xuân, Phường Nam Nha Trang, tỉnh Khánh Hòa | D13: * Căn cứ pháp lý áp dụng: - Biên bản kiểm kê khối lượng giải tỏa: ngày 24/6/2026 - Thông báo thu hồi đất: số 2510/TB-UBND ngày 15/5/2026 của UBND phường Nam Nha Trang. - Quyết định số 08/2026/QĐ-UBND ngày 22/01/2026 của UBND tỉnh Khánh Hòa Quy định đơn giá bồi thường thiệt hại về nhà, nhà ở, công trình xây dựng gắn liền với đất khi Nhà nước thu hồi đất và mức hỗ trợ để tháo dỡ, phá dỡ, di dời công trình xây dựng theo giấy phép xây dựng có thời hạn khi Nhà nước thu hồi đất trên địa bàn tỉnh Khánh Hoà; - Văn bản số 2093/SXD-KTVLXD ngày 05/3/2026 của Sở Xây Dựng V/v hướng dẫn triển khai thực hiện các Quyết định của UBND tỉnh. - Quyết định số 32/2026/QĐ-UBND ngày 29/4/2026 của UBND tỉnh Khánh Hòa Quy định một số biện pháp hỗ trợ khác khi Nhà nước thu hồi đất trên địa bàn tỉnh Khánh Hòa.
D14: - Nhà 01 tầng, móng xây 02 lớp đá chẻ, mái lợp tole, tường xây gạch 100, tường sơn nước, trần thạch cao, nền gạch men, cửa gỗ + kính, có hệ vệ sinh trong nhà (có hầm tự hoại) DT: 33,7m² DTGT: 23,1m² DTCL: 10,6m² | E14: m²XD | F14: 33.7 | G14: =(3751000 *1.12)+ 481600+(3751000*8.5%) -> 5001555 | I14: 0.8 | J14: =ROUND((F14*G14*I14),0) -> 134841923
D15: - Kết cấu nhà sau giải tỏa không đảm bảo tiêu chuẩn kỹ thuật, không đảm bảo công năng sử dụng theo qui định tại Mục I.10 - Văn bản số 02093/SXD-KTVLXD ngày 05/3/2026 v/v hướng dẫn triển khai thực hiện các Quyết định số: 12/2026/QĐ-UBND ngày 24/2/2026 và 08/2026/QĐ-UBND ngày 20/01/2026 của UBND tỉnh Khánh Hòa - Vỉ vậy được bồi thường toàn bộ nhà DT: 33,7m².
D16: Áp giá tại STT 1, mục A, PLI Quyết định số 08/2026/QĐ-UBND ngày 22/01/2026 của UBND tỉnh Khánh Hòa, đơn giá: 3.751.000đ/m²XD. Đơn giá nhân hệ số điều chỉnh 1,12 vì tường sơn nước (theo Mục I, STT 1 văn bản số 2093/SXD-KTVLXD ngày 05/3/2026 của Sở Xây dựng). Cộng thêm 481.600đ/m² vì nền gạch men (STT 37 mục A, Phụ lục I, Quyết định số 12/QĐ-UBND ngày 24/02/2026 (Áp theo Mục I, STT 03 văn bản số 2093/SXD-KTVLXD ngày 05/3/2026 của Sở Xây dựng). Tăng 8,5% vì ường thạch cao (Áp theo Mục I, STT 12 văn bản số 2093/SXD-KTVLXD ngày 05/3/2026 của Sở Xây dựng) [(3.751.000 đ/m²XD x 1,12) + 481.600đ/m² + (3.751.000 đ/m²XD x 8,5%)] = 5.001.555đ/m²XD
D17: + Tường ốp gạch men trong nhà cao 1,2m, dài ( 0,75m + 2,1m + 2,75m + 0,35m + 5,2m + 2,4m + 2,7m + 1,6m + 3m ) = 20,85md DT: (1,2m x 20,85m) = 25,02m2 | E17: m² | F17: =1.2*(0.75+2.1+2.75+0.35+5.2+2.4+2.7+1.6+3) -> 25.02 | G17: 401056 | I17: 0.8 | J17: =ROUND((F17*G17*I17),0) -> 8027537
D18: Áp đơn giá tại STT 33, mục A, Phụ lục I, Quyết định số 12/QĐ-UBND ngày 24/02/2026của UBND tỉnh Khánh Hòa. Đơn giá: 401.056đ/m².
D19: + Gạch men ốp bếp (4m + 1,2m) x 0,6m = 3,12m2 | E19: m²XD | F19: =(4+1.2)*0.6 -> 3.12 | G19: 401056 | I19: 0.8 | J19: =ROUND((F19*G19*I19),0) -> 1001036
D20: Áp đơn giá tại STT 33, mục A, Phụ lục I, Quyết định số 12/QĐ-UBND ngày 24/02/2026của UBND tỉnh Khánh Hòa. Đơn giá: 401.056đ/m².
D21: - Men ốp nhà vệ sinh (3,6m + 1,8m) x 1,2m = 6,48m2 | E21: m²XD | F21: =(3.6+1.8)*1.2 -> 6.48 | G21: 401056 | I21: 0.8 | J21: =ROUND((F21*G21*I21),0) -> 2079074
D22: Áp đơn giá tại STT 33, mục A, Phụ lục I, Quyết định số 12/QĐ-UBND ngày 24/02/2026của UBND tỉnh Khánh Hòa. Đơn giá: 401.056đ/m².
D23: - Mái che cột kèo gỗ tiêu chuẩn, mái lợp tole, nền đất.DT: 2,7m x 1,8m = 4,86m² DTGT: 2,74m2 DTCL: 2,12m2 | E23: m²XD | F23: 2.74 | G23: =(741439-(741439*8.5%)) -> 678416.69 | I23: 0.7 | J23: =ROUND((F23*G23*I23),0) -> 1301203
D24: Áp đơn giá tại phụ lục phần C, STT 03, Quyết định số 08/2026/QĐ-UBND ngày 22/01/2026 của UBND tỉnh Khánh Hòa, đơn giá: 741.439 đ/m². Giảm 8,5 % do nền đất (theo Mục I, STT 12 văn bản số 2093/SXD-KTVLXD ngày 05/3/2026 của Sở xây dựng) 741.439đ/m²xd - (741.439đ/m² x 8,5%) = 678.417đ/m²xd
D25: - Mái che cột kèo gỗ tiêu chuẩn, mái lợp tole, nền xi măng DT = 1,7m x 4m = 6,8m²xd | E25: m²XD | F25: =1.7*4 -> 6.8 | G25: 741439 | I25: 0.7 | J25: =ROUND((F25*G25*I25),0) -> 3529250
D26: Áp đơn giá tại phần C, STT 03, Quyết định số 08/2026/QĐ-UBND ngày 22/01/2026 của UBND tỉnh Khánh Hòa, đơn giá: 741.439 đ/m²xd
D27: - Mái che cột kèo gỗ tiêu chuẩn, mái lợp tole, nền xi măng DT = 1,5m x 2,9m = 4,35m²xd | E27: m²XD | F27: =1.5*2.9 -> 4.35 | G27: 741439 | I27: 0.7 | J27: =ROUND((F27*G27*I27),0) -> 2257682
D28: Áp đơn giá tại phần C, STT 03, Quyết định số 08/2026/QĐ-UBND ngày 22/01/2026 của UBND tỉnh Khánh Hòa, đơn giá: 741.439 đ/m²xd
D29: - Móng đá chẻ (nằm dưới mái che) [(4,4m x 2m) + (2,9m x 2m)] x 0,4 x 0,2 = 1,168m3 | E29: m3 | F29: =((4.4*2)+(2.9*2))*0.4*0.2 -> 1.168 | G29: 3096280 | I29: 0.7 | J29: =ROUND((F29*G29*I29),0) -> 2531519
D30: Áp giá tại phần C, STT 48, Quyết định số 08/2026/QĐ-UBND ngày 22/01/2026 của UBND tỉnh Khánh Hòa, đơn giá: 3.096.280 đ/md.
D31: - Hồ cá xây gạch 100: cao 0,3m, rộng 0,65m, dài 6,6m DT: (6,6m x 0,65m x 0,3m) = 1,287m3 | E31: m3 | F31: =0.3*0.65*6.6 -> 1.287 | G31: 1501705 | I31: 0.7 | J31: =ROUND((F31*G31*I31),0) -> 1352886
D32: Áp giá tại phần C, STT 38, Quyết định số 08/2026/QĐ-UBND ngày 22/01/2026 của UBND tỉnh Khánh Hòa, đơn giá: 1.501.750đ/md.
D33: - Hàng rào lưới B40, trụ BTCT cao 1,5m dài 26,5m | E33: m dài | F33: 26.5 | G33: 537955 | I33: 1 | J33: =ROUND((F33*G33*I33),0) -> 14255808
D34: Áp giá tại phần C, STT 11, Quyết định số 08/2026/QĐ-UBND ngày 22/01/2026 của UBND tỉnh Khánh Hòa, đơn giá: 537.955 đ/md.
D35: 2 - Tài sản khác: không | J35: 0
D36: 3 - Cây trồng: | J36: =SUM(J38:J50) -> 5977000
D37: * Căn cứ pháp lý áp dụng: - Quyết định số 35/2026/QĐ-UBND ngày 04/5/2026 của UBND tỉnh Khánh Hòa ban hành quy định đơn giá bồi thường thiệt hại đối với cây trồng, vật nuôi khi Nhà nước thu hồi đất trên địa bàn tỉnh Khánh Hòa; - Văn bản số 9455/SNNMT-TTBVTV ngày 30/6/2026 của Sở Nông nghiệp và Môi trường V/v hướng dẫn áp dụng đơn giá bồi thường đối với cây trồng khi Nhà nước thu hồi đất theo QĐ số 35/2026/QĐ-UBND ngày 04/5/2026 của UBND tỉnh Khánh Hòa.
D38: - Chuối loại C: 03 cây | E38: cây | F38: 3 | G38: 91000 | I38: 1 | J38: =ROUND((F38*G38*I38),0) -> 273000
D39: - Đu đủ loại 1 năm: 04 cây | E39: cây | F39: 4 | G39: 62000 | I39: 1 | J39: =ROUND((F39*G39*I39),0) -> 248000
D40: - Chanh loại A: 01 cây | E40: cây | F40: 1 | G40: 750000 | I40: 1 | J40: =ROUND((F40*G40*I40),0) -> 750000
D41: - Khế loại 3 năm: 01 cây | E41: cây | F41: 1 | G41: 160000 | I41: 1 | J41: =ROUND((F41*G41*I41),0) -> 160000
D42: - Lưu loại 3 năm: 01 cây | E42: cây | F42: 1 | G42: 212000 | I42: 1 | J42: =ROUND((F42*G42*I42),0) -> 212000
D43: - Mãng cầu loại A: 01 cây | E43: cây | F43: 1 | G43: 593000 | I43: 1 | J43: =ROUND((F43*G43*I43),0) -> 593000
D44: - Me loại 3 năm: 01 cây | E44: cây | F44: 1 | G44: 165000 | I44: 1 | J44: =ROUND((F44*G44*I44),0) -> 165000
D45: - Cóc loại 3 năm: 02 cây | E45: cây | F45: 2 | G45: 125000 | I45: 1 | J45: =ROUND((F45*G45*I45),0) -> 250000
D46: - Tắc loại A: 01 cây - Áp giá tương đương Chanh loại A - Phụ lục II.7. ĐG: 750.000 | E46: cây | F46: 1 | G46: 750000 | I46: 1 | J46: =ROUND((F46*G46*I46),0) -> 750000
D47: - Bạch đàn năm thứ 04: 20 cây - Áp giá tương đương bạch đàn năm thứ 3 | E47: cây | F47: 20 | G47: 53000 | I47: 1 | J47: =ROUND((F47*G47*I47),0) -> 1060000
D48: - Vạn tuế loại A: 04 cây - Áp giá tương đương cây cau STT II.8. ĐG: 280.000đồng | E48: cây | F48: 4 | G48: 280000 | I48: 1 | J48: =ROUND((F48*G48*I48),0) -> 1120000
D49: - Mai loại A: 01 cây - Áp giá tương đương cây dâu tằm STT II.13. ĐG: 168.000đồng | E49: cây | F49: 1 | G49: 168000 | I49: 1 | J49: =F49*G49*I49 -> 168000
D50: - Sanh loại A: 01 cây - Áp giá tương đương cây bồ quân STT II.3. ĐG: 228.000đồng | E50: cây | F50: 1 | G50: 228000 | I50: 1 | J50: =ROUND((F50*G50*I50),0) -> 228000
D51: III. Hỗ trợ chi phí di chuyển tài sản: Không | J51: 0
D52: IV/ Chính sách hỗ trợ (1+2+3): | J52: =J54+J53 -> 0
D53: 1. Hỗ trợ đào tạo, chuyển đổi nghề và tìm kiếm việc làm: (Hộ ông Nguyễn Thanh Minh và bà Lê Thị Ngọc Bích không trực tiếp sản xuất nông nghiệp trên đất) | F53: Hộ gia đình không trực tiếp sản xuất nông nghiệp tại vị trí thửa đất giải tỏa; không được bồi thường về đất nên không được hỗ trợ theo quy định tại Khoản 1, khoản 2 Điều 22 NĐ số 88/2024-NĐ-CP ngày 15/7/2024 và Điều 9, QĐ số 32/2026/QĐ-UBND ngày 29/4/2026 của UBND tỉnh Khánh Hòa
D54: 2. Hỗ trợ ổn định đời sống (Hộ ông Nguyễn Thanh Minh và bà Lê Thị Ngọc Bích thực tế không canh tác nông nghiệp trên đất) | F54: Hộ gia đình không được bồi thường về đất, thực tế không tham gia sản xuất nông nghiêp trên đất thu hồi nên không được hỗ trợ theo quy định tại Điều 19 NĐ số 88/2024-NĐ-CP ngày 15/7/2024 và Khoản 1, Điều 6, QĐ số 32/2026/QĐ-UBND ngày 29/4/2026 của UBND tỉnh Khánh Hòa
D55: * Tổng số tiền bồi thường, hỗ trợ | J55: =J5+J11+J52 -> 177154918
D56: V/ Hỗ trợ khen thưởng | J56: =J58 -> 8000000
D57: - Khoản 2, Điều 15 QĐ số 32/2026/QĐ-UBND ngày 29/4/2026 của UBND tỉnh Khánh Hòa:
D58: - Trường hợp thu hồi đất không thuộc các dự án quy định tại khoản 7 Điều 111 Luật Đất đai, bàn giao mặt bằng trước thời hạn quy định thì được khen thưởng 10% tổng giá trị bồi thường, hỗ trợ. Mức khen thưởng tối đa không vượt quá 8.000.000 (tám triệu) đồng /trường hợp; Trường hợp số tiền khen thưởng thấp hơn 1.000.000 (một triệu) đồng thì được khen thưởng là 1.000.000 (một triệu) đồng / trường hợp. | E58: TH | F58: 1 | G58: =IF(J55*10%>=8000000,8000000,IF(J55*10%<=1000000,1000000,J55*10%)) -> 8000000 | J58: =F58*G58 -> 8000000
D59: * Tổng số tiền bồi thường, hỗ trợ, khen thưởng (I+II+III+IV+V) | K59: =J55+J56 -> 185154918
D60: VI. Tái định cư:
D61: - Căn cứ Khoản 5 Điều 111 Luật Đất đai năm 2024, Điều 24 Nghị định số 88/NĐ-CP ngày 15/7/2024 của Chính phủ, Khoản 6 Điều 2 Nghị định số 226/2025/NĐ-CP ngày 15/8/2025 của Chính phủ | F61: Hộ gia đình không đủ điều kiện bố trí tái định cư do không được bồi thường đất ở và không phải di chuyển chỗ ở

Sheet L.V.Quang (T95)
A1: II/ Kết quả bồi thường, hỗ trợ, tái định cư
A2: STT | B2: HỌ TÊN VÀ ĐỊA CHỈ (Nơi ở và nơi giải tỏa | C2: GIẤY TỜ NGUỒN GỐC NHÀ ĐẤT | D2: NỘI DUNG BỒI THƯỜNG, HỖ TRỢ | E2: Đơn vị tính | F2: Khối lượng BT, HT | G2: Đơn giá (đồng) | H2: Mức BT (%) | I2: Mức HT (%) | J2: Thành tiền (đồng) | K2: TỔNG TIỀN (đồng) | L2: Ký nhận
A3: 1 | B3: 2 | C3: 3 | D3: 4 | E3: 5 | F3: 6 | G3: 7 | H3: 8 | I3: 9 | J3: 10 | K3: 11 | L3: 12
A4: 10 | B4: Hộ ông Lương Văn Quang | C4: * Giấy xác nhận về thửa đất bị thu hồi để phục vụ cho công tác bồi thường, hỗ trợ, tái định cư khi Nhà nước thu hồi đất số 9891/GXN-KTHTĐT ngày 04/8/2026 của Phòng Kinh tế Hạ tầng và Đô thị phường Nam Nha Trang xác nhận: - Về thông tin nguồn gốc đất: *Thửa đất số 95 tờ bản đồ số 10 - 353599-1 (theo Bản đồ địa chính phường Nam Nha Trang - Đo đạc bổ sung): Tổng diện tích: 111,5m², diện tích thu hồi: 111,5m², diện tích còn lại: 0m2 thuộc Bản đồ địa chính phường Nam Nha Trang được Sở Nông nghiệp và Môi trường thẩm định ngày 05/5/2026, đối chiếu tương ứng các thửa đất: + Theo Sổ dã ngoại và Bản đồ địa chính xã Vĩnh Thái năm 1996: Thửa đất chưa được đo vẽ. + Đối chiếu bản đồ và sổ mục kê năm 2002: Tương ứng một phần thửa đất số 446 tờ bản đồ số 07, diện tích: 7.345m2, loại đất: LD thủy sản, không ai đứng tên kê khai, ghi chú đất UBND xã. + Đối chiếu Bản đồ ĐC và sổ mục kê năm 2015: Tương ứng một phần thửa đất số 214; tờ bản đồ số 10; diện tích:6.417,6m2; loại đất:TSL, do Lan đứng tên kê khai;.(nhưng ý kiến đại diện hộ dân ông Trần Văn Minh cho rằng thực tế là đất bà do ông đang sử dụng, do đoàn đo đạc tại tời điểm ghi nhầm) + Vị trí thửa đất thu hồi nằm trong Danh sách Kết luận thanh tra Theo Thông báo số 749/TB-UBND-TTra ngày 18/6/2025 của Chủ tịch UBND thành phố Nha Trang, đính kèm Kết luận thanh tra số 511/KL-TTra-KTXH ngày 13/6/2025 của Chánh Thanh tra thành phố Nha Trang, tại Phụ lục I – STT 951 ghi nhận: thửa đất số 446, tờ bản đồ số 07, diện tích 7.345m2 (loại đất Ao (Hồ)) thuộc Danh sách các loại đất khác do Nhà nước quản lý theo Sổ mục kê năm 2002, hiện trạng do người dân đang sử dụng. + Nguồn gốc đất: * Theo giấy tờ nguồn gốc đất do hộ gia đình cung cấp: Nguồn gốc đất do ông Nguyễn Thành chiếm trước năm 1999. Ngày 07/01/1999, ông Nguyễn Thành và vợ là bà Nguyễn Thị Vân lập giấy bán đìa nuôi tôm cho ông Trần Văn Minh, giấy viết tay, không có xác nhận của cơ quan có thẩm quyền. Ngày 16/4/2006, ông Trần Văn Minh lập giấy bán đìa nuôi tôm cho ông Lương Văn Quang, giấy viết tay, không có xác nhận của cơ quan có thẩm quyền. Diện tích kê khai sử dụng của hộ ông Lương Văn Quanglà: - Tổng diện tích đất: 111,5m2 - Diện tích thu hồi: 111,5m2 - Diện tích còn lại: 0m2 - Thời điểm sử dụng đất: sau năm 2015. - Loại đất: TSL (Theo hồ sơ địa chính năm 2015+2002) nhưng hộ dân đã tự sang lấp mặt bằng và sử dụng vào mục đích khác. - Thời điểm hình thành tài sản, vật kiến trúc: Sau năm 2015 đến trước thông báo thu hồi đất. (Hiện trạng trên đất có nhà) - Thời điểm tạo lập cây trồng, vật nuôi: Sau năm 2015 đến trước thông báo thu hồi đất. - Tổng diện tích đất nông nghiệp của hộ gia đình tại thửa đất bị thu hồi: 111,5m2 - Tổng diện tích đất nông nghiệp của hộ gia đình tại địa phương: 111,5m2 - Hộ ông Lương Văn Quang không trực tiếp sản xuất nông nghiệp tại vị trí thửa đất thu hồi. => Kết luận: Nguồn gốc sử dụng đất Thửa đất số 95, tờ bản đồ số 10 - 353599-1 (theo Bản đồ địa chính phường Nam Nha Trang - Đo đạc bổ sung), Tổng diện tích: 110m², diện tích thu hồi: 110m², diện tích còn lại: 0m2 thuộc Bản đồ địa chính phường Nam Nha Trang được Sở Nông nghiệp và Môi trường thẩm định ngày 05/5/2026, thuộc trường hợp hộ gia đình, cá nhân đang sử dụng đất do lấn đất hoặc chiếm đất do cơ quan, tổ chức của Nhà nước đã quản lý, được thể hiện trong hồ sơ địa chính (căn cứ Sổ mục kê năm 2002 và Thông báo số 749/TB-UBND-TTra ngày 18/6/2025 của Chủ tịch UBND thành phố Nha Trang, đính kèm Kết luận thanh tra số 511/KL-TTra-KTXH ngày 13/6/2025 của Chánh Thanh tra thành phố Nha Trang, Phụ lục I) - Tình trạng có ăn ở, sinh hoạt tại vị trí thửa đất thu hồi: Căn cứ theo xác minh của Công an phường Nam Nha Trang về tình trạng ăn ở và quá trình cư trú của hộ gia đình tại vị trí thửa đất thu hồi. * Tình hình tranh chấp đối với thửa đất: Hiện hộ ông Lương Văn Quang đang sử dụng ổn định phần diện tích 111,5m2 từ sau năm 2015 cho đến nay, không lấn chiếm, không tranh chấp, không thuộc trường hợp đất 5%, đất công, đất khác do Nhà nước quản lý, không có đơn thư ngăn chặn, tài sản không bị phong toả để đảm bảo thi hành án. - Trường hợp diện tích đất thể hiện trên giấy tờ về quyền sử dụng đất có sự chênh lệch so với diện tích đất thực tế đang sử dụng: - Diện tích theo giấy tờ: m2 - Diện tích đất thực tế đang sử dụng: m2 - Diện tích đất chênh lệch tăng/giảm: *Trường hợp địa chỉ thửa đất thực tế đang sử dụng khác với địa chỉ thể hiện trên giấy tờ: - Địa chỉ thửa đất theo giấy tờ: thôn Vĩnh Xuân, xã Vĩnh Thái, Nha Trang - Địa chỉ đất giải tỏa: Tổ dân phố Vĩnh Xuân, phường Nam Nha Trang. Hai địa chỉ là cùng một thửa đất. * Các loại giấy tờ, tài liệu, người làm chứng làm căn cứ xác nhận các nội dung trên: (Giấy tờ kèm theo hồ sơ) - Hồ sơ địa chính xã năm 2002, 2015; - Biên bản họp xác minh nguồn gốc nhà, đất ngày27/7/2026; - Biên bản kiểm kê khối lượng giải tỏa ngày24/6/2026; - Phiếu xác nhận kết quả đo đạc địa chính thửa đất số 94 tờ bản đồ số 10; - Bản tự kê khai ngày của ông Lương Văn Quang; - Giấy bán đìa tôm của ông Nguyễn Thành chuyển nhượng quyền sử dụng đất cho ông Trần Văn Minh, giấy viết tay ký ngày 07/01/1999 không có xác nhận của cơ quan có thẩm quyền. - Giấy bán đìa nuôi tôm của ông Trần Văn Minh chuyển nhượng quyền sử dụng đất cho ông Lương Văn Quang, giấy viết tay ký ngày 16/4/2006 không có xác nhận của cơ quan có thẩm quyền. - Văn bản số 12281/KTHTĐT ngày 22/9/2026 của Phòng Kinh tế, hạ tầng và đô thị phường Nam Nha Trang về việc góp ý phương án dự kiến bồi thường hỗ trợ, tái định cư của 19 trường hợp/ 19 thửa thuộc Dự án thành phần 1: Dự án thành phần giải phóng mặt bằng phục vụ dự án xây dựng Bệnh viện Đa khoa tỉnh Khánh Hòa thành Bệnh viện khu vực duyên hải Nam Trung Bộ tại phường Nam Nha Trang, tỉnh Khánh Hòa.
B5: CCCD số 056082000487 do Cục QLHC về TTXH cấp ngày 07/08/2023 cho ông Lương Văn Quang | D5: I/ Về đất | J5: =J10 -> 0
D6: - Diện tích (thửa số 95 - tờ BĐ số 10 - 353599-1) | E6: m² | F6: 111.5
D7: + DT đất thu hồi | E7: m² | F7: 111.5
D8: + DT đất còn lại | E8: m² | F8: =F6-F7 -> 0
B9: - Địa chỉ thường trú | D9: ** Căn cứ pháp lý áp dụng: - Căn cứ Khoản 2, Điều 101 Luật đất đai năm 2024: " Trường hợp không được bồi thường về đất khi Nhà nước thu hồi đất: Đất do cơ quan tổ chức Nhà nước quản lý quy định tại Điều 217 của Luật này" - Căn cứ Điểm b, Khoản 1, Điều 217 Luật Đất đai năm 2024: "Đất do cơ quan, tổ chức của Nhà nước quản lý là đất chưa giao, chưa cho thuê hoặc đã được giao đất để quản lý, bao gồm: Đất sông, ngòi, kênh, rạch, suối, ao, hồ, đầm, phá....."
B10: Tổ dân phố Vĩnh Xuân, phường Nam Nha Trang, tỉnh Khánh Hòa. | D10: - Diện tích đất không bồi thường: | E10: m² | F10: =F7 -> 111.5 | G10: Vị trí thửa đất thu hồi nằm trong Danh sách Kết luận thanh tra thuộc Danh sách các loại đất khác do Nhà nước quản lý theo Sổ mục kê năm 2002, không bồi thường
D11: II/ Tài sản gắn liền với đất (1+2+3) | J11: =J12+J21+J22 -> 23220759
B12: - Địa chỉ giải tỏa: | D12: 1- Công trình, vật kiến trúc: | J12: =SUM(J14:J20) -> 15279759
B13: Tổ dân phố Vĩnh Xuân, phường Nam Nha Trang, tỉnh Khánh Hòa. | D13: * Căn cứ pháp lý áp dụng: - Biên bản kiểm kê khối lượng giải tỏa: ngày 15/6/2026 - Thông báo thu hồi đất: số 2510/TB-UBND ngày 15/5/2026 của UBND phường Nam Nha Trang. - Quyết định số 08/2026/QĐ-UBND ngày 22/01/2026 của UBND tỉnh Khánh Hòa Quy định đơn giá bồi thường thiệt hại về nhà, nhà ở, công trình xây dựng gắn liền với đất khi Nhà nước thu hồi đất và mức hỗ trợ để tháo dỡ, phá dỡ, di dời công trình xây dựng theo giấy phép xây dựng có thời hạn khi Nhà nước thu hồi đất trên địa bàn tỉnh Khánh Hoà; - Văn bản số 2093/SXD-KTVLXD ngày 05/3/2026 của Sở Xây Dựng V/v hướng dẫn triển khai thực hiện các Quyết định của UBND tỉnh. - Quyết định số 32/2026/QĐ-UBND ngày 29/4/2026 của UBND tỉnh Khánh Hòa Quy định một số biện pháp hỗ trợ khác khi Nhà nước thu hồi đất trên địa bàn tỉnh Khánh Hòa. - Quyết định số 12/2026/QĐ-UBND ngày 24/2/2026 của UBND tỉnh Khánh Hòa Quy định đơn giá bồi thường, hỗ trợ một số chi phí khi Nhà nước thu hồi đất trên địa bàn tỉnh Khánh Hòa.
D14: - Hàng rào lưới B40, trụ BTCT cao 1,5m, móng xây đá chẻ 2 lớp, dài 15md.
D15: + Hàng rào lưới B40, trụ BTCT cao 1,5m, dài 15m. | E15: md | F15: 15 | G15: 537955 | I15: 1 | J15: =ROUND((F15*G15*I15),0) -> 8069325
D16: Áp đơn giá tại phụ lục STT C.12 Quyết định số 08/2026/QĐ-UBND ngày 22/01/2026 của UBND tỉnh Khánh Hòa, đơn giá: 537.955đ/md.
D17: +Móng xây đá chẻ 2 lớp, dài 15m. DT: 0,2m x 0,2m x 15m = | E17: m³ | F17: =0.2*0.2*15 -> 0.6 | G17: 3096280 | I17: 1 | J17: =ROUND((F17*G17*I17),0) -> 1857768
D18: Áp đơn giá tại phụ lục STT C.48 Quyết định số 08/2026/QĐ-UBND ngày 22/01/2026 của UBND tỉnh Khánh Hòa, đơn giá: 3.096.280đ/m³.
D19: - Mái che cột kèo sắt, mái lợp tole, nền đất. DT: (3,5m x 2,8m) | E19: m² | F19: =3.5*2.8 -> 9.8 | G19: 682738 | I19: 0.8 | J19: =ROUND((F19*G19*I19),0) -> 5352666
D20: Áp đơn giá tại phụ lục STT A.55, Quyết định số 12/2026/QĐ-UBND ngày 24/02/2026 của UBND tỉnh Khánh Hòa, đơn giá: 682.738 đ/m².
D21: 2 - Tài sản khác: Không | J21: 0
D22: 3 - Cây trồng: | J22: =SUM(J24:J39) -> 7941000
D23: - Quyết định số 35/2026/QĐ-UBND ngày 04/5/2026 của UBND tỉnh Khánh Hòa ban hành quy định đơn giá bồi thường thiệt hại đối với cây trồng, vật nuôi khi Nhà nước thu hồi đất trên địa bàn tỉnh Khánh Hòa; - Văn bản số 9455/SNNMT-TTBVTV ngày 30/6/2026 của Sở Nông nghiệp và Môi trường V/v hướng dẫn áp dụng đơn giá bồi thường đối với cây trồng khi Nhà nước thu hồi đất theo QĐ số 35/2026/QĐ-UBND ngày 04/5/2026 của UBND tỉnh Khánh Hòa.
D26: Chuối loại 01 năm | E26: cây | F26: 12 | G26: 61000 | I26: 1 | J26: =ROUND((F26*G26*I26),0) -> 732000
D27: Khế loại 4 năm | E27: cây | F27: 1 | G27: 180000 | I27: 1 | J27: =ROUND((F27*G27*I27),0) -> 180000
D28: Cóc loại C | E28: cây | F28: 1 | G28: 240000 | I28: 1 | J28: =ROUND((F28*G28*I28),0) -> 240000
D29: Mận loại B | E29: cây | F29: 1 | G29: 511000 | I29: 1 | J29: =ROUND((F29*G29*I29),0) -> 511000
D30: Sao đen năm thứ 6 - Áp giá tương đương Sao đen năm thứ 5. ĐG: 161.000 đồng | E30: cây | F30: 1 | G30: 161000 | I30: 1 | J30: =ROUND((F30*G30*I30),0) -> 161000
D31: Mít loại C | E31: cây | F31: 1 | G31: 853000 | I31: 1 | J31: =ROUND((F31*G31*I31),0) -> 853000
D32: Trứng cá loại C. (Áp giá chùm ruột) | E32: cây | F32: 1 | G32: 113000 | I32: 1 | J32: =ROUND((F32*G32*I32),0) -> 113000
D33: Sake loại B | E33: cây | F33: 1 | G33: 510000 | I33: 1 | J33: =ROUND((F33*G33*I33),0) -> 510000
D34: Dừa xiêm loại 1 năm | E34: cây | F34: 1 | G34: 320000 | I34: 1 | J34: =ROUND((F34*G34*I34),0) -> 320000
D35: Xoài ghép loại C | E35: cây | F35: 2 | G35: 1533000 | I35: 1 | J35: =ROUND((F35*G35*I35),0) -> 3066000
D36: Bạch đàn năm thứ 4 - Áp giá tương đương Bạch đàn năm thứ 3. ĐG: 53.000 đồng | E36: cây | F36: 8 | G36: 53000 | I36: 1 | J36: =ROUND((F36*G36*I36),0) -> 424000
D37: Siro - Áp giá tương đương Sơ ri. ĐG: 353.000đồng | E37: cây | F37: 1 | G37: 353000 | I37: 1 | J37: =ROUND((F37*G37*I37),0) -> 353000
... D39: Sơ ri loại B | E39: cây | F39: 1 | G39: 294000 | I39: 1 | J39: =ROUND((F39*G39*I39),0) -> 294000
D40: III. Hỗ trợ chi phí di chuyển tài sản: Không | J40: 0
D41: IV/ Chính sách hỗ trợ (1+2): | J41: =SUM(J42:J43) -> 0
D42: 1. Hỗ trợ đào tạo, chuyển đổi nghề và tìm kiếm việc làm: (Hộ ông Lương Văn Quang không trực tiếp sản xuất nông nghiệp trên đất) | F42: Hộ gia đình không trực tiếp sản xuất nông nghiệp tại vị trí thửa đất giải tỏa; không được bồi thường về đất nên không được hỗ trợ theo quy định tại Khoản 1, khoản 2 Điều 22 NĐ số 88/2024-NĐ-CP ngày 15/7/2024 và Điều 9, QĐ số 32/2026/QĐ-UBND ngày 29/4/2026 của UBND tỉnh Khánh Hòa
D43: 2. Hỗ trợ đào tạo, chuyển đổi nghề và tìm kiếm việc làm: (Hộ ông Lương Văn Quang không thực tế canh tác nông nghiệp trên đất) | F43: Hộ gia đình không được bồi thường về đất, thực tế không tham gia sản xuất nông nghiêp trên đất thu hồi nên không được hỗ trợ theo quy định tại Điều 19 NĐ số 88/2024-NĐ-CP ngày 15/7/2024 và Khoản 1, Điều 6, QĐ số 32/2026/QĐ-UBND ngày 29/4/2026 của UBND tỉnh Khánh Hòa
D44: * Tổng số tiền bồi thường, hỗ trợ | J44: =J5+J11+J41 -> 23220759
D45: V/ Hỗ trợ khen thưởng | J45: 0
D46: - Đã hỗ trợ khen thưởng tại Thửa 94 - tờ BĐ số 10-353599-1
D47: * Tổng số tiền bồi thường, hỗ trợ, khen thưởng (I+II+III+IV+V) | K47: =J44+J45 -> 23220759
D48: VI. Tái định cư:
D49: - Căn cứ Khoản 5 Điều 111 Luật Đất đai năm 2024, Điều 24 Nghị định số 88/NĐ-CP ngày 15/7/2024 của Chính phủ, Khoản 6 Điều 2 Nghị định số 226/2025/NĐ-CP ngày 15/8/2025 của Chính phủ | F49: Hộ gia đình không đủ điều kiện bố trí tái định cư do không được bồi thường đất ở và không phải di chuyển chỗ ở

Sheet L.V.Quang (T94)
A1: II/ Kết quả bồi thường, hỗ trợ, tái định cư
A2: STT | B2: HỌ TÊN VÀ ĐỊA CHỈ (Nơi ở và nơi giải tỏa | C2: GIẤY TỜ NGUỒN GỐC NHÀ ĐẤT | D2: NỘI DUNG BỒI THƯỜNG, HỖ TRỢ | E2: Đơn vị tính | F2: Khối lượng BT, HT | G2: Đơn giá (đồng) | H2: Mức BT (%) | I2: Mức HT (%) | J2: Thành tiền (đồng) | K2: TỔNG TIỀN (đồng) | L2: Ký nhận
A3: 1 | B3: 2 | C3: 3 | D3: 4 | E3: 5 | F3: 6 | G3: 7 | H3: 8 | I3: 9 | J3: 10 | K3: 11 | L3: 12
A4: 11 | B4: Hộ ông Lương Văn Quang | C4: * Giấy xác nhận về thửa đất bị thu hồi để phục vụ cho công tác bồi thường, hỗ trợ, tái định cư khi Nhà nước thu hồi đất số 9891/GXN-KTHTĐT ngày 04/8/2026 của Phòng Kinh tế Hạ tầng và Đô thị phường Nam Nha Trang xác nhận: - Về thông tin nguồn gốc đất: * Thửa đất số 94 tờ bản đồ số 10 - 353599-1 (theo Bản đồ địa chính phường Nam Nha Trang - Đo đạc bổ sung): Tổng diện tích: 111,5m², diện tích thu hồi: 111,5m², diện tích còn lại: 0m2 thuộc Bản đồ địa chính phường Nam Nha Trang được Sở Nông nghiệp và Môi trường thẩm định ngày 05/5/2026, đối chiếu tương ứng các thửa đất: + Theo Sổ dã ngoại và Bản đồ địa chính xã Vĩnh Thái năm 1996: Thửa đất chưa được đo vẽ. + Đối chiếu bản đồ và sổ mục kê năm 2002: Tương ứng một phần thửa đất số 446 tờ bản đồ số 07, diện tích: 7.345m2, loại đất: LD thủy sản, không ai đứng tên kê khai, ghi chú đất UBND xã. + Đối chiếu Bản đồ ĐC và sổ mục kê năm 2015: Tương ứng một phần thửa đất số 214; tờ bản đồ số 10; diện tích:6.417,6m2; loại đất:TSL, do Lan đứng tên kê khai;.(nhưng ý kiến đại diện hộ dân ông Trần Văn Minh cho rằng thực tế là đất bà do ông đang sử dụng, do đoàn đo đạc tại tời điểm ghi nhầm) + Vị trí thửa đất thu hồi nằm trong Danh sách Kết luận thanh tra Theo Thông báo số 749/TB-UBND-TTra ngày 18/6/2025 của Chủ tịch UBND thành phố Nha Trang, đính kèm Kết luận thanh tra số 511/KL-TTra-KTXH ngày 13/6/2025 của Chánh Thanh tra thành phố Nha Trang, tại Phụ lục I – STT 951 ghi nhận: thửa đất số 446, tờ bản đồ số 07, diện tích 7.345m2 (loại đất Ao (Hồ)) thuộc Danh sách các loại đất khác do Nhà nước quản lý theo Sổ mục kê năm 2002, hiện trạng do người dân đang sử dụng. + Nguồn gốc đất: Nguồn gốc đất do ông Nguyễn Thành chiếm trước năm 1999. Ngày 07/01/1999, ông Nguyễn Thành và vợ là bà Nguyễn Thị Vân lập giấy bán đìa nuôi tôm cho ông Trần Văn Minh, giấy viết tay, không có xác nhận của cơ quan có thẩm quyền. Ngày 16/4/2006, ông Trần Văn Minh lập giấy bán đìa nuôi tôm cho ông Lương Văn Quang, giấy viết tay, không có xác nhận của cơ quan có thẩm quyền. Diện tích kê khai sử dụng của hộ ông Lương Văn Quang là: - Tổng diện tích đất: 111,5m2 - Diện tích thu hồi: 111,5m2 - Diện tích còn lại: 0m2 - Thời điểm sử dụng đất: sau năm 2015. - Loại đất: TSL (Theo hồ sơ địa chính năm 2015). - Thời điểm hình thành tài sản, vật kiến trúc: Sau năm 2015 đến trước thông báo thu hồi đất. (Hiện trạng trên đất có nhà) - Thời điểm tạo lập cây trồng, vật nuôi: sau 2015 đến trước Thông báo thu hồi đất. - Tổng diện tích đất nông nghiệp của hộ gia đình tại thửa đất bị thu hồi:111,5m2 - Tổng diện tích đất nông nghiệp của hộ gia đìnhtại địa phương: 111,5m2 - Hộ ông Lương Văn Quang không trực tiếp sản xuất nông nghiệp tại vị trí thửa đất thu hồi. - Tình trạng có ăn ở, sinh hoạt tại vị trí thửa đất thu hồi: Căn cứ theo xác minh của Công an phường Nam Nha Trang về tình trạng ăn ở và quá trình cư trú của hộ gia đình tại vị trí thửa đất thu hồi. => Kết luận: Nguồn gốc sử dụng đất Thửa đất số 94, tờ bản đồ số 10 - 353599-1 (theo Bản đồ địa chính phường Nam Nha Trang - Đo đạc bổ sung), Tổng diện tích: 111,5m², diện tích thu hồi: 111,5m², diện tích còn lại: 0m2 thuộc Bản đồ địa chính phường Nam Nha Trang được Sở Nông nghiệp và Môi trường thẩm định ngày 05/5/2026, thuộc trường hợp hộ gia đình, cá nhân đang sử dụng đất do lấn đất hoặc chiếm đất do cơ quan, tổ chức của Nhà nước đã quản lý, được thể hiện trong hồ sơ địa chính (căn cứ Sổ mục kê năm 2002 và Thông báo số 749/TB-UBND-TTra ngày 18/6/2025 của Chủ tịch UBND thành phố Nha Trang, đính kèm Kết luận thanh tra số 511/KL-TTra-KTXH ngày 13/6/2025 của Chánh Thanh tra thành phố Nha Trang, Phụ lục I) * Tình hình tranh chấp đối với thửa đất: Hiện hộ ông Lương Văn Quang đang sử dụng ổn định phần diện tích 111,5m2 từ sau năm 2015 cho đến nay, không lấn chiếm, không tranh chấp, không thuộc trường hợp đất 5%, đất công, đất khác do Nhà nước quản lý, không có đơn thư ngăn chặn, tài sản không bị phong toả để đảm bảo thi hành án. - Trường hợp diện tích đất thể hiện trên giấy tờ về quyền sử dụng đất có sự chênh lệch so với diện tích đất thực tế đang sử dụng: - Diện tích theo giấy tờ: m2 - Diện tích đất thực tế đang sử dụng: m2 - Diện tích đất chênh lệch tăng/giảm: *Trường hợp địa chỉ thửa đất thực tế đang sử dụng khác với địa chỉ thể hiện trên giấy tờ: - Địa chỉ thửa đất theo giấy tờ: thôn Vĩnh Xuân, xã Vĩnh Thái, Nha Trang - Địa chỉ đất giải tỏa: Tổ dân phố Vĩnh Xuân, phường Nam Nha Trang. Hai địa chỉ là cùng một thửa đất. * Các loại giấy tờ, tài liệu, người làm chứng làm căn cứ xác nhận các nội dung trên: (Giấy tờ kèm theo hồ sơ) - Hồ sơ địa chính xã năm 2002, 2015; - Biên bản họp xác minh nguồn gốc nhà, đất ngày27/7/2026; - Biên bản kiểm kê khối lượng giải tỏa ngày24/6/2026; - Phiếu xác nhận kết quả đo đạc địa chính thửa đất số 94 tờ bản đồ số 10; - Bản tự kê khai ngày của ông Lương Văn Quang; - Giấy bán đìa tôm của ông Nguyễn Thành chuyển nhượng quyền sử dụng đất cho ông Trần Văn Minh, giấy viết tay ký ngày 07/01/1999 không có xác nhận của cơ quan có thẩm quyền. - Giấy bán đìa nuôi tôm của ông Trần Văn Minh chuyển nhượng quyền sử dụng đất cho ông Lương Văn Quang, giấy viết tay ký ngày 16/4/2006 không có xác nhận của cơ quan có thẩm quyền. - Văn bản số 12281/KTHTĐT ngày 22/9/2026 của Phòng Kinh tế, hạ tầng và đô thị phường Nam Nha Trang về việc góp ý phương án dự kiến bồi thường hỗ trợ, tái định cư của 19 trường hợp/ 19 thửa thuộc Dự án thành phần 1: Dự án thành phần giải phóng mặt bằng phục vụ dự án xây dựng Bệnh viện Đa khoa tỉnh Khánh Hòa thành Bệnh viện khu vực duyên hải Nam Trung Bộ tại phường Nam Nha Trang, tỉnh Khánh Hòa.
B5: CCCD số 056082000487 do Cục QLHC về TTXH cấp ngày 07/08/2021 cho ông Lương Văn Quang | D5: I/ Về đất | J5: =J11 -> 0
D6: - Diện tích (thửa số 94 - tờ BĐ số 353599-1- Tờ 10) | E6: m² | F6: 111.5
D7: + DT đất thu hồi | E7: m² | F7: 111.5
D8: + DT đất còn lại | E8: m² | F8: =F6-F7 -> 0
B9: - Địa chỉ thường trú | D9: 1. Bồi thường về đất: | E9: m² | F9: =F7 -> 111.5
B10: Tổ dân phố Vĩnh Xuân, phường Nam Nha Trang, tỉnh Khánh Hòa. | D10: ** Căn cứ pháp lý áp dụng: - Khoản 2, Điều 101 Luật Đất đai năm 2024: "Trường hợp không được bồi thường về đất khi Nhà nước thu hồi đất: Đất do cơ quan, tổ chức Nhà nước quản lý quy định tại Điều 217 Luật đất đai" . - Điểm b, Khoản 1 Điều 217, Luật đất đai năm 2024: "Đât do cơ quan, tổ chức Nhà nước quản lý là đất chưa giao, chưa cho thuê, hoặc đã được giao đất để quản lý, bao gồm: Đất sông, ngòi, kênh, rạch, suối, ao, hồ, đầm, phá
D11: - Diện tích đất không bồi thường: | E11: m² | F11: =F9 -> 111.5 | G11: Không bồi thường vì: Vị trí thửa đất thu hồi nằm trong Danh sách Kết luận thanh tra thuộc Danh sách các loại đất khác do Nhà nước quản lý theo Sổ mục kê năm 2002
D12: II/ Tài sản gắn liền với đất (1+2+3) | J12: =J13+J34+J35 -> 364989687
B13: - Địa chỉ giải tỏa: | D13: 1- Công trình, vật kiến trúc: | J13: =SUM(J15:J33) -> 355454687
B14: Tổ dân phố Vĩnh Xuân, Phường Nam Nha Trang, tỉnh Khánh Hòa | D14: * Căn cứ pháp lý áp dụng: - Biên bản kiểm kê khối lượng giải tỏa: ngày 15/6/2026 - Thông báo thu hồi đất: số 2510/TB-UBND ngày 15/5/2026 của UBND phường Nam Nha Trang. - Quyết định số 08/2026/QĐ-UBND ngày 22/01/2026 của UBND tỉnh Khánh Hòa Quy định đơn giá bồi thường thiệt hại về nhà, nhà ở, công trình xây dựng gắn liền với đất khi Nhà nước thu hồi đất và mức hỗ trợ để tháo dỡ, phá dỡ, di dời công trình xây dựng theo giấy phép xây dựng có thời hạn khi Nhà nước thu hồi đất trên địa bàn tỉnh Khánh Hoà; - Văn bản số 2093/SXD-KTVLXD ngày 05/3/2026 của Sở Xây Dựng V/v hướng dẫn triển khai thực hiện các Quyết định của UBND tỉnh. - Quyết định số 32/2026/QĐ-UBND ngày 29/4/2026 của UBND tỉnh Khánh Hòa Quy định một số biện pháp hỗ trợ khác khi Nhà nước thu hồi đất trên địa bàn tỉnh Khánh Hòa. - Căn cứ Biên bản làm việc về nội dung: xác minh tình trạng sinh sống ăn ở thực tế tại địa phương ngày 19/8/2026 Tổ công tác xác nhận ông Lương Văn Quang không thường xuyên sinh sống, ăn ở, sinh hoạt tại khu vực UBND phường Nam Nha Trang ban hành Thông báo số 2510/TB-UBND ngày 15/05/2026 về việc thu hồi đất để thực hiện dự án Bệnh viện đa khoa tỉnh Khánh Hòa.
D15: - Nhà 1 tầng, móng xây đá chẻ 03-07 lớp cao 0,6m-1,4m (theo ý kiến hộ dân), tường xây gạch dày 100 cao 4,2m, tường sơn nước, tường quanh nhà được bao phủ 01 lớp tole, không ốp men vệ sinh, nền láng gạch đá mài, cửa khung sắt+ tole, trần nhựa, mái tole, có hệ vệ sinh hoàn chỉnh, hệ thống điện nước, trong đó:
D16: + Nhà 1 tầng, móng xây đá chẻ 3 lớp DTXD = DTGT = (4,8m x 5,2m) = 24,96m² | E16: m²XD | F16: =4.8*5.2 -> 24.96 | G16: =ROUND((3958967*1.12+3958967*15%),0) -> 5027888 | I16: 0.7 | J16: =ROUND((F16*G16*I16),0) -> 87847259
D17: Áp đơn giá tại phụ lục STT A.2.1, Quyết định số 08/2026/QĐ-UBND ngày 22/01/2026 của UBND tỉnh Khánh Hòa, đơn giá: 3.958.967đ/m² XD. Đơn giá điều chỉnh với hệ số 1,12 vì tường sơn nước; Tăng 15% vì nền lát gạch đá mài, có trần nhựa, hệ vệ sinh hoàn chỉnh (theo quy định tại VB số 2093/SXD-KTVLXD - mục I.2; I.12). Đơn giá: ((3.958.967đ/m2 XD x 1,12) + (3.958.967đ/m2 XD x 15%)) = 5.027.888đ/m²XD
D18: + Móng xây đá chẻ 1 lớp. Khối lượng: (0,2m x 4,8m x 5,2m) = 4,992m³ | E18: m³ | F18: =0.2*4.8*5.2 -> 4.992 | G18: 3096280 | I18: 0.7 | J18: =ROUND((F18*G18*I18),0) -> 10819641
D19: Áp đơn giá tại phụ lục STT C.48, Quyết định số 08/2026/QĐ-UBND ngày 22/01/2026 của UBND tỉnh Khánh Hòa, đơn giá: 3.096.280đ/m3.
D20: '+ Nhà 1 tầng, móng xây đá chẻ 7 lớp DTXD = DTGT = (4,8m x 8,3m)= 39,84m² | E20: m²XD | F20: =4.8*8.3 -> 39.84 | G20: =ROUND((3958967*1.12+3958967*15%),0) -> 5027888 | I20: 0.7 | J20: =ROUND((F20*G20*I20),0) -> 140217741
D21: Áp đơn giá tại phụ lục STT A.2.1, Quyết định số 08/2026/QĐ-UBND ngày 22/01/2026 của UBND tỉnh Khánh Hòa, đơn giá: 3.958.967đ/m² XD. Đơn giá điều chỉnh với hệ số 1,12 vì tường sơn nước; Tăng 15% vì nền lát gạch đá mài, có trần nhựa, hệ vệ sinh hoàn chỉnh (theo quy định tại VB số 2093/SXD-KTVLXD - mục I.2; I.12). Đơn giá: ((3.958.967đ/m2 XD x 1,12) + (3.958.967đ/m2 XD x 15%)) = 5.027.888đ/m²XD
D22: + Móng xây đá chẻ 5 lớp. Khối lượng: (1m x 4,8m x 8,3m) = 39,840m³ | E22: m³ | F22: =1*4.8*8.3 -> 39.84 | G22: 3096280 | I22: 0.7 | J22: =ROUND((F22*G22*I22),0) -> 86349057
D23: Áp đơn giá tại phụ lục STT C.48, Quyết định số 08/2026/QĐ-UBND ngày 22/01/2026 của UBND tỉnh Khánh Hòa, đơn giá: 3.096.280đ/m3. | N23: =3574642*8.5% -> 303844.57
D24: - Cổng trụ sắt, cánh thép tấm, thép hình dài 1,4m, cao 2,1m. | E24: m dài | F24: 1.4 | G24: 3855960 | I24: 1 | J24: =ROUND((F24*G24*I24),0) -> 5398344
D25: Áp đơn giá tại phụ lục STT C.13, Quyết định số 08/2026/QĐ-UBND ngày 22/01/2026 của UBND tỉnh Khánh Hòa, đơn giá: 3.855.960đ/md.
D26: - Tường rào xây gạch 100 cao 0,8m, kết hợp khung sắt+ lưới lam cao 0,6m, móng xây đá chẻ 04 lớp (theo ý kiến hộ dân), dài 6,1md. | E26: m dài | F26: 6.1 | G26: 2180272 | I26: 1 | J26: =ROUND((F26*G26*I26),0) -> 13299659
D27: Áp đơn giá tại phụ lục STT C.10.1, Quyết định số 08/2026/QĐ-UBND ngày 22/01/2026 của UBND tỉnh Khánh Hòa, đơn giá: 2.180.272đ/md.
D28: - Mái che cột kèo sắt, mái lợp tole, nền đất. DT: (1,1m x 1,9m) = 2,09m2 | E28: m2 | F28: 2.09 | G28: =1259097-1259097*15% -> 1070232.4 | I28: 0.7 | J28: =ROUND((F28*G28*I28),0) -> 1565750
D29: Áp đơn giá tại phụ lục STT C.4, Quyết định số 08/2026/QĐ-UBND ngày 22/01/2026 của UBND tỉnh Khánh Hòa, đơn giá: 1.259.097đ/m². Đơn giá giảm 15% vì nền đất (theo quy định tại VB số 2093/SXD-KTVLXD - mục I.12). Đơn giá: (1.259.097đ/m² - (1.259.097đ/m² x 15%)) = 1.070.232đ/m²
D30: '- Cổng trụ sắt, cánh thép tấm cao 1,2m, dài 0,95md. | E30: m dài | F30: 0.95 | G30: 3855960 | I30: 1 | J30: =ROUND((F30*G30*I30),0) -> 3663162
D31: Áp đơn giá tại phụ lục STT C.13, Quyết định số 08/2026/QĐ-UBND ngày 22/01/2026 của UBND tỉnh Khánh Hòa, đơn giá: 3.855.960đ/md.
D32: - Hàng rào lưới B40, trụ BTCT cao 1,5m, móng xây 01 lớp đá chẻ, dài 11,7md. | E32: m dài | F32: 11.7 | G32: 537955 | I32: 1 | J32: =ROUND((F32*G32*I32),0) -> 6294074
D33: Áp đơn giá tại phụ lục STT C.11,1, Quyết định số 08/2026/QĐ-UBND ngày 22/01/2026 của UBND tỉnh Khánh Hòa, đơn giá: 537.955đ/md.
D34: 2 - Tài sản khác: Không | J34: 0
D35: 3 - Cây trồng: | J35: =SUM(J37:J43) -> 9535000
D36: * Căn cứ pháp lý áp dụng: - Quyết định số 35/2026/QĐ-UBND ngày 04/5/2026 của UBND tỉnh Khánh Hòa ban hành quy định đơn giá bồi thường thiệt hại đối với cây trồng, vật nuôi khi Nhà nước thu hồi đất trên địa bàn tỉnh Khánh Hòa; - Văn bản số 9455/SNNMT-TTBVTV ngày 30/6/2026 của Sở Nông nghiệp và Môi trường V/v hướng dẫn áp dụng đơn giá bồi thường đối với cây trồng khi Nhà nước thu hồi đất theo QĐ số 35/2026/QĐ-UBND ngày 04/5/2026 của UBND tỉnh Khánh Hòa.
D37: - Si rô loại: 01 cây - áp giá tương đương cây Sơ ri loại A - PL II STT32 - Đơn giá 353.000 đ/cây | E37: cây | F37: 1 | G37: 353000 | H37: 1 | J37: =ROUND((F37*G37*H37),0) -> 353000
D38: - Xoài hạt loại C: 01 cây - STT 3 - Đơn giá 4.933.000 đ/cây | E38: cây | F38: 1 | G38: 4933000 | H38: 1 | J38: =ROUND((F38*G38*H38),0) -> 4933000
D39: - Xoài hạt loại 5 năm: 02 cây: STT 3 - Đơn giá 1.375000 đ/cây | E39: cây | F39: 2 | G39: 1375000 | H39: 1 | J39: =ROUND((F39*G39*H39),0) -> 2750000
D40: - Bưởi loại C: 01 cây: PLII - STT 4 - Đơn giá 824.000 đ/cây | E40: cây | F40: 1 | G40: 824000 | H40: 1 | J40: =ROUND((F40*G40*H40),0) -> 824000
D41: - Hoa giấy 01 cây: áp giá tương đương cây Gòn loại A - PL II STT 19 - Đơn giá 125.000 đ/cây | E41: cây | F41: 1 | G41: 125000 | H41: 1 | J41: =ROUND((F41*G41*H41),0) -> 125000
D42: - Sao năm thứ 6: 02 cây: Áp giá Sao đen năm thứ 5 - PLIII - STT 11.5. Đơn giá 161.000đ/cây | E42: cây | F42: 2 | G42: 161000 | H42: 1 | J42: =ROUND((F42*G42*H42),0) -> 322000
D43: - Bằng lăng 01 cây: áp giá tương đường cây Bồ quân loại A - PL II STT 3 - Đơn giá 228.000 đ/cây | E43: cây | F43: 1 | G43: 228000 | H43: 1 | J43: =ROUND((F43*G43*H43),0) -> 228000
D44: III. Hỗ trợ chi phí di chuyển tài sản: Không | J44: 0
D45: IV/ Chính sách hỗ trợ (1+2+3) | J45: =SUM(J46:J48) -> 0
D46: 1. Hỗ trợ đào tạo, chuyển đổi nghề và tìm kiếm việc làm: (Hộ ông Lương Văn Quang không trực tiếp sản xuất nông nghiệp trên đất) | E46: Hộ gia đình không trực tiếp sản xuất nông nghiệp tại vị trí thửa đất giải tỏa; không được bồi thường về đất nên không được hỗ trợ theo quy định tại Khoản 1, khoản 2 Điều 22 NĐ số 88/2024-NĐ-CP ngày 15/7/2024 và Điều 9, QĐ số 32/2026/QĐ-UBND ngày 29/4/2026 của UBND tỉnh Khánh Hòa | J46: 0
D47: 2. Hỗ trợ đào tạo, chuyển đổi nghề và tìm kiếm việc làm: (Hộ ông Lương Văn Quang không thực tế canh tác nông nghiệp trên đất) | E47: Hộ gia đình không được bồi thường về đất, thực tế không tham gia sản xuất nông nghiêp trên đất thu hồi nên không được hỗ trợ theo quy định tại Điều 19 NĐ số 88/2024-NĐ-CP ngày 15/7/2024 và Khoản 1, Điều 6, QĐ số 32/2026/QĐ-UBND ngày 29/4/2026 của UBND tỉnh Khánh Hòa | J47: 0
D48: 3. Hỗ trợ kinh phí chỉnh lý biến động: không | J48: 0
D49: * Tổng số tiền bồi thường, hỗ trợ (I+II+III+IV) | J49: =J5+J12+J44+J45 -> 364989687
D50: V/ Hỗ trợ khen thưởng | J50: =J52 -> 8000000
D51: - Khoản 2, Điều 15 QĐ số 32/2026/QĐ-UBND ngày 29/4/2026 của UBND tỉnh Khánh Hòa;
D52: Trường hợp thu hồi đất không thuộc các dự án quy định tại khoản 7 Điều 111 Luật Đất đai, bàn giao mặt bằng trước thời hạn quy định thì được khen thưởng 10% tổng giá trị bồi thường, hỗ trợ. Mức khen thưởng tối đa không vượt quá 8.000.000 (tám triệu) đồng /trường hợp; Trường hợp số tiền khen thưởng thấp hơn 1.000.000 (một triệu) đồng thì được khen thưởng là 1.000.000 (một triệu) đồng / trường hợp. | E52: TH | F52: 1 | G52: =IF(J49*10%>=8000000,8000000,IF(J49*10%<=1000000,1000000,J49*10%)) -> 8000000 | J52: =F52*G52 -> 8000000
D53: * Tổng số tiền bồi thường, hỗ trợ, khen thưởng (I+II+III+IV+V) | K53: =SUM(J49:J50) -> 372989687
D54: VI. Tái định cư:
D55: - Căn cứ Khoản 5 Điều 111 Luật Đất đai năm 2024, Điều 24 Nghị định số 88/NĐ-CP ngày 15/7/2024 của Chính phủ, Khoản 6 Điều 2 Nghị định số 226/2025/NĐ-CP ngày 15/8/2025 của Chính phủ | F55: Hộ gia đình không đủ điều kiện bố trí tái định cư do không được bồi thường đất ở và không phải di chuyển chỗ ở

Sheet ĐĐSang(T214)
A1: II/ Kết quả bồi thường, hỗ trợ, tái định cư
A2: STT | B2: HỌ TÊN VÀ ĐỊA CHỈ (Nơi ở và nơi giải tỏa | C2: GIẤY TỜ NGUỒN GỐC NHÀ ĐẤT | D2: NỘI DUNG BỒI THƯỜNG, HỖ TRỢ | E2: Đơn vị tính | F2: Khối lượng BT, HT | G2: Đơn giá (đồng) | H2: Mức BT (%) | I2: Mức HT (%) | J2: Thành tiền (đồng) | K2: TỔNG TIỀN (đồng) | L2: Ký nhận
A3: 1 | B3: 2 | C3: 3 | D3: 4 | E3: 5 | F3: 6 | G3: 7 | H3: 8 | I3: 9 | J3: 10 | K3: 11 | L3: 12
A4: 12 | B4: Hộ ông Đồng Đức Sang | C4: "* Giấy xác nhận về thửa đất bị thu hồi để phục vụ cho công tác bồi thường, hỗ trợ, tái định cư khi Nhà nước thu hồi đất số 10632/GXN-KTHTĐT ngày 19/8/2026 của Phòng Kinh tế, Hạ tầng và Đô thị phường Nam Nha Trang xác nhận: - Về thông tin nguồn gốc đất: * Thửa đất số 214 tờ bản đồ số 10 - 353599-1 (theo Bản đồ địa chính phường Nam Nha Trang - Đo đạc bổ sung), Tổng diện tích: 100 m², diện tích thu hồi: 100m², diện tích còn lại: 0m2 (tách ra từ thửa 76 thuộc Bản đồ địa chính phường Nam Nha Trang, đo đạc bổ sung tháng 4/2026 được Sở Nông nghiệp và Môi trường thẩm định ngày 05/5/2026); đối chiếu tương ứng các thửa đất: + Theo Sổ dã ngoại và Bản đồ địa chính xã Vĩnh Thái năm 1996: Thửa đất chưa được đo vẽ. + Đối chiếu bản đồ và sổ mục kê năm 2002: Thửa đất thu hồi tương ứng một phần thửa đất số 456 tờ bản đồ số 07, diện tích: 1.765m2, loại đất: Ao (hồ), tên kê khai: đất UBND xã quản lý, ghi chú: đất UBND xã, một phần thửa đất số 457 tờ bản đồ số 7, diện tích: 9.130m2, loại đất: Ao (hồ), tên kê khai: đất LD thủy sản, ghi chú: đất UBND xã. + Đối chiếu Bản đồ ĐC và sổ mục kê năm 2015: Thửa đất thu hồi tương ứng một phần thửa đất số 216, tờ bản đồ số 10, diện tích 10.738,4m2, loại đất: TSL do ông Điểm đứng tên kê khai. + Vị trí thửa đất thu hồi nằm trong Danh sách Kết luận thanh tra Theo Thông báo số 749/TB-UBND-TTra ngày 18/6/2025 của Chủ tịch UBND thành phố Nha Trang, đính kèm Kết luận thanh tra số 511/KL-TTra-KTXH ngày 13/6/2025 của Chánh Thanh tra thành phố Nha Trang, tại Phụ lục I – STT 956, 957 ghi nhận: thửa đất số 456, tờ bản đồ số 07, diện tích 1.765m2 (loại đất Ao (Hồ)), thửa đất số 457, tờ bản đồ số 07, diện tích 9.130m2 (loại đất Ao (Hồ)) thuộc Danh sách các loại đất khác do Nhà nước quản lý theo Sổ mục kê năm 2002, hiện trạng do người dân đang sử dụng. + Nguồn gốc đất: * Theo giấy tờ nguồn gốc đất do hộ gia đình cung cấp: - Ngày 01/9/1998, ông Nguyễn Chí Thấu có thông báo nộp thuế sử dụng đất nông nghiệp và thuế đất. - Ngày 25/02/1999, ông Nguyễn Chí Thấu và vợ là bà Lê Thị Kim Yến lập giấy chuyển quyền sử dụng đìa tôm cho ông Trần Văn Minh và bà Nguyễn Thị Long diện tích 10.000m2, giấy viết tay, không có xác nhận của cơ quan có thẩm quyền. - Ngày 19/8/1999, ông Trần Văn Minh và bà Nguyễn Thị Long lập giấy chuyển nhượng quyền sử dụng đìa tôm cho ông Lê Thế Lởn và bà Trần Thị Em diện tích 10.000m2, giấy viết tay, không có xác nhận của cơ quan có thẩm quyền. - Ngày 01/12/2000, ông Lê Thế Lởn và bà Trần Thị Em lập giấy chuyển nhượng quyền sử dụng đìa tôm cho bà Nguyễn Thị Điểm diện tích 10.000m2, giấy viết tay, không có xác nhận của cơ quan có thẩm quyền. -Ngày 05/5/2004, bà Nguyễn Thị Điểm lập giấy sang nhượng thành quả lao động cho bà Nguyễn Thị Thi diện tích 5.000m2, giấy viết tay, không có xác nhận của cơ quan có thẩm quyền. - Ngày 10/9/2019, bà Nguyễn Thị Thi và ông Nguyễn Thế Tuy lập giấy sang nhượng quyền sử dụng đất cho ông Đồng Đức Sang diện tích 100m2, giấy viết tay, không có xác nhận của cơ quan có thẩm quyền. Diện tích kê khai sử dụng của hộ ông Đồng Đức Sang là: - Tổng diện tích đất: 100m² - Diện tích thu hồi: 100m2 - Diện tích còn lại: 0,0m2 - Loại đất: TSL (Theo hồ sơ địa chính năm 2002 + 2015) nhưng hộ dân đã tự sang lấp mặt bằng và sử dụng vào mục đích khác. - Thời điểm sử dụng đất: năm 2019. - Thời điểm hình thành tài sản, vật kiến trúc: không có. - Thời điểm tạo lập cây trồng, vật nuôi: không có. - Tổng diện tích đất nông nghiệp của hộ gia đình tại thửa đất bị thu hồi: 100m2 - Tổng diện tích đất nông nghiệp của hộ gia đình tại địa phương: 100m2 - Hộ ông Đồng Đức Sang không trực tiếp sản xuất nông nghiệp tại vị trí thửa đất thu hồi. => Kết luận: Nguồn gốc sử dụng đất Thửa đất số 214, tờ bản đồ số 10 - 353599-1 (theo Bản đồ địa chính phường Nam Nha Trang - Đo đạc bổ sung), Tổng diện tích: 100m², diện tích thu hồi: 100m², diện tích còn lại: 0m2 thuộc Bản đồ địa chính phường Nam Nha Trang được Sở Nông nghiệp và Môi trường thẩm định ngày 05/5/2026, thuộc trường hợp hộ gia đình, cá nhân đang sử dụng đất do lấn đất hoặc chiếm đất do cơ quan, tổ chức của Nhà nước đã quản lý, được thể hiện trong hồ sơ địa chính (căn cứ Sổ mục kê năm 2002 và Thông báo số 749/TB-UBND-TTra ngày 18/6/2025 của Chủ tịch UBND thành phố Nha Trang, đính kèm Kết luận thanh tra số 511/KL-TTra-KTXH ngày 13/6/2025 của Chánh Thanh tra thành phố Nha Trang, Phụ lục I) - Quá trình sử dụng, thay đổi đất, nhà, vật kiến trúc xây dựng trên đất: * Thay đổi về sử dụng đất: - Thay đổi về diện tích, ranh giới sử dụng đất: không. - Thay đổi về mục đích sử dụng đất: không. * Thay đổi về nhà, vật kiến trúc, tài sản trên đất: không. * Thay đổi về địa chỉ thửa đất: không. * Tình hình tranh chấp đối với thửa đất: Hiện hộ ông Đồng Đức Sang đang sử dụng ổn định phần diện tích 100m2 từ năm 2019 cho đến nay, không lấn chiếm, không tranh chấp, không thuộc trường hợp đất 5%, đất công, đất khác do Nhà nước quản lý, không có đơn thư ngăn chặn, tài sản không bị phong toả để đảm bảo thi hành án. * Trường hợp diện tích đất thể hiện trên giấy tờ về quyền sử dụng đất có sự chênh lệch so với diện tích đất thực tế đang sử dụng: - Diện tích theo giấy tờ:m² - Diện tích đất thực tế đang sử dụng: m² - Diện tích đất chênh lệch tăng/giảm: * Trường hợp địa chỉ thửa đất thực tế đang sử dụng khác với địa chỉ thể hiện trên giấy tờ: - Địa chỉ thửa đất theo giấy tờ: thôn Vĩnh Xuân, xã Vĩnh Thái, Nha Trang - Địa chỉ đất giải tỏa: Tổ dân phố Vĩnh Xuân, phường Nam Nha Trang. Hai địa chỉ là cùng một thửa đất. * Các loại giấy tờ, tài liệu, người làm chứng làm căn cứ xác nhận các nội dung trên: (Giấy tờ kèm theo hồ sơ) - Hồ sơ địa chính xã năm 2002, 2015; - Biên bản họp xác minh nguồn gốc nhà, đất ngày 13/8/2026; - Biên bản kiểm kê khối lượng giải tỏa ngày 28/7/2026; - Phiếu xác nhận kết quả đo đạc địa chính thửa đất số 214 tờ bản đồ số 10; - Bản tự kê khai của ông Đồng Đức Sang. - Thông báo nộp thuế sử dụng đất nông nghiệp và thuế đất ngày 01/9/1998 của ông Nguyễn Chí Thấu. - Giấy chuyển quyền sử dụng đìa tôm của ông Nguyễn Chí Thấu và bà Lê Thị Kim Yến bán cho ông Trần Văn Minh và bà Nguyễn Thị Long diện tích 10.000m2, giấy viết tay ngày 25/02/1999, không có xác nhận của cơ quan có thẩm quyền. - Giấy chuyển nhượng quyền sử dụng đìa tôm của ông Trần Văn Minh và bà Nguyễn Thị Long bán cho ông Lê Thế Lởn và bà Trần Thị Em diện tích 10.000m2, giấy viết tay ngày 19/8/1999, không có xác nhận của cơ quan có thẩm quyền. - Giấy chuyển nhượng quyền sử dụng đìa tôm của ông Lê Thế Lởn và bà Trần Thị Em bán cho bà Nguyễn Thị Điểm diện tích 10.000m2, giấy viết tay ngày 01/12/2000, không có xác nhận của cơ quan có thẩm quyền. - Giấy sang nhượng thành quả lao động của bà Nguyễn Thị Điểm bán cho bà Nguyễn Thị Thi diện tích 5.000m2, giấy viết tay ngày 05/5/2004, không có xác nhận của cơ quan có thẩm quyền. - Giấy sang nhượng thành quả lao động của bà Nguyễn Thị Thi bán cho ông Đồng Đức Sang diện tích 100m2, giấy viết tay ngày 10/9/2019, không có xác nhận của cơ quan có thẩm quyền. - CCCD số 031082018494 do Cục QLHC về TTXH cấp ngày 13/3/2022 cho ông Đồng Đức Sang; - Văn bản số 12281/KTHTĐT ngày 22/9/2026 của Phòng Kinh tế, hạ tầng và đô thị phường Nam Nha Trang về việc góp ý phương án dự kiến bồi thường hỗ trợ, tái định cư của 19 trường hợp/ 19 thửa thuộc Dự án thành phần 1: Dự án thành phần giải phóng mặt bằng phục vụ dự án xây dựng Bệnh viện Đa khoa tỉnh Khánh Hòa thành Bệnh viện khu vực duyên hải Nam Trung Bộ tại phường Nam Nha Trang, tỉnh Khánh Hòa.
B5: CCCD số 031082018494 do Cục QLHC về TTXH cấp ngày 13/3/2022 cho ông Đồng Đức Sang | D5: I/ Về đất | J5: =J11 -> 0
D6: - Diện tích (thửa số 214 - tờ BĐ số 353599-1) | E6: m² | F6: 100
D7: + DT đất thu hồi | E7: m² | F7: 100
D8: + DT đất còn lại | E8: m² | F8: 0
D9: 1. Bồi thường về đất | E9: m² | F9: =SUM(F7) -> 100
B10: - Địa chỉ thường trú: 11 Tản Viên, phường Nha Trang, tỉnh Khánh Hòa. | D10: ** Căn cứ pháp lý áp dụng: - Khoản 2, Điều 101 Luật Đất đai năm 2024: "Trường hợp không được bồi thường về đất khi Nhà nước thu hồi đất: Đất do cơ quan, tổ chức Nhà nước quản lý quy định tại Điều 217 Luật đất đai" . - Điểm b, Khoản 1 Điều 217, Luật đất đai năm 2024: "Đât do cơ quan, tổ chức Nhà nước quản lý là đất chưa giao, chưa cho thuê, hoặc đã được giao đất để quản lý, bao gồm: Đất sông, ngòi, kênh, rạch, suối, ao, hồ, đầm, phá
B11: - Địa chỉ giải tỏa: | D11: - Diện tích đất không bồi thường: 100m² | E11: m² | F11: =F9 -> 100 | G11: Không bồi thường vì: Vị trí thửa đất thu hồi nằm trong Danh sách Kết luận thanh tra thuộc Danh sách các loại đất khác do Nhà nước quản lý theo Sổ mục kê năm 2002
B12: Tổ dân phố Vĩnh Xuân, Phường Nam Nha Trang, tỉnh Khánh Hòa | D12: II/ Tài sản gắn liền với đất (1+2+3) | J12: =SUM(J13:J15) -> 0
D13: 1- Công trình, vật kiến trúc: Không | J13: 0
D14: 2 - Tài sản khác: Không | J14: 0
D15: 3 - Cây trồng: Không | J15: 0
D16: III. Hỗ trợ chi phí di chuyển tài sản: Không | J16: 0
D17: IV/ Chính sách hỗ trợ (1+2) | J17: =SUM(J18:J19) -> 0
D18: 1. Hỗ trợ đào tạo, chuyển đổi nghề và tìm kiếm việc làm: (Hộ ông Đồng Đức Sang không trực tiếp sản xuất nông nghiệp tại vị trí thửa đất giải tỏa) | E18: Hộ gia đình không trực tiếp sản xuất nông nghiệp tại vị trí thửa đất giải tỏa; không được bồi thường về đất nên không được hỗ trợ theo quy định tại Khoản 1, khoản 2 Điều 22 NĐ số 88/2024-NĐ-CP ngày 15/7/2024 và Điều 9, QĐ số 32/2026/QĐ-UBND ngày 29/4/2026 của UBND tỉnh Khánh Hòa | J18: 0
D19: 2. Hỗ trợ ổn định đời sống: (Hộ ông Đồng Đức Sang thực tế không tham gia sản xuất nông nghiêp trên đất thu hồi) | E19: Hộ gia đình không được bồi thường về đất, thực tế không tham gia sản xuất nông nghiêp trên đất thu hồi nên không được hỗ trợ theo quy định tại Điều 19 NĐ số 88/2024-NĐ-CP ngày 15/7/2024 và Khoản 1, Điều 6, QĐ số 32/2026/QĐ-UBND ngày 29/4/2026 của UBND tỉnh Khánh Hòa | J19: 0
D20: * Tổng số tiền bồi thường, hỗ trợ (I+II+III+IV) | J20: =J5+J12+J16+J17 -> 0
D21: V/ Hỗ trợ khen thưởng | J21: =J23 -> 1000000
D22: - Khoản 2, Điều 15 QĐ số 32/2026/QĐ-UBND ngày 29/4/2026 của UBND tỉnh Khánh Hòa;
D23: - Trường hợp thu hồi đất không thuộc các dự án quy định tại khoản 7 Điều 111 Luật Đất đai, bàn giao mặt bằng trước thời hạn quy định thì được khen thưởng 10% tổng giá trị bồi thường, hỗ trợ. Mức khen thưởng tối đa không vượt quá 8.000.000 (tám triệu) đồng /trường hợp; Trường hợp số tiền khen thưởng thấp hơn 1.000.000 (một triệu) đồng thì được khen thưởng là 1.000.000 (một triệu) đồng / trường hợp. | E23: TH | F23: 1 | G23: =IF(J20*10%>=8000000,8000000,IF(J20*10%<=1000000,1000000,J20*10%)) -> 1000000 | J23: =F23*G23 -> 1000000
D24: * Tổng số tiền bồi thường, hỗ trợ, khen thưởng (I+II+III+IV+V) | K24: =J20+J21 -> 1000000
D25: VI. Tái định cư:
D26: - Căn cứ Khoản 5 Điều 111 Luật Đất đai năm 2024, Điều 24 Nghị định số 88/NĐ-CP ngày 15/7/2024 của Chính phủ, Khoản 6 Điều 2 Nghị định số 226/2025/NĐ-CP ngày 15/8/2025 của Chính phủ | F26: Hộ gia đình không đủ điều kiện bố trí tái định cư do không được bồi thường đất ở và không phải di chuyển chỗ ở

Sheet ĐĐSang(T265)
A1: II/ Kết quả bồi thường, hỗ trợ, tái định cư
A2: STT | B2: HỌ TÊN VÀ ĐỊA CHỈ (Nơi ở và nơi giải tỏa | C2: GIẤY TỜ NGUỒN GỐC NHÀ ĐẤT | D2: NỘI DUNG BỒI THƯỜNG, HỖ TRỢ | E2: Đơn vị tính | F2: Khối lượng BT, HT | G2: Đơn giá (đồng) | H2: Mức BT (%) | I2: Mức HT (%) | J2: Thành tiền (đồng) | K2: TỔNG TIỀN (đồng) | L2: Ký nhận
A3: 1 | B3: 2 | C3: 3 | D3: 4 | E3: 5 | F3: 6 | G3: 7 | H3: 8 | I3: 9 | J3: 10 | K3: 11 | L3: 12
A4: 13 | B4: Hộ ông Đồng Đức Sang | C4: "* Giấy xác nhận về thửa đất bị thu hồi để phục vụ cho công tác bồi thường, hỗ trợ, tái định cư khi Nhà nước thu hồi đất số 10633/GXN-KTHTĐT ngày 19/8/2026 của Phòng Kinh tế, Hạ tầng và Đô thị phường Nam Nha Trang xác nhận: - Về thông tin nguồn gốc đất: * Thửa đất số 265 tờ bản đồ số 10 - 353599-1 (theo Bản đồ địa chính phường Nam Nha Trang - Đo đạc bổ sung), Tổng diện tích: 100 m², diện tích thu hồi: 100m², diện tích còn lại: 0m2 (tách ra từ thửa 99 thuộc Bản đồ địa chính phường Nam Nha Trang, đo đạc bổ sung tháng 4/2026 được Sở Nông nghiệp và Môi trường thẩm định ngày 05/5/2026); đối chiếu tương ứng các thửa đất: + Theo Sổ dã ngoại và Bản đồ địa chính xã Vĩnh Thái năm 1996: Thửa đất chưa được đo vẽ. + Đối chiếu bản đồ và sổ mục kê năm 2002: Thửa đất thu hồi tương ứng một phần thửa đất số 457 tờ bản đồ số 7, diện tích: 9.130m2, loại đất: Ao (hồ), tên kê khai: đất LD thủy sản, ghi chú: đất UBND xã. + Đối chiếu Bản đồ ĐC và sổ mục kê năm 2015: Thửa đất thu hồi tương ứng một phần thửa đất số 216, tờ bản đồ số 10, diện tích 10.738,4m2, loại đất: TSL do ông Điểm đứng tên kê khai. + Vị trí thửa đất thu hồi nằm trong Danh sách Kết luận thanh tra Theo Thông báo số 749/TB-UBND-TTra ngày 18/6/2025 của Chủ tịch UBND thành phố Nha Trang, đính kèm Kết luận thanh tra số 511/KL-TTra-KTXH ngày 13/6/2025 của Chánh Thanh tra thành phố Nha Trang, tại Phụ lục I – STT 957 ghi nhận: thửa đất số 457, tờ bản đồ số 07, diện tích 9.130m2 (loại đất Ao (Hồ)) thuộc Danh sách các loại đất khác do Nhà nước quản lý theo Sổ mục kê năm 2002, hiện trạng do người dân đang sử dụng. + Nguồn gốc đất: * Theo giấy tờ nguồn gốc đất do hộ gia đình cung cấp: Ngày 01/9/1998, ông Nguyễn Chí Thấu có thông báo nộp thuế sử dụng đất nông nghiệp và thuế đất. Ngày 25/02/1999, ông Nguyễn Chí Thấu và vợ là bà Lê Thị Kim Yến lập giấy chuyển quyền sử dụng đìa tôm cho ông Trần Văn Minh và bà Nguyễn Thị Long diện tích 10.000m2, giấy viết tay, không có xác nhận của cơ quan có thẩm quyền. Ngày 19/8/1999, ông Trần Văn Minh và bà Nguyễn Thị Long lập giấy chuyển nhượng quyền sử dụng đìa tôm cho ông Lê Thế Lởn và bà Trần Thị Em diện tích 10.000m2, giấy viết tay, không có xác nhận của cơ quan có thẩm quyền. Ngày 01/12/2000, ông Lê Thế Lởn và bà Trần Thị Em lập giấy chuyển nhượng quyền sử dụng đìa tôm cho bà Nguyễn Thị Điểm diện tích 10.000m2, giấy viết tay, không có xác nhận của cơ quan có thẩm quyền. Ngày 05/5/2004, bà Nguyễn Thị Điểm lập giấy sang nhượng thành quả lao động cho bà Nguyễn Thị Thi diện tích 5.000m2, giấy viết tay, không có xác nhận của cơ quan có thẩm quyền. Ngày 16/9/2019, bà Nguyễn Thị Thi và ông Nguyễn Thế Tuy lập giấy sang nhượng quyền sử dụng đất cho ông Đồng Đức Sang diện tích 100m2, giấy viết tay, không có xác nhận của cơ quan có thẩm quyền. Diện tích kê khai sử dụng của ông Đồng Đức Sang là: - Tổng diện tích đất: 100m² - Diện tích thu hồi: 100m2 - Diện tích còn lại: 0,0m2 - Loại đất: TSL(Theo hồ sơ địa chính năm 2002 + 2015) nhưng hộ dân đã tự sang lấp mặt bằng và sử dụng vào mục đích khác. - Thời điểm sử dụng đất: năm 2019. - Thời điểm hình thành tài sản, vật kiến trúc: không có. - Thời điểm tạo lập cây trồng, vật nuôi: không có. - Tổng diện tích đất nông nghiệp của hộ gia đình tại thửa đất bị thu hồi: 100m2 - Tổng diện tích đất nông nghiệp của hộ gia đình tại địa phương: 100m2 - Hộ ông Đồng Đức Sang không trực tiếp sản xuất nông nghiệp tại vị trí thửa đất thu hồi. => Kết luận: Nguồn gốc sử dụng đất Thửa đất số 265, tờ bản đồ số 10 - 353599-1 (theo Bản đồ địa chính phường Nam Nha Trang - Đo đạc bổ sung), Tổng diện tích: 100m², diện tích thu hồi: 100m², diện tích còn lại: 0m2 thuộc Bản đồ địa chính phường Nam Nha Trang được Sở Nông nghiệp và Môi trường thẩm định ngày 05/5/2026, thuộc trường hợp hộ gia đình, cá nhân đang sử dụng đất do lấn đất hoặc chiếm đất do cơ quan, tổ chức của Nhà nước đã quản lý, được thể hiện trong hồ sơ địa chính (căn cứ Sổ mục kê năm 2002 và Thông báo số 749/TB-UBND-TTra ngày 18/6/2025 của Chủ tịch UBND thành phố Nha Trang, đính kèm Kết luận thanh tra số 511/KL-TTra-KTXH ngày 13/6/2025 của Chánh Thanh tra thành phố Nha Trang, Phụ lục I) - Quá trình sử dụng, thay đổi đất, nhà, vật kiến trúc xây dựng trên đất: * Thay đổi về sử dụng đất: - Thay đổi về diện tích, ranh giới sử dụng đất: không. - Thay đổi về mục đích sử dụng đất: không. * Thay đổi về nhà, vật kiến trúc, tài sản trên đất: không. * Thay đổi về địa chỉ thửa đất: không. * Tình hình tranh chấp đối với thửa đất: - Hiện hộ ông Đồng Đức Sang đang sử dụng ổn định phần diện tích 100m2 từ năm 2019 cho đến nay, không lấn chiếm, không tranh chấp, không thuộc trường hợp đất 5%, đất công, đất khác do Nhà nước quản lý, không có đơn thư ngăn chặn, tài sản không bị phong toả để đảm bảo thi hành án. * Trường hợp diện tích đất thể hiện trên giấy tờ về quyền sử dụng đất có sự chênh lệch so với diện tích đất thực tế đang sử dụng: - Diện tích theo giấy tờ:m² - Diện tích đất thực tế đang sử dụng: m² - Diện tích đất chênh lệch tăng/giảm: * Trường hợp địa chỉ thửa đất thực tế đang sử dụng khác với địa chỉ thể hiện trên giấy tờ: - Địa chỉ thửa đất theo giấy tờ: thôn Vĩnh Xuân, xã Vĩnh Thái, Nha Trang - Địa chỉ đất giải tỏa: Tổ dân phố Vĩnh Xuân, phường Nam Nha Trang. Hai địa chỉ là cùng một thửa đất. * Các loại giấy tờ, tài liệu, người làm chứng làm căn cứ xác nhận các nội dung trên: (Giấy tờ kèm theo hồ sơ) - Hồ sơ địa chính xã năm 2002, 2015; - Biên bản họp xác minh nguồn gốc nhà, đất ngày 13/8/2026; - Biên bản kiểm kê khối lượng giải tỏa ngày 28/7/2026; - Phiếu xác nhận kết quả đo đạc địa chính thửa đất số 214 tờ bản đồ số 10; - Bản tự kê khai của ông Đồng Đức Sang. - Thông báo nộp thuế sử dụng đất nông nghiệp và thuế đất ngày 01/9/1998 của ông Nguyễn Chí Thấu. - Giấy chuyển quyền sử dụng đìa tôm của ông Nguyễn Chí Thấu và bà Lê Thị Kim Yến bán cho ông Trần Văn Minh và bà Nguyễn Thị Long diện tích 10.000m2, giấy viết tay ngày 25/02/1999, không có xác nhận của cơ quan có thẩm quyền. - Giấy chuyển nhượng quyền sử dụng đìa tôm của ông Trần Văn Minh và bà Nguyễn Thị Long bán cho ông Lê Thế Lởn và bà Trần Thị Em diện tích 10.000m2, giấy viết tay ngày 19/8/1999, không có xác nhận của cơ quan có thẩm quyền. - Giấy chuyển nhượng quyền sử dụng đìa tôm của ông Lê Thế Lởn và bà Trần Thị Em bán cho bà Nguyễn Thị Điểm diện tích 10.000m2, giấy viết tay ngày 01/12/2000, không có xác nhận của cơ quan có thẩm quyền. - Giấy sang nhượng thành quả lao động của bà Nguyễn Thị Điểm bán cho bà Nguyễn Thị Thi diện tích 5.000m2, giấy viết tay ngày 05/5/2004, không có xác nhận của cơ quan có thẩm quyền. - Giấy sang nhượng thành quả lao động của bà Nguyễn Thị Thi bán cho ông Đồng Đức Sang diện tích 100m2, giấy viết tay ngày 16/9/2019, không có xác nhận của cơ quan có thẩm quyền - CCCD số 031082018494 do Cục QLHC về TTXH cấp ngày 13/3/2022 cho ông Đồng Đức Sang; - Văn bản số 12281/KTHTĐT ngày 22/9/2026 của Phòng Kinh tế, hạ tầng và đô thị phường Nam Nha Trang về việc góp ý phương án dự kiến bồi thường hỗ trợ, tái định cư của 19 trường hợp/ 19 thửa thuộc Dự án thành phần 1: Dự án thành phần giải phóng mặt bằng phục vụ dự án xây dựng Bệnh viện Đa khoa tỉnh Khánh Hòa thành Bệnh viện khu vực duyên hải Nam Trung Bộ tại phường Nam Nha Trang, tỉnh Khánh Hòa.
B5: CCCD số 031082018494 do Cục QLHC về TTXH cấp ngày 13/3/2022 cho ông Đồng Đức Sang | D5: I/ Về đất | J5: =J11 -> 0
D6: - Diện tích (thửa số 265 - tờ BĐ số 353599-1) | E6: m² | F6: 100
D7: + DT đất thu hồi | E7: m² | F7: 100
D8: + DT đất còn lại | E8: m² | F8: 0
D9: 1. Bồi thường về đất: | E9: m² | F9: =SUM(F7) -> 100
B10: - Địa chỉ thường trú: 11 Tản Viên, phường Nha Trang, tỉnh Khánh Hòa. | D10: ** Căn cứ pháp lý áp dụng: - Khoản 2, Điều 101 Luật Đất đai năm 2024: "Trường hợp không được bồi thường về đất khi Nhà nước thu hồi đất: Đất do cơ quan, tổ chức Nhà nước quản lý quy định tại Điều 217 Luật đất đai" . - Điểm b, Khoản 1 Điều 217, Luật đất đai năm 2024: "Đât do cơ quan, tổ chức Nhà nước quản lý là đất chưa giao, chưa cho thuê, hoặc đã được giao đất để quản lý, bao gồm: Đất sông, ngòi, kênh, rạch, suối, ao, hồ, đầm, phá
D11: - Diện tích đất không bồi thường: 100m² | E11: m² | F11: =F9 -> 100 | G11: Không bồi thường vì: Vị trí thửa đất thu hồi nằm trong Danh sách Kết luận thanh tra thuộc Danh sách các loại đất khác do Nhà nước quản lý theo Sổ mục kê năm 2002
D12: II/ Tài sản gắn liền với đất (1+2+3) | J12: =SUM(J13:J15) -> 0
B13: - Địa chỉ giải tỏa: | D13: 1- Công trình, vật kiến trúc: Không | J13: 0
B14: Tổ dân phố Vĩnh Xuân, Phường Nam Nha Trang, tỉnh Khánh Hòa | D14: 2 - Tài sản khác: Không | J14: 0
D15: 3 - Cây trồng: Không | J15: 0
D16: III. Hỗ trợ chi phí di chuyển tài sản: Không | J16: 0
D17: IV/ Chính sách hỗ trợ (1+2+3) | J17: =SUM(J18:J20) -> 0
D18: 1. Hỗ trợ đào tạo, chuyển đổi nghề và tìm kiếm việc làm: (Hộ ông Đồng Đức Sang không trực tiếp sản xuất nông nghiệp tại vị trí thửa đất giải tỏa) | E18: Hộ gia đình không trực tiếp sản xuất nông nghiệp tại vị trí thửa đất giải tỏa; không được bồi thường về đất nên không được hỗ trợ theo quy định tại Khoản 1, khoản 2 Điều 22 NĐ số 88/2024-NĐ-CP ngày 15/7/2024 và Điều 9, QĐ số 32/2026/QĐ-UBND ngày 29/4/2026 của UBND tỉnh Khánh Hòa | J18: 0
