Workbook

Sheet BANG TH
B1: UBND TỈNH KHÁNH HÒA | M1: CỘNG HÒA XÃ HỘI CHỦ NGHĨA VIỆT NAM
B2: TRUNG TÂM PHÁT TRIỂN QUỸ ĐẤT | M2: Độc lập - Tự do - Hạnh phúc
A4: BẢNG TỔNG HỢP KINH PHÍ DỰ KIẾN BỒI THƯỜNG, HỖ TRỢ Dự án thành phần 1: Bồi thường, hỗ trợ, tái định cư, giải phóng mặt bằng phục vụ dự án Dự án Xây dựng Bệnh viện đa khoa tỉnh Khánh Hòa trở thành Bệnh viện khu vực Duyên hải Nam Trung Bộ.
A6: STT | B6: Họ và tên | C6: Địa chỉ thửa đất thu hồi đất | D6: Thửa trích đo/ BĐ Trích đo | E6: Tổng diện tích | F6: Diện tích thu hồi (m²) | K6: Số tiền bồi thường, hỗ trợ (đồng) | Q6: Khen thưởng
F7: Diện tích thu hồi | G7: Đất ở | H7: Đất phi nông nghiệp | I7: Đất nông nghiệp | J7: Đất khác | K7: Tổng số tiền bồi thường, hỗ trợ | L7: Bồi thường, hỗ trợ về đất | M7: Bồi thường, hỗ trợ về tài sản & tài sản khác | N7: Bồi thường, hỗ trợ về cây trồng | O7: Bồi thường /Hỗ trợ chi phí di chuyển tài sản | P7: Hỗ trợ khác
A8: 1 | B8: 2 | C8: 3 | D8: 4 | E8: 6 | F8: 7 | G8: 8 | H8: 9 | I8: 10 | J8: 11 | K8: 12=13+14+15+16+17 | L8: 13 | M8: 14 | N8: 15 | O8: 16 | P8: 17 | Q8: 18
A9: 1 | B9: ='N.T.P.Nie (T116)'!B4 -> Hộ ông Nguyễn Trọng Phước Niê | C9: ='N.T.P.Nie (T116)'!B10 -> Tổ dân phố Vĩnh Xuân, Phường Nam Nha Trang, tỉnh Khánh Hòa | D9: 116/10-353599-1 | E9: ='N.T.P.Nie (T116)'!F6 -> 223.6 | F9: ='N.T.P.Nie (T116)'!F7 -> 223.6 | G9: 0 | H9: 0 | I9: 0 | J9: ='N.T.P.Nie (T116)'!F7 -> 223.6 | K9: =SUM(L9:P9) -> 338258378 | L9: ='N.T.P.Nie (T116)'!J5 -> 0 | M9: ='N.T.P.Nie (T116)'!J13+'N.T.P.Nie (T116)'!J28 -> 333596378 | N9: ='N.T.P.Nie (T116)'!J29 -> 4662000 | O9: ='N.T.P.Nie (T116)'!J39 -> 0 | P9: ='N.T.P.Nie (T116)'!J40 -> 0 | Q9: ='N.T.P.Nie (T116)'!J44 -> 8000000
A10: 2 | B10: ='N.N.Như Ý (T117)'!B4 -> Hộ bà Nguyễn Ngọc Như Ý | C10: ='N.N.Như Ý (T117)'!B12 -> Tổ dân phố Vĩnh Xuân, Phường Nam Nha Trang, tỉnh Khánh Hòa | D10: 117/10-353599-1 | E10: ='N.N.Như Ý (T117)'!F6 -> 109 | F10: ='N.N.Như Ý (T117)'!F7 -> 109 | G10: 0 | H10: 0 | I10: 0 | J10: ='N.N.Như Ý (T117)'!F11 -> 109 | K10: =SUM(L10:P10) -> 313055897 | L10: ='N.N.Như Ý (T117)'!J5 -> 0 | M10: ='N.N.Như Ý (T117)'!J13+'N.N.Như Ý (T117)'!J27 -> 312665897 | N10: ='N.N.Như Ý (T117)'!J28 -> 390000 | O10: ='N.N.Như Ý (T117)'!J33 -> 0 | P10: ='N.N.Như Ý (T117)'!J34 -> 0 | Q10: ='N.N.Như Ý (T117)'!J38 -> 8000000
A11: 3 | B11: ='N.Thị Hà (T118)'!B4 -> Hộ bà Nguyễn Thị Hà | C11: ='N.Thị Hà (T118)'!B12 -> Tổ dân phố Vĩnh Xuân, Phường Nam Nha Trang, tỉnh Khánh Hòa | D11: 118/10-353599-1 | E11: ='N.Thị Hà (T118)'!F6 -> 244 | F11: ='N.Thị Hà (T118)'!F6 -> 244 | G11: 0 | H11: 0 | I11: 0 | J11: ='N.Thị Hà (T118)'!F7 -> 244 | K11: =SUM(L11:P11) -> 95136417 | L11: ='N.Thị Hà (T118)'!J5 -> 0 | M11: ='N.Thị Hà (T118)'!J13+'N.Thị Hà (T118)'!J24 -> 90541417 | N11: ='N.Thị Hà (T118)'!J27 -> 4595000 | O11: ='N.Thị Hà (T118)'!J39 -> 0 | P11: ='N.Thị Hà (T118)'!J40 -> 0 | Q11: ='N.Thị Hà (T118)'!J44 -> 8000000
A12: 4 | B12: ='L.THỊ THÀNH (T115)'!B4 -> Hộ bà Lê Thị Thành | C12: ='L.THỊ THÀNH (T115)'!B14 -> Tổ dân phố Vĩnh Xuân, Phường Nam Nha Trang, tỉnh Khánh Hòa | D12: 115/10-353599-1 | E12: ='L.THỊ THÀNH (T115)'!F6 -> 174 | F12: ='L.THỊ THÀNH (T115)'!F7 -> 174 | G12: 0 | H12: 0 | I12: 0 | J12: ='L.THỊ THÀNH (T115)'!F11 -> 174 | K12: =SUM(L12:P12) -> 80132179 | L12: ='L.THỊ THÀNH (T115)'!J5 -> 0 | M12: ='L.THỊ THÀNH (T115)'!J13+'L.THỊ THÀNH (T115)'!J25 -> 79950179 | N12: ='L.THỊ THÀNH (T115)'!J28 -> 182000 | O12: ='L.THỊ THÀNH (T115)'!J31 -> 0 | P12: ='L.THỊ THÀNH (T115)'!J32 -> 0 | Q12: ='L.THỊ THÀNH (T115)'!J36 -> 8000000
A13: 5 | B13: ='T.THỊ TÂM (T51)'!B4 -> Hộ bà Trần Thị Tâm | C13: ='T.THỊ TÂM (T51)'!B12 -> Tổ dân phố Vĩnh Xuân, Phường Nam Nha Trang, tỉnh Khánh Hòa | D13: 51/10-353599-1 | E13: ='T.THỊ TÂM (T51)'!F6 -> 344.1 | F13: ='T.THỊ TÂM (T51)'!F7 -> 16.6 | G13: 0 | H13: 0 | I13: 0 | J13: ='T.THỊ TÂM (T51)'!F11 -> 16.6 | K13: =SUM(L13:P13) -> 23985588 | L13: ='T.THỊ TÂM (T51)'!J5 -> 0 | M13: ='T.THỊ TÂM (T51)'!J13+'T.THỊ TÂM (T51)'!J21 -> 23933588 | N13: ='T.THỊ TÂM (T51)'!J24 -> 52000 | O13: ='T.THỊ TÂM (T51)'!J27 -> 0 | P13: ='T.THỊ TÂM (T51)'!J28 -> 0 | Q13: ='T.THỊ TÂM (T51)'!J32 -> 2398558.8
A14: 6 | B14: ='L.T.MỸ HÒA (T62)'!B4 -> Hộ bà Lê Thị Mỹ Hòa | C14: ='L.T.MỸ HÒA (T62)'!B12 -> Tổ dân phố Vĩnh Xuân, Phường Nam Nha Trang, tỉnh Khánh Hòa | D14: 62/10-353599-1 | E14: ='L.T.MỸ HÒA (T62)'!F6 -> 95.5 | F14: ='L.T.MỸ HÒA (T62)'!F7 -> 95.5 | G14: 0 | H14: 0 | I14: 0 | J14: ='L.T.MỸ HÒA (T62)'!F11 -> 95.5 | K14: =SUM(L14:P14) -> 12096869 | L14: ='L.T.MỸ HÒA (T62)'!J5 -> 0 | M14: ='L.T.MỸ HÒA (T62)'!J13 -> 9204869 | N14: ='L.T.MỸ HÒA (T62)'!J20 -> 2892000 | O14: ='L.T.MỸ HÒA (T62)'!J26 -> 0 | P14: ='L.T.MỸ HÒA (T62)'!J27 -> 0 | Q14: ='L.T.MỸ HÒA (T62)'!J31 -> 1209686.9
A15: 7 | B15: ='N.T.CẨM VÂN (T60)'!B4 -> Hộ bà Nguyễn Thị Cẩm Vân | C15: ='N.T.CẨM VÂN (T60)'!B14 -> Tổ dân phố Vĩnh Xuân, Phường Nam Nha Trang, tỉnh Khánh Hòa | D15: 60/10-353599-1 | E15: ='N.T.CẨM VÂN (T60)'!F6 -> 174.5 | F15: ='N.T.CẨM VÂN (T60)'!F7 -> 174.5 | G15: 0 | H15: 0 | I15: 0 | J15: ='N.T.CẨM VÂN (T60)'!F11 -> 174.5 | K15: =SUM(L15:P15) -> 167341837 | L15: ='N.T.CẨM VÂN (T60)'!J5 -> 0 | M15: ='N.T.CẨM VÂN (T60)'!J13+'N.T.CẨM VÂN (T60)'!J26 -> 138463837 | N15: ='N.T.CẨM VÂN (T60)'!J29 -> 28878000 | O15: ='N.T.CẨM VÂN (T60)'!J47 -> 0 | P15: ='N.T.CẨM VÂN (T60)'!J48 -> 0 | Q15: ='N.T.CẨM VÂN (T60)'!J52 -> 8000000
A16: 8 | B16: ='L.THỊ DẦU (T61)'!B4 -> Hộ ông Nguyễn Thành Tâm và bà Lê Thị Dầu | C16: ='L.THỊ DẦU (T61)'!B14 -> Tổ dân phố Vĩnh Xuân, Phường Nam Nha Trang, tỉnh Khánh Hòa | D16: 61/10-353599-1 | E16: ='L.THỊ DẦU (T61)'!F6 -> 146.8 | F16: ='L.THỊ DẦU (T61)'!F7 -> 146.8 | G16: 0 | H16: 0 | I16: 0 | J16: ='L.THỊ DẦU (T61)'!F11 -> 146.8 | K16: =SUM(L16:P16) -> 388550613 | L16: ='L.THỊ DẦU (T61)'!J5 -> 0 | M16: ='L.THỊ DẦU (T61)'!J13+'L.THỊ DẦU (T61)'!J31 -> 388216613 | N16: ='L.THỊ DẦU (T61)'!J34 -> 334000 | O16: ='L.THỊ DẦU (T61)'!J38 -> 0 | P16: ='L.THỊ DẦU (T61)'!J39 -> 0 | Q16: ='L.THỊ DẦU (T61)'!J43 -> 8000000
A17: 9 | B17: ='N.THANH MINH (T123)'!B4 -> Hộ ông Nguyễn Thanh Minh và bà Lê Thị Ngọc Bích | C17: ='N.THANH MINH (T123)'!B13 -> Tổ dân phố Vĩnh Xuân, Phường Nam Nha Trang, tỉnh Khánh Hòa | D17: 123/10-353599-1 | E17: ='N.THANH MINH (T123)'!F6 -> 454.9 | F17: ='N.THANH MINH (T123)'!F7 -> 290.8 | G17: 0 | H17: 0 | I17: 0 | J17: ='N.THANH MINH (T123)'!F7 -> 290.8 | K17: =SUM(L17:P17) -> 177154918 | L17: ='N.THANH MINH (T123)'!J5 -> 0 | M17: ='N.THANH MINH (T123)'!J12+'N.THANH MINH (T123)'!J35 -> 171177918 | N17: ='N.THANH MINH (T123)'!J36 -> 5977000 | O17: ='N.THANH MINH (T123)'!J51 -> 0 | P17: ='N.THANH MINH (T123)'!J52 -> 0 | Q17: ='N.THANH MINH (T123)'!J56 -> 8000000
A18: 10 | B18: ='L.V.Quang (T95)'!B4 -> Hộ ông Lương Văn Quang | C18: ='L.V.Quang (T95)'!B13 -> Tổ dân phố Vĩnh Xuân, phường Nam Nha Trang, tỉnh Khánh Hòa. | D18: 95/10-353599-1 | E18: ='L.V.Quang (T95)'!F6 -> 111.5 | F18: ='L.V.Quang (T95)'!F7 -> 111.5 | G18: 0 | H18: 0 | I18: 0 | J18: ='L.V.Quang (T95)'!F7 -> 111.5 | K18: =SUM(L18:P18) -> 23220759 | L18: ='L.V.Quang (T95)'!J5 -> 0 | M18: ='L.V.Quang (T95)'!J12+'L.V.Quang (T95)'!J21 -> 15279759 | N18: ='L.V.Quang (T95)'!J22 -> 7941000 | O18: ='L.V.Quang (T95)'!J40 -> 0 | P18: ='L.V.Quang (T95)'!J41 -> 0 | Q18: ='L.V.Quang (T95)'!J45 -> 0
A19: 11 | B19: ='L.V.Quang (T94)'!B4 -> Hộ ông Lương Văn Quang | C19: ='L.V.Quang (T94)'!B10 -> Tổ dân phố Vĩnh Xuân, phường Nam Nha Trang, tỉnh Khánh Hòa. | D19: 94/10-353599-1 | E19: ='L.V.Quang (T94)'!F6 -> 111.5 | F19: ='L.V.Quang (T94)'!F7 -> 111.5 | G19: 0 | H19: 0 | I19: 0 | J19: ='L.V.Quang (T94)'!F11 -> 111.5 | K19: =SUM(L19:P19) -> 364989687 | L19: ='L.V.Quang (T94)'!J5 -> 0 | M19: ='L.V.Quang (T94)'!J13+'L.V.Quang (T94)'!J34 -> 355454687 | N19: ='L.V.Quang (T94)'!J35 -> 9535000 | O19: ='L.V.Quang (T94)'!J44 -> 0 | P19: ='L.V.Quang (T94)'!J45 -> 0 | Q19: ='L.V.Quang (T94)'!J50 -> 8000000
A20: 12 | B20: ='ĐĐSang(T214)'!B4 -> Hộ ông Đồng Đức Sang | C20: ='ĐĐSang(T214)'!B12 -> Tổ dân phố Vĩnh Xuân, Phường Nam Nha Trang, tỉnh Khánh Hòa | D20: 214/10-353599-1 | E20: ='ĐĐSang(T214)'!F6 -> 100 | F20: ='ĐĐSang(T214)'!F7 -> 100 | G20: 0 | H20: 0 | I20: 0 | J20: ='ĐĐSang(T214)'!F11 -> 100 | K20: =SUM(L20:P20) -> 0 | L20: ='ĐĐSang(T214)'!J5 -> 0 | M20: ='ĐĐSang(T214)'!J13+'ĐĐSang(T214)'!J14 -> 0 | N20: ='ĐĐSang(T214)'!J15 -> 0 | O20: ='ĐĐSang(T214)'!J16 -> 0 | P20: ='ĐĐSang(T214)'!J17 -> 0 | Q20: ='ĐĐSang(T214)'!J21 -> 1000000
A21: 13 | B21: ='ĐĐSang(T265)'!B4 -> Hộ ông Đồng Đức Sang | C21: ='ĐĐSang(T265)'!B14 -> Tổ dân phố Vĩnh Xuân, Phường Nam Nha Trang, tỉnh Khánh Hòa | D21: 265/10-353599-1 | E21: ='ĐĐSang(T265)'!F6 -> 100 | F21: ='ĐĐSang(T265)'!F7 -> 100 | G21: 0 | H21: 0 | I21: 0 | J21: ='ĐĐSang(T265)'!F11 -> 100 | K21: =SUM(L21:P21) -> 0 | L21: ='ĐĐSang(T265)'!J5 -> 0 | M21: ='ĐĐSang(T265)'!J13+'ĐĐSang(T265)'!J14 -> 0 | N21: ='ĐĐSang(T265)'!J15 -> 0 | O21: ='ĐĐSang(T265)'!J16 -> 0 | P21: ='ĐĐSang(T265)'!J17 -> 0 | Q21: ='ĐĐSang(T265)'!J17 -> 0
A22: 14 | B22: ='ĐĐSang(T272)'!B4 -> Hộ ông Đồng Đức Sang | C22: ='ĐĐSang(T272)'!B15 -> Tổ dân phố Vĩnh Xuân, Phường Nam Nha Trang, tỉnh Khánh Hòa | D22: 272/10-353599-1 | E22: ='ĐĐSang(T272)'!F6 -> 100 | F22: ='ĐĐSang(T272)'!F7 -> 100 | G22: 0 | H22: 0 | I22: 0 | J22: ='ĐĐSang(T272)'!F11 -> 100 | K22: =SUM(L22:P22) -> 0 | L22: ='ĐĐSang(T272)'!J5 -> 0 | M22: ='ĐĐSang(T272)'!J13+'ĐĐSang(T272)'!J14 -> 0 | N22: ='ĐĐSang(T272)'!J15 -> 0 | O22: ='ĐĐSang(T272)'!J16 -> 0 | P22: ='ĐĐSang(T272)'!J17 -> 0 | Q22: ='ĐĐSang(T272)'!J22 -> 0
A23: 15 | B23: ='LATuấn(T96)'!B4 -> Hộ ông Lê Anh Tuấn | C23: ='LATuấn(T96)'!B14 -> Tổ dân phố Vĩnh Xuân, Phường Nam Nha Trang, tỉnh Khánh Hòa | D23: 96/10-353599-1 | E23: ='LATuấn(T96)'!F6 -> 200 | F23: ='LATuấn(T96)'!F7 -> 200 | G23: 0 | H23: 0 | I23: 0 | J23: ='LATuấn(T96)'!F11 -> 200 | K23: =SUM(L23:P23) -> 122579023 | L23: ='LATuấn(T96)'!J5 -> 0 | M23: ='LATuấn(T96)'!J13+'LATuấn(T96)'!J25 -> 122243023 | N23: ='LATuấn(T96)'!J26 -> 336000 | O23: ='LATuấn(T96)'!J29 -> 0 | P23: ='LATuấn(T96)'!J30 -> 0 | Q23: ='LATuấn(T96)'!J35 -> 8000000
A24: 16 | B24: ='LATuấn(T97)'!B4 -> Hộ ông Lê Anh Tuấn | C24: ='LATuấn(T97)'!B14 -> Tổ dân phố Vĩnh Xuân, Phường Nam Nha Trang, tỉnh Khánh Hòa | D24: 97/10-353599-1 | E24: ='LATuấn(T97)'!F6 -> 200.6 | F24: ='LATuấn(T97)'!F7 -> 200.6 | G24: 0 | H24: 0 | I24: 0 | J24: ='LATuấn(T97)'!F11 -> 200.6 | K24: =SUM(L24:P24) -> 101000 | L24: ='LATuấn(T97)'!J5 -> 0 | M24: ='LATuấn(T97)'!J13+'LATuấn(T97)'!J14 -> 0 | N24: ='LATuấn(T97)'!J15 -> 101000 | O24: ='LATuấn(T97)'!J19 -> 0 | P24: ='LATuấn(T97)'!J20 -> 0 | Q24: ='LATuấn(T97)'!J25 -> 0
A25: 17 | B25: ='LATuấn(T262)'!B4 -> Hộ ông Lê Anh Tuấn | C25: ='LATuấn(T262)'!B12 -> Tổ dân phố Vĩnh Xuân, Phường Nam Nha Trang, tỉnh Khánh Hòa | D25: 262/10-353599-1 | E25: ='LATuấn(T262)'!F6 -> 900 | F25: ='LATuấn(T262)'!F7 -> 900 | G25: 0 | H25: 0 | I25: 0 | J25: ='LATuấn(T262)'!F11 -> 900 | K25: =SUM(L25:P25) -> 414000 | L25: ='LATuấn(T262)'!J5 -> 0 | M25: ='LATuấn(T262)'!J13+'LATuấn(T262)'!J14 -> 0 | N25: ='LATuấn(T262)'!J15 -> 414000 | O25: ='LATuấn(T262)'!J19 -> 0 | P25: ='LATuấn(T262)'!J20 -> 0 | Q25: ='LATuấn(T262)'!J25 -> 0
A26: 18 | B26: ='LATuấn(T288)'!B4 -> Hộ ông Lê Anh Tuấn | C26: ='LATuấn(T288)'!B12 -> Tổ dân phố Vĩnh Xuân, Phường Nam Nha Trang, tỉnh Khánh Hòa | D26: 288/10-353599-1 | E26: ='LATuấn(T288)'!F6 -> 300.4 | F26: ='LATuấn(T288)'!F7 -> 300.4 | G26: 0 | H26: 0 | I26: 0 | J26: ='LATuấn(T288)'!F11 -> 300.4 | K26: =SUM(L26:P26) -> 1204000 | L26: ='LATuấn(T288)'!J5 -> 0 | M26: ='LATuấn(T288)'!J13+'LATuấn(T288)'!J14 -> 0 | N26: ='LATuấn(T288)'!J15 -> 1204000 | O26: ='LATuấn(T288)'!J19 -> 0 | P26: ='LATuấn(T288)'!J20 -> 0 | Q26: ='LATuấn(T288)'!J25 -> 0
A27: 19 | B27: ='LATuấn(T290)'!B4 -> Hộ ông Lê Anh Tuấn | C27: ='LATuấn(T290)'!B12 -> Tổ dân phố Vĩnh Xuân, Phường Nam Nha Trang, tỉnh Khánh Hòa | D27: 290/10-353599-1 | E27: ='LATuấn(T290)'!F6 -> 400 | F27: ='LATuấn(T290)'!F7 -> 400 | G27: 0 | H27: 0 | I27: 0 | J27: ='LATuấn(T290)'!F11 -> 400 | K27: =SUM(L27:P27) -> 106000 | L27: ='LATuấn(T290)'!J5 -> 0 | M27: ='LATuấn(T290)'!J13+'LATuấn(T290)'!J14 -> 0 | N27: ='LATuấn(T290)'!J15 -> 106000 | O27: ='LATuấn(T290)'!J18 -> 0 | P27: ='LATuấn(T290)'!J19 -> 0 | Q27: ='LATuấn(T290)'!J24 -> 0
B28: Tổng | E28: =SUM(E9:E27) -> 4490.4 | F28: =SUM(F9:F27) -> 3998.8 | G28: =SUM(G9:G27) -> 0 | H28: =SUM(H9:H27) -> 0 | I28: =SUM(I9:I27) -> 0 | J28: =SUM(J9:J27) -> 3998.8 | K28: =SUM(K9:K27) -> 2108327165 | L28: =SUM(L9:L27) -> 0 | ... Q28: =SUM(Q9:Q27) -> 76608246
B30: 1/ Số trường hợp bị giải tỏa: | K30: 19 trường hợp / 19 thửa
B31: 2/ Kinh phí bồi thường, hỗ trợ: | K31: =K28 -> 2108327165 | M31: đồng
B32: 3/ Kinh phí tổ chức thực hiện (3% Tổng kinh phí bồi thường, hỗ trợ): | K32: =K31*3% -> 63249815 | M32: đồng
B33: 4/ Kinh phí khen thưởng: | L33: =Q28 -> 76608246 | M33: đồng
B34: 5/ Tổng kinh phí bồi thường, hỗ trợ, khen thưởng và kinh phí tổ chức thực hiện: | K34: =K31+K32+L33 -> 2.2481852e+09 | M34: đồng
B35: Bằng chữ: | C35: Hai tỷ, hai trăm bốn mươi tám triệu, một trăm tám mươi lăm nghìn, hai trăm hai mươi sáu đồng.
L37: Khánh Hòa, ngày 25 tháng 9 năm 2026
L38: TRUNG TÂM PHÁT TRIỂN QUỸ ĐẤT KHÁNH HÒA
A39: Người lập phương án | D39: Người soát | H39: Trưởng phòng | L39: PHÓ GIÁM ĐỐC PHỤ TRÁCH
A50: Đào Thị Phương Lam | D50: Phạm Thị Kiều My | H50: Hà Văn Hùng | L50: Nguyễn Văn Thành
K59: 0.05 | L59: =K32*5% -> 3162490.7
K60: 0.03 | L60: =K32*3% -> 1897494.4
K61: 0.01 | L61: =K32*1% -> 632498.15

Sheet PHÁP LÝ
A2: I | B2: Các căn cứ pháp lý để lập phương án:
A3: 1. | B3: Các văn bản liên quan đến chính sách bồi thường, hỗ trợ, tái định cư:
A4: - | B4: Luật Đất đai số 31/2024/QH15 ngày 18/01/2024;
A5: - | B5: Căn cứ Luật số 43/2024/QH15 ngày 01/8/2024 của Quốc Hội sửa đổi, bổ sung một số điều của Luật Đất đai số 31/2024/QH15, Luật Nhà ở số 27/2023/QH15, Luật Kinh doanh bất động sản số 29/2023/QH15 và Luật Các tổ chức tín dụng số 32/2024/QH15;
A6: - | B6: Nghị định số 102/2024/NĐ-CP ngày 30/7/2024 của Chính phủ về Quy định chi tiết thi hành một số điều của Luật Đất đai;
A7: - | B7: Nghị định số 88/2024/NĐ-CP ngày 15/7/2024 của Chính Phủ Quy định về bồi thường, hỗ trợ, tái định cư khi Nhà nước thu hồi đất;
A8: - | B8: Nghị định số 150/2025/NĐ-CP ngày 12/6/2025 của Chính phủ quy định tổ chức các cơ quan chuyên môn thuộc Ủy ban nhân dân tỉnh, thành phố trực thuộc trung ương và Ủy ban nhân dân xã, phường, đặc khu thuộc tỉnh, thành phố trực thuộc Trung ương;
B9: Nghị định số 151/2025/NĐ-CP ngày 12/6/2025 của Chính phủ Quy định về phân định thẩm quyền của chính quyền địa phương 02 cấp, phân quyền, phân cấp trong lĩnh vực đất đai;
A10: - | B10: Nghị định số 226/2025/NĐ-CP ngày 15/8/2025 của Chính phủ về Sửa đổi, bổ sung một số điều của các nghị định quy định chi tiết thi hành Luật Đất đai;
A11: - | B11: Nghị quyết số 254/2025/QH15 ngày 11/12/2025 của Quốc hội quy định một số cơ chế, chính sách tháo gỡ khó khăn, vướng mắc trong tổ chức thi hành Luật đất đai;
A12: - | B12: Nghị định số 49/2026/NĐ-CP ngày 30/01/2026 của Chính phủ Quy định chi tiết và hướng dẫn một số điều của Nghị quyết số 254/2025/QH15 của Quốc hội quy định một số cơ chế, chính sách tháo gỡ khó khăn, vướng mắc trong tổchức thi hành Luật Đất đai;
A13: - | B13: Nghị định số 50/2026/NĐ-CP ngày 30/01/2026 của Chính phủ Quy định chi tiết một số điều của Nghị quyết số 254/2025/QH15 ngày 11 tháng 12 năm 2025 của Quốc hội quy định một số cơ chế, chính sách tháo gỡ khó khăn,vướng mắc trong tổ chức thi hành Luật Đất đai về tiền sử dụng đất, tiền thuê đất;
A14: - | B14: Nghị quyết số 15/2025/NQ-HĐND ngày 18/12/2025 của Hội đồng nhân dân tỉnh Khánh Hòa quy định về bảng giá đất lần đầu áp dụng từ ngày 01/01/2026 trên địa bàn tỉnh Khánh Hòa;
A15: - | B15: Quyết định số 17/2024/QĐ-UBND ngày 29/8/2024 của UBND tỉnh Khánh Hòa về việc ban hành Quy định chi tiết một số nội dung về bồi thường, hỗ trợ và tái định cư khi Nhà nước thu hồi đất trên địa bàn tỉnh Khánh Hòa;
A16: - | B16: Quyết định số 14/2025/QĐ-UBND ngày 07/8/2025 của UBND tỉnh Khánh Hòa sửa đổi, bổ sung Quyết định số 17/2024/QĐ-UBND ngày 29/8/2024 của UBND tỉnh Khánh Hòa về việc ban hành Quy định chi tiết một số nội dung về bồi thường, hỗ trợ và tái định cư khi Nhà nước thu hồi đất trên địa bàn tỉnh Khánh Hòa;
A17: - | B17: Quyết định số 744/2025/QĐ-UBND ngày 18/8/2025 của UBND tỉnh Khánh Hòa Đính chính sai sót do lỗi về kỹ thuật trình bày tại Quyết định số 14/2025/QĐ-UBND ngày 07 tháng 8 năm 2025 sửa đổi, bổ sung Quyết định số 17/2024/QĐ-UBND ngày 29 tháng 8 năm 2024 của Ủy ban nhân dân tỉnh Khánh Hòa ban hành Quy định chi tiết một số nội dung về bồi thường, hỗ trợ, tái định cư khi Nhà nước thu hồi đất trên địa bàn tỉnh Khánh Hòa;
A18: - | B18: Quyết định số 28/2026/QĐ-UBND ngày 13/4/2026 của UBND tỉnh Khánh Hòa về việc phân cấp thực hiện các nhiệm vụ quản lý Nhà nước về đất đai trên địa bàn tỉnh Khánh Hòa;
A19: - | B19: Quyết định số 32/2026/QĐ-UBND ngày 26/4/2026 của UBND tỉnh Khánh Hòa về việc quy định một số nội dung, biện pháp hỗ trợ khác khi Nhà nước thu hồi đất trên địa bàn tỉnh Khánh Hòa;
A20: - | B20: Quyết định số 35/2026/QĐ-UBND ngày 04/5/2026 của UBND tỉnh Khánh Hòa về việc ban hành đơn giá bồi thường, hỗ trợ thiệt hại đối với cây trồng, vật nuôi khi Nhà nước thu hồi đất trên địa bàn tỉnh Khánh Hòa.
A21: - | B21: Văn bản số 9455/SNNMT-TTBVTV ngày 30/6/2026 của Sở Nông nghiệp và Môi trường V/v hướng dẫn áp dụng đơn giá bồi thường đối với cây trồng khi Nhà nước thu hồi đất theo QĐ số 35/2026/QĐ-UBND ngày 04/5/2026 của UBND tỉnh Khánh Hòa.
... A33: - | B33: Biên bản làm việc ngày 15/9/2026 về nội dung: xác minh tình trạng sinh sống ăn ở thực tế tại địa phương .

Sheet N.T.P.Nie (T116)
A1: II/ Kết quả bồi thường, hỗ trợ, tái định cư
A2: STT | B2: HỌ TÊN VÀ ĐỊA CHỈ (Nơi ở và nơi giải tỏa | C2: GIẤY TỜ NGUỒN GỐC NHÀ ĐẤT | D2: NỘI DUNG BỒI THƯỜNG, HỖ TRỢ | E2: Đơn vị tính | F2: Khối lượng BT, HT | G2: Đơn giá (đồng) | H2: Mức BT (%) | I2: Mức HT (%) | J2: Thành tiền (đồng) | K2: TỔNG TIỀN (đồng) | L2: Ký nhận
A3: 1 | B3: 2 | C3: 3 | D3: 4 | E3: 5 | F3: 6 | G3: 7 | H3: 8 | I3: 9 | J3: 10 | K3: 11 | L3: 12
A4: 1 | B4: Hộ ông Nguyễn Trọng Phước Niê | C4: " * Giấy xác nhận về thửa đất bị thu hồi để phục vụ cho công tác bồi thường, hỗ trợ, tái định cư khi Nhà nước thu hồi đất số 9890/GXN-KTHTĐT ngày 04/8/2026 của Phòng Kinh tế Hạ tầng và Đô thị phường Nam Nha Trang xác nhận: - Về thông tin nguồn gốc đất: * Thửa đất số 116 tờ bản đồ số 10 - 353599-1 (theo Bản đồ địa chính phường Nam Nha Trang - Đo đạc bổ sung): Tổng diện tích: 223,6m², diện tích thu hồi: 223,6m², diện tích còn lại: 0m² thuộc Bản đồ địa chính phường Nam Nha Trang được Sở Nông nghiệp và Môi trường thẩm định ngày 05/5/2026, đối chiếu tương ứng các thửa đất: + Theo Sổ dã ngoại và Bản đồ địa chính xã Vĩnh Thái năm 1996: Thửa đất chưa được đo vẽ. + Đối chiếu bản đồ và sổ mục kê năm 2002: Thửa đất thu hồi tương ứng một phần thửa đất số 407, TBĐ 07, diện tích 3300m2 , Loại đất: đất chưa sử dụng. Ghi chú đất UBND xã. + Đối chiếu Bản đồ ĐC và sổ mục kê năm 2015: Thửa đất thu hồi tương ứng một phần thửa đất số 200 tờ bản đồ số 10, diện tích: 3.277,6m2, loại đất: BHK do ông Nguyễn Văn Ọ đứng tên kê khai và một phần thửa đất số 287 tờ bản đồ số 10, diện tích: 11.650,2m2 do UBND phường quản lý; diện tích lấn đất DTL 20,5m2 + Vị trí thửa đất thu hồi nằm trong Danh sách Kết luận thanh tra Theo Thông báo số 749/TB-UBND-TTra ngày 18/6/2025 của Chủ tịch UBND thành phố Nha Trang, đính kèm Kết luận thanh tra số 511/KL-TTra-KTXH ngày 13/6/2025 của Chánh Thanh tra thành phố Nha Trang, tại Phụ lục I – STT 949 ghi nhận: thửa đất số 407, tờ bản đồ số 07, diện tích 3.300m2 (loại đất Hg/b) thuộc Danh sách các loại đất khác do Nhà nước quản lý theo Sổ mục kê năm 2002, hiện trạng do người dân đang sử dụng. * Nguồn gốc đất: * Theo giấy tờ nguồn gốc đất do hộ gia đình cung cấp: Nguồn gốc đất do ông Nguyễn Ọ chiếm trước năm 2012. Ngày 20/5/2019, ông Nguyễn Ọ lập đơn cho quyền sử dụng đất cho cháu nội là ông Nguyễn Trọng Phước Niê, giấy viết tay, không có xác nhận của cơ quan có thẩm quyền. Diện tích kê khai sử dụng của ông Nguyễn Trọng Phước Niê là: - Tổng diện tích đất: 223,6m² - Diện tích thu hồi: 223,6m2 - Diện tích còn lại: 0m2 - Loại đất: BHK (Theo hồ sơ địa chính năm 2015+2002). - Thời điểm sử dụng đất: sau 2019. -Thời điểm hình thành tài sản, vật kiến trúc: Sau năm 2019 đến trước thông báo thu hồi đất. (Hiện trạng trên đất có nhà) - Thời điểm tạo lập cây trồng, vật nuôi: Sau năm 2019 đến trước thông báo thu hồi đất. - Tổng diện tích đất nông nghiệp của hộ gia đình tại thửa đất bị thu hồi: 223,6m2 (diện tích lấn đất DTL 20,5m2) - Tổng diện tích đất nông nghiệp của hộ gia đình tại địa phương: 223,6m2 - Hộ ông Nguyễn Trọng Phước Niê không trực tiếp sản xuất nông nghiệp tại vị trí thửa đất thu hồi. => Kết luận: Nguồn gốc sử dụng đất Thửa đất số 116, tờ bản đồ số 10 - 353599-1 (theo Bản đồ địa chính phường Nam Nha Trang - Đo đạc bổ sung), Tổng diện tích: 223,6m², diện tích thu hồi: 223,6m², diện tích còn lại: 0m2 thuộc Bản đồ địa chính phường Nam Nha Trang được Sở Nông nghiệp và Môi trường thẩm định ngày 05/5/2026, thuộc trường hợp hộ gia đình, cá nhân đang sử dụng đất do lấn đất hoặc chiếm đất do cơ quan, tổ chức của Nhà nước đã quản lý, được thể hiện trong hồ sơ địa chính (căn cứ Sổ mục kê năm 2002 và Thông báo số 749/TB-UBND-TTra ngày 18/6/2025 của Chủ tịch UBND thành phố Nha Trang, đính kèm Kết luận thanh tra số 511/KL-TTra-KTXH ngày 13/6/2025 của Chánh Thanh tra thành phố Nha Trang, Phụ lục I) 2. Quá trình sử dụng, thay đổi đất, nhà, vật kiến trúc xây dựng trên đất. * Thay đổi về sử dụng đất: - Thay đổi về diện tích, ranh giới sử dụng đất: không. - Thay đổi về mục đích sử dụng đất: không. * Thay đổi về nhà, vật kiến trúc, tài sản trên đất: không. * Thay đổi về địa chỉ thửa đất: không II. Tình hình tranh chấp đối với thửa đất: Hiện hộ ông Nguyễn Trọng Phước Niê đang sử dụng ổn định phần diện tích 223,6m2 từ sau năm 2015 cho đến nay, không lấn chiếm, không tranh chấp, không thuộc trường hợp đất 5%, đất công, đất khác do Nhà nước quản lý, không có đơn thư ngăn chặn, tài sản không bị phong toả để đảm bảo thi hành án. III. Trường hợp diện tích đất thể hiện trên giấy tờ về quyền sử dụng đất có sự chênh lệch so với diện tích đất thực tế đang sử dụng: - Diện tích theo giấy tờ: m2 - Diện tích đất thực tế đang sử dụng: m2 - Diện tích đất chênh lệch tăng/giảm: IV. Trường hợp địa chỉ thửa đất thực tế đang sử dụng khác với địa chỉ thể hiện trên giấy tờ: - Địa chỉ thửa đất theo giấy tờ: thôn Vĩnh Xuân, xã Vĩnh Thái, Nha Trang - Địa chỉ đất giải tỏa: Tổ dân phố Vĩnh Xuân, phường Nam Nha Trang. Hai địa chỉ là cùng một thửa đất. V. Các loại giấy tờ, tài liệu, người làm chứng làm căn cứ xác nhận các nội dung trên: (Giấy tờ kèm theo hồ sơ) - Hồ sơ địa chính xã năm 2002, 2015; - Biên bản họp xác minh nguồn gốc nhà, đất ngày 27/7/2026; - Biên bản kiểm kê khối lượng giải tỏa ngày 24/6/2026; - Phiếu xác nhận kết quả đo đạc địa chính thửa đất số 116 tờ bản đồ số 10; - Bản tự kê khai ngày của ông Nguyễn Trọng Phước Niê. - CCCD số 066099015815 do Bộ Công An cấp ngày 06/10/2025 cho ông Nguyễn Trọng Phước Niê - Giấy cho quyền sử dụng đất của ông Nguyễn Ọ cho cháu là ông Nguyễn Trọng Phước Niê không có xác nhận của cơ quan có thẩm quyền. - Văn bản số 12281/KTHTĐT ngày 22/9/2026 của Phòng Kinh tế, hạ tầng và đô thị phường Nam Nha Trang về việc góp ý phương án dự kiến bồi thường hỗ trợ, tái định cư của 19 trường hợp/ 19 thửa thuộc Dự án thành phần 1: Dự án thành phần giải phóng mặt bằng phục vụ dự án xây dựng Bệnh viện Đa khoa tỉnh Khánh Hòa thành Bệnh viện khu vực duyên hải Nam Trung Bộ tại phường Nam Nha Trang, tỉnh Khánh Hòa
B5: CCCD số 066099015815 do Bộ Công An cấp ngày 06/10/2025 cho ông NguyễN Trọng Phước Niê | D5: I/ Về đất | J5: 0
D6: - Diện tích (thửa số 116 - tờ BĐ số 10-353599-1) | E6: m² | F6: 223.6
D7: + DT đất thu hồi: | E7: m² | F7: =F6 -> 223.6
D8: + DT đất còn lại | E8: m² | F8: 0
B9: - Địa chỉ giải tỏa: | D9: 1. Về đất:
B10: Tổ dân phố Vĩnh Xuân, Phường Nam Nha Trang, tỉnh Khánh Hòa | D10: ** Căn cứ pháp lý áp dụng: - Căn cứ Khoản 2, Điều 101 Luật đất đai năm 2024: " Trường hợp không được bồi thường về đất khi Nhà nước thu hồi đất: Đất do cơ quan tổ chức Nhà nước quản lý quy định tại Điều 217 của Luật này" - Căn cứ Điểm b, Khoản 1, Điều 217 Luật Đất đai năm 2024: "Đất do cơ quan, tổ chức của Nhà nước quản lý là đất chưa giao, chưa cho thuê hoặc đã được giao đất để quản lý, bao gồm: Đất sông, ngòi, kênh, rạch, suối, ao, hồ, đầm, phá....."
B11: - Địa chỉ thường trú | D11: - Diện tích đất không bồi thường: | E11: m² | F11: =F7 -> 223.6 | G11: Vị trí thửa đất thu hồi nằm trong Danh sách Kết luận thanh tra thuộc Danh sách các loại đất khác do Nhà nước quản lý theo Sổ mục kê năm 2002, không bồi thường
B12: Buôn Tliêr, Cư Pui, Đắk Lắk | D12: II/ Tài sản gắn liền với đất (1+2+3) | J12: =J13+J28+J29 -> 338258378
D13: 1- Công trình, vật kiến trúc: | J13: =SUM(J15:J27) -> 333596378
D14: * Căn cứ pháp lý áp dụng: - Biên bản kiểm kê khối lượng giải tỏa: ngày 24/6/2026. - Thông báo thu hồi đất: số 2510/TB-UBND ngày 15/5/2026 của UBND phường Nam Nha Trang. - Quyết định số 08/2026/QĐ-UBND ngày 22/01/2026 của UBND tỉnh Khánh Hòa Quy định đơn giá bồi thường thiệt hại về nhà, nhà ở, công trình xây dựng gắn liền với đất khi Nhà nước thu hồi đất và mức hỗ trợ để tháo dỡ, phá dỡ, di dời công trình xây dựng theo giấy phép xây dựng có thời hạn khi Nhà nước thu hồi đất trên địa bàn tỉnh Khánh Hoà; - Văn bản số 2093/SXD-KTVLXD ngày 05/3/2026 của Sở Xây Dựng V/v hướng dẫn triển khai thực hiện các Quyết định của UBND tỉnh. - Quyết định số 32/2026/QĐ-UBND ngày 29/4/2026 của UBND tỉnh Khánh Hòa Quy định một số biện pháp hỗ trợ khác khi Nhà nước thu hồi đất trên địa bàn tỉnh Khánh Hòa.
D15: - Nhà 1 tầng, móng xây đá chẻ 3 lớp cao 0,6m , tường xây gạch dày 100 cao 3m; tường sơn nước, cửa nhôm kính không trần, nền lát gạch men, có hệ vệ sinh; có hệ thống điện nước DTXD = DTGT : ( 4,7m x 3,4m) + (3,6m x4,5m) = 32,18m² | E15: m²XD | F15: =(4.7*3.4)+(3.6*4.5) -> 32.18 | G15: =(3751000*1.12)+(3751000*15%)+481600 -> 5245370 | I15: 0.8 | J15: =ROUND((F15*G15*I15),0) -> 135036805
D16: Áp đơn giá tại phụ lục STT A1, Quyết định số 08/2026/QĐ-UBND ngày 22/01/2026 của UBND tỉnh Khánh Hòa. Đơn giá: 3.751.000 đ/m². Đơn giá điều chỉnh với hệ số 1,12 vì tường sơn nước (theo Mục I, STT 2 văn bản số 2093/SXD-KTVLXD ngày 05/3/2026 của Sở Xây dựng). Cộng thêm 481.600đ/m² vì nền gạch men (STT 37 mục A, Phụ lục I, Quyết định số 12/QĐ-UBND ngày 24/02/2026 (Áp theo Mục I, STT 03 văn bản số 2093/SXD-KTVLXD ngày 05/3/2026 của Sở Xây dựng). Tăng 8,5% vì 3 lớp đá chẻ và cửa kính , tăng 8,5% vì có hệ sinh (theo Mục I, STT 12 văn bản số 2093/SXD-KTVLXD ngày 05/3/2026 của Sở Xây dựng). 3.751.000 đ/m² x 1,12 + 481.600đ/m² +(3.751.000 đ/m² x 15%) = 5.245.370đ/m²
D17: - Nhà 1 tầng, móng xây đá chẻ 4 lớp cao 0,8m , tường xây gạch dày 100 cao 3m; tường sơn nước, cửa nhôm kính, nền lát gạch men, trần nhựa mái tôn (phần bếp không trần mái tôn; nền xi măng) có hệ vệ sinh; có hệ thống điện nước DTXD = DTGT : 5,2m x 5,8m = 30,16m² DTXD = DTGT : 2,4m x 3,5m = 8,4 m² | E17: m²XD
D18: +Nhà 1 tầng, móng xây đá chẻ 4 lớp cao 0,8m , tường xây gạch dày 100 cao 3m; tường sơn nước, cửa nhôm kính, nền lát gạch men, trần nhựa mái tôn,có hệ vệ sinh; có hệ thống điện nước 'DTXD = DTGT : 5,2m x 5,8m = 30,16m² | E18: m²XD | F18: =5.2*5.8 -> 30.16 | G18: =(3751000*1.12)+(3751000*15%)+481600 -> 5245370 | I18: 0.8 | J18: =ROUND((F18*G18*I18),0) -> 126560287
D19: Áp đơn giá tại phụ lục STT A1, Quyết định số 08/2026/QĐ-UBND ngày 22/01/2026 của UBND tỉnh Khánh Hòa. Đơn giá: 3.751.000 đ/m². Đơn giá điều chỉnh với hệ số 1,12 vì tường sơn nước (theo Mục I, STT 2 văn bản số 2093/SXD-KTVLXD ngày 05/3/2026 của Sở Xây dựng). Cộng thêm 481.600đ/m² vì nền gạch men (STT 37 mục A, Phụ lục I, Quyết định số 12/QĐ-UBND ngày 24/02/2026 (Áp theo Mục I, STT 03 văn bản số 2093/SXD-KTVLXD ngày 05/3/2026 của Sở Xây dựng). Tăng 8,5% vì có nhà vệ sinh , tăng 8,5% vì có trần nhựa, cửa nhôm kính, 4 lớp đá chẻ (theo Mục I, STT 12 văn bản số 2093/SXD-KTVLXD ngày 05/3/2026 của Sở Xây dựng). 3.751.000 đ/m² x 1,12 + 481.600đ/m² +(3.751.000 đ/m² x 15%) = 5.245.370đ/m²
D20: + Phần bếp: Nhà 1 tầng, móng xây đá chẻ 4 lớp cao 0,8m , tường xây gạch dày 100 cao 3m; tường sơn nước, không trần mái tôn; nền xi măng. DTXD = DTGT : 2,4m x 3,5m = 8,4 m² | E20: m²XD | F20: =2.4*3.5 -> 8.4 | G20: =3751000*1.12+(3751000*8.5%) -> 4519955 | I20: 0.8 | J20: =ROUND((F20*G20*I20),0) -> 30374098
D21: Áp đơn giá tại phụ lục STT A1, Quyết định số 08/2026/QĐ-UBND ngày 22/01/2026 của UBND tỉnh Khánh Hòa. Đơn giá: 3.751.000 đ/m². Đơn giá điều chỉnh với hệ số 1,12 vì tường sơn nước (theo Mục I, STT 2 văn bản số 2093/SXD-KTVLXD ngày 05/3/2026 của Sở Xây dựng). Tăng 8,5% vì 4 lớp đá chẻ (theo Mục I, STT 12 văn bản số 2093/SXD-KTVLXD ngày 05/3/2026 của Sở Xây dựng). 3.751.000 đ/m² x 1,12 + (3.751.000 đ/m² x 8.5%) = 4.519.955 đ/m²
D22: - Sân bêtong láng vữa xi măng DT: (3,9m x 1,8m) + (8,2m x 1,9m) + (6m x 1,7m) = 32,8 m² | E22: m²XD | F22: =(3.9*1.8)+(8.2*1.9)+(6*1.7) -> 32.8 | G22: 230583 | I22: 0.8 | J22: =ROUND((F22*G22*I22),0) -> 6050498
D23: Áp đơn giá tại phụ lục STT C.17, Quyết định số 08/2026/QĐ-UBND ngày 22/01/2026 của UBND tỉnh Khánh Hòa, đơn giá: 230.583 đ/m².
D24: - Mái che cột kèo sắt, mái lợp tôn nền xi măng DT: (1,6m x 2,5m) + ( 6,2m x 4,2m ) = 30,04 m² | E24: m²XD | F24: =(1.6*2.5)+(6.2*4.2) -> 30.04 | G24: 1259097 | I24: 0.8 | J24: =ROUND((F24*G24*I24),0) -> 30258619
D25: Áp đơn giá tại phụ lục STT C.04, Quyết định số 08/2026/QĐ-UBND ngày 22/01/2026 của UBND tỉnh Khánh Hòa, đơn giá: 1.259.097 đ/m².
D26: Hàng rào lưới B40 trụ BTCT cao 1,5m không móng dài 10,8 m | E26: m dài | F26: 10.8 | G26: =537955-(537955*8.5%) -> 492228.83 | I26: 1 | J26: =ROUND((F26*G26*I26),0) -> 5316071
D27: Áp giá tại phần C, STT 11, Quyết định số 08/2026/QĐ-UBND ngày 22/01/2026 của UBND tỉnh Khánh Hòa, đơn giá: 537.955 đ/md. Đơn giá giảm 8.5% vì không móng (theo Mục I, STT 12 văn bản số 2093/SXD-KTVLXD ngày 05/3/2026 của Sở Xây dựng) 537.955 đ/md - (537.955 đ/md x 8.5%) = 492.229 đ/md
D28: 2 - Tài sản khác: Không | J28: =ROUND((F28*G28*I28),0) -> 0
D29: 3 - Cây trồng: | J29: =SUM(J31:J38) -> 4662000
D30: * Căn cứ pháp lý áp dụng: - Quyết định số 35/2026/QĐ-UBND ngày 04/5/2026 của UBND tỉnh Khánh Hòa ban hành quy định đơn giá bồi thường thiệt hại đối với cây trồng, vật nuôi khi Nhà nước thu hồi đất trên địa bàn tỉnh Khánh Hòa; - Văn bản số 9455/SNNMT-TTBVTV ngày 30/6/2026 của Sở Nông nghiệp và Môi trường V/v hướng dẫn áp dụng đơn giá bồi thường đối với cây trồng khi Nhà nước thu hồi đất theo QĐ số 35/2026/QĐ-UBND ngày 04/5/2026 của UBND tỉnh Khánh Hòa.
D31: - Mai chấn thủy - Áp giá tương đương cây dâu tằm STT II.13. ĐG: 168.000đồng | E31: cây | F31: 2 | G31: 168000 | I31: 1 | J31: =ROUND((F31*G31*I31),0) -> 336000
D32: - Trúc loại C | E32: cây | F32: 18 | G32: 56000 | I32: 1 | J32: =I32*G32*F32 -> 1008000
D33: - Bồ đề loại A - Áp giá tương đương cây Bồ quân PLII - STT 3, ĐG: 228.000đ/m² | E33: cây | F33: 1 | G33: 228000 | I33: 1 | J33: =ROUND((F33*G33*I33),0) -> 228000
D34: - Phát tài loại C - Áp giá tương đương cây Chùm ngây PLII - STT 10, ĐG: 113.000đ/m² | E34: cây | F34: 1 | G34: 113000 | I34: 1 | J34: =I34*G34*F34 -> 113000
D35: - Mai loại C - Áp giá tương đương cây dâu tằm STT II.13. ĐG: 112.000đồng | E35: cây | F35: 1 | G35: 112000 | I35: 1 | J35: =ROUND((F35*G35*I35),0) -> 112000
D36: - Chuối loại A | E36: cây | F36: 10 | G36: 115000 | I36: 1 | J36: =I36*G36*F36 -> 1150000
D37: - Chuối loại B | E37: cây | F37: 15 | G37: 103000 | I37: 1 | J37: =I37*G37*F37 -> 1545000
D38: - Đu đủ loại 4 năm - Áp giá tương đương cây Đu đủ loại C STT II.15. ĐG: 85.000 đồng | E38: cây | F38: 2 | G38: 85000 | I38: 1 | J38: =I38*G38*F38 -> 170000
D39: III. Hỗ trợ chi phí di chuyển tài sản: Không | J39: 0
D40: IV/ Chính sách hỗ trợ (1+2): | J40: =SUM(J42+J41) -> 0
...

Sheet N.N.Như Ý (T117)
A1: II/ Kết quả bồi thường, hỗ trợ, tái định cư
A2: STT | B2: HỌ TÊN VÀ ĐỊA CHỈ (Nơi ở và nơi giải tỏa | C2: GIẤY TỜ NGUỒN GỐC NHÀ ĐẤT | D2: NỘI DUNG BỒI THƯỜNG, HỖ TRỢ | E2: Đơn vị tính | F2: Khối lượng BT, HT | G2: Đơn giá (đồng) | H2: Mức BT (%) | I2: Mức HT (%) | J2: Thành tiền (đồng) | K2: TỔNG TIỀN (đồng) | L2: Ký nhận
A3: 1 | B3: 2 | C3: 3 | D3: 4 | E3: 5 | F3: 6 | G3: 7 | H3: 8 | I3: 9 | J3: 10 | K3: 11 | L3: 12
A4: 2 | B4: Hộ bà Nguyễn Ngọc Như Ý | C4: * Giấy xác nhận về thửa đất bị thu hồi để phục vụ cho công tác bồi thường, hỗ trợ, tái định cư khi Nhà nước thu hồi đất số 9902/GXN-KTHTĐT ngày 04/8/2026 của Phòng Kinh tế Hạ tầng và Đô thị phường Nam Nha Trang xác nhận: - Về thông tin nguồn gốc đất: * Thửa đất số 117 tờ bản đồ số 10 - 353599-1 (theo Bản đồ địa chính phường Nam Nha Trang - Đo đạc bổ sung): Tổng diện tích: 109,0 m², diện tích thu hồi: 109,0 m², diện tích còn lại: 0m² thuộc Bản đồ địa chính phường Nam Nha Trang được Sở Nông nghiệp và Môi trường thẩm định ngày 05/5/2026, đối chiếu tương ứng các thửa đất: + Theo Sổ dã ngoại và Bản đồ địa chính xã Vĩnh Thái năm 1996: Thửa đất chưa được đo vẽ. + Đối chiếu bản đồ và sổ mục kê năm 2002: Thửa đất thu hồi tương ứng một phần thửa đất số 407, TBĐ 07, diện tích 3300m2 , Loại đất: đất chưa sử dụng. Ghi chú đất UBND xã. + Đối chiếu Bản đồ ĐC và sổ mục kê năm 2015: Thửa đất thu hồi tương ứng một phần thửa đất số 200 tờ bản đồ số 10, diện tích: 3.277,6m2, loại đất: BHK do ông Nguyễn Văn Ọ đứng tên kê khai và một phần thửa đất số 287 tờ bản đồ số 10, diện tích: 11.650,2m2 do UBND phường quản lý; diện tích lấn đất DTL 15,3m2 + Vị trí thửa đất thu hồi nằm trong Danh sách Kết luận thanh tra Theo Thông báo số 749/TB-UBND-TTra ngày 18/6/2025 của Chủ tịch UBND thành phố Nha Trang, đính kèm Kết luận thanh tra số 511/KL-TTra-KTXH ngày 13/6/2025 của Chánh Thanh tra thành phố Nha Trang, tại Phụ lục I – STT 949 ghi nhận: thửa đất số 407, tờ bản đồ số 07, diện tích 3.300m2 (loại đất Hg/b) thuộc Danh sách các loại đất khác do Nhà nước quản lý theo Sổ mục kê năm 2002, hiện trạng do người dân đang sử dụng. * Nguồn gốc đất: * Theo giấy tờ nguồn gốc đất do hộ gia đình cung cấp: Nguồn gốc đất do ông Nguyễn Ọ chiếm trước năm 2012. Ngày 26/4/2012, ông Nguyễn Ọ lập cho con là bà Nguyễn Thị Hà cùng chồng là ông Nguyễn Đại Phong, giấy viết tay, không có xác nhận của cơ quan có thẩm quyền. Ngày 30/12/2013, ông Nguyễn Đại Phong và vợ là bà Nguyễn Thị Hà lập giấy cho quyền sử dụng đất cho con gái là bà Nguyễn Ngọc Như Ý, giấy viết tay không ghi thời gian lập, không có xác nhận của cơ quan có thẩm quyền. Diện tích kê khai sử dụng của hộ bà Nguyễn Ngọc Như Ý là: - Tổng diện tích đất: 109,0m² - Diện tích thu hồi: 109,0m2 (diện tích lấn đất DTL 15,3m2) - Diện tích còn lại: 0m2 - Loại đất: BHK (Theo hồ sơ địa chính năm 2015). - Thời điểm sử dụng đất: sau 2015 . -Thời điểm hình thành tài sản, vật kiến trúc: Sau năm 2015 đến trước thông báo thu hồi đất. (Hiện trạng trên đất có nhà) - Thời điểm tạo lập cây trồng, vật nuôi: Sau năm 2015 đến trước thông báo thu hồi đất. - Tổng diện tích đất nông nghiệp của hộ gia đình tại thửa đất bị thu hồi: 109,0m2 diện tích lấn đất DTL 15,3m2 - Tổng diện tích đất nông nghiệp của hộ gia đình tại địa phương: 109,0m2 - Hộ bà Nguyễn Ngọc Như Ý không trực tiếp sản xuất nông nghiệp tại vị trí thửa đất thu hồi. => Kết luận: Nguồn gốc sử dụng đất Thửa đất số 117, tờ bản đồ số 10 - 353599-1 (theo Bản đồ địa chính phường Nam Nha Trang - Đo đạc bổ sung), Tổng diện tích: 109m², diện tích thu hồi: 109m², diện tích còn lại: 0m2 thuộc Bản đồ địa chính phường Nam Nha Trang được Sở Nông nghiệp và Môi trường thẩm định ngày 05/5/2026, thuộc trường hợp hộ gia đình, cá nhân đang sử dụng đất do lấn đất hoặc chiếm đất do cơ quan, tổ chức của Nhà nước đã quản lý, được thể hiện trong hồ sơ địa chính (căn cứ Sổ mục kê năm 2002 và Thông báo số 749/TB-UBND-TTra ngày 18/6/2025 của Chủ tịch UBND thành phố Nha Trang, đính kèm Kết luận thanh tra số 511/KL-TTra-KTXH ngày 13/6/2025 của Chánh Thanh tra thành phố Nha Trang) 2. Quá trình sử dụng, thay đổi đất, nhà, vật kiến trúc xây dựng trên đất. * Thay đổi về sử dụng đất: - Thay đổi về diện tích, ranh giới sử dụng đất: không. - Thay đổi về mục đích sử dụng đất: không. * Thay đổi về nhà, vật kiến trúc, tài sản trên đất: không. * Thay đổi về địa chỉ thửa đất: không II. Tình hình tranh chấp đối với thửa đất: Hiện hộ bà Nguyễn Ngọc Như Ý đang sử dụng ổn định phần diện tích 109,0 m2 từ sau năm 2015 cho đến nay, không lấn chiếm, không tranh chấp, không thuộc trường hợp đất 5%, đất công, đất khác do Nhà nước quản lý, không có đơn thư ngăn chặn, tài sản không bị phong toả để đảm bảo thi hành án. III. Trường hợp diện tích đất thể hiện trên giấy tờ về quyền sử dụng đất có sự chênh lệch so với diện tích đất thực tế đang sử dụng: - Diện tích theo giấy tờ: m2 - Diện tích đất thực tế đang sử dụng: m2 - Diện tích đất chênh lệch tăng/giảm: IV. Trường hợp địa chỉ thửa đất thực tế đang sử dụng khác với địa chỉ thể hiện trên giấy tờ: - Địa chỉ thửa đất theo giấy tờ: thôn Vĩnh Xuân, xã Vĩnh Thái, Nha Trang - Địa chỉ đất giải tỏa: Tổ dân phố Vĩnh Xuân, phường Nam Nha Trang. Hai địa chỉ là cùng một thửa đất. V. Các loại giấy tờ, tài liệu, người làm chứng làm căn cứ xác nhận các nội dung trên: (Giấy tờ kèm theo hồ sơ) - Hồ sơ địa chính xã năm 2002, 2015; - Biên bản họp xác minh nguồn gốc nhà, đất ngày 27/7/2026; - Biên bản kiểm kê khối lượng giải tỏa ngày 24/6/2026; - Phiếu xác nhận kết quả đo đạc địa chính thửa đất số 117 tờ bản đồ số 10; - Bản tự kê khai ngày của bà Nguyễn Ngọc Như Ý . - CCCD số 056193006822 do Bộ Công An cấp ngày 06/10/2025 cấp ngày 12/8/2021 cho bà Nguyễn Ngọc Như Ý; - Giấy cho quyền sử dụng đất của ông Nguyễn Ọ cho con ông Nguyễn Đại Phong và bà Nguyễn Thị Hà ngày 26/4/2012, không có xác nhận của cơ quan có thẩm quyền. - Giấy cho quyền sử dụng đất của ông Nguyễn Đại Phong và bà Nguyễn Thị Hà cho con là bà Nguyễn Ngọc Như Ý không có xác nhận của cơ quan có thẩm quyền. - Văn bản số 12281/KTHTĐT ngày 22/9/2026 của Phòng Kinh tế, hạ tầng và đô thị phường Nam Nha Trang về việc góp ý phương án dự kiến bồi thường hỗ trợ, tái định cư của 19 trường hợp/ 19 thửa thuộc Dự án thành phần 1: Dự án thành phần giải phóng mặt bằng phục vụ dự án xây dựng Bệnh viện Đa khoa tỉnh Khánh Hòa thành Bệnh viện khu vực duyên hải Nam Trung Bộ tại phường Nam Nha Trang, tỉnh Khánh Hòa.
B5: CCCD số 056193006822 do Cục CS QLHC về TTXH cấp ngày 12/8/2021 cho bà Nguyễn Ngọc Như Ý | D5: I/ Về đất | J5: 0
D6: - Diện tích (thửa số 117 - tờ BĐ số 10-353599-1) | E6: m² | F6: 109
D7: + DT đất thu hồi: | E7: m² | F7: =F6 -> 109
D8: + DT đất còn lại | E8: m² | F8: 0
B9: - Địa chỉ thường trú | D9: 1. Về đất:
B10: 16 Hương Điền, Nam Nha Trang | D10: ** Căn cứ pháp lý áp dụng: - Căn cứ Khoản 2, Điều 101 Luật đất đai năm 2024: " Trường hợp không được bồi thường về đất khi Nhà nước thu hồi đất: Đất do cơ quan tổ chức Nhà nước quản lý quy định tại Điều 217 của Luật này" - Căn cứ Điểm b, Khoản 1, Điều 217 Luật Đất đai năm 2024: "Đất do cơ quan, tổ chức của Nhà nước quản lý là đất chưa giao, chưa cho thuê hoặc đã được giao đất để quản lý, bao gồm: Đất sông, ngòi, kênh, rạch, suối, ao, hồ, đầm, phá....."
B11: - Địa chỉ giải tỏa: | D11: - Diện tích đất không bồi thường: | E11: m² | F11: =F7 -> 109 | G11: Vị trí thửa đất thu hồi nằm trong Danh sách Kết luận thanh tra thuộc Danh sách các loại đất khác do Nhà nước quản lý theo Sổ mục kê năm 2002, không bồi thường
B12: Tổ dân phố Vĩnh Xuân, Phường Nam Nha Trang, tỉnh Khánh Hòa | D12: II/ Tài sản gắn liền với đất (1+2+3) | J12: =J13+J27+J28 -> 313055897
D13: 1- Công trình, vật kiến trúc: | J13: =SUM(J15:J26) -> 312665897
D14: * Căn cứ pháp lý áp dụng: - Biên bản kiểm kê khối lượng giải tỏa: ngày 24/6/2026. - Thông báo thu hồi đất: số 2510/TB-UBND ngày 15/5/2026 của UBND phường Nam Nha Trang. - Quyết định số 08/2026/QĐ-UBND ngày 22/01/2026 của UBND tỉnh Khánh Hòa Quy định đơn giá bồi thường thiệt hại về nhà, nhà ở, công trình xây dựng gắn liền với đất khi Nhà nước thu hồi đất và mức hỗ trợ để tháo dỡ, phá dỡ, di dời công trình xây dựng theo giấy phép xây dựng có thời hạn khi Nhà nước thu hồi đất trên địa bàn tỉnh Khánh Hoà; - Văn bản số 2093/SXD-KTVLXD ngày 05/3/2026 của Sở Xây Dựng V/v hướng dẫn triển khai thực hiện các Quyết định của UBND tỉnh. - Quyết định số 32/2026/QĐ-UBND ngày 29/4/2026 của UBND tỉnh Khánh Hòa Quy định một số biện pháp hỗ trợ khác khi Nhà nước thu hồi đất trên địa bàn tỉnh Khánh Hòa.
D15: - Nhà 1 tầng, móng xây đá chẻ 5 lớp cao 1m , tường xây gạch dày 100-200 cao 3,3m; bổ trụ, tường sơn nước, mặt tiền có sảnh sử dụng kết cấu BTCT , tường vệ sinh ốp gạch men cao 1,2m ; nền lát gạch men; cửa nhôm kính, trần thạch cao, mái tôn, có hệ vệ sinh; có hệ thống điện nước DTXD = DTGT : ( 5,8m x 7,6m) + (2,4m x 7m) = 60,88m² | E15: m²XD | F15: =(5.8*7.6)+(2.4*7) -> 60.88 | G15: =(4311253*1.12)+(4311253*8.5%) -> 5195059.9 | I15: 0.8 | J15: =ROUND((F15*G15*I15),0) -> 253020196
D16: Áp đơn giá tại STT A5, PL1, Quyết định số 08/2026/QĐ-UBND ngày 22/01/2026 của UBND tỉnh Khánh Hòa. Đơn giá: 4.641.401đ/m². Đơn giá điều chỉnh với hệ số 1,12 vì tường sơn nước (theo Mục I, STT 2 văn bản số 2093/SXD-KTVLXD ngày 05/3/2026 của Sở Xây dựng), tăng 8,5% vì móng xây 5 lớp đá chẻ, tăng 8,5% vì trần thạch cao, giảm 8,5% vì tường vệ sinh ốp men cao 1,2m và ko ốp men mặt tiền (theo Mục I, STT 12 văn bản số 2093/SXD-KTVLXD ngày 05/3/2026 của Sở Xây dựng). (4.311.253đ/m²XD x 1,12) + (4.311.253đ/m² x 8,5%) = 5.195.060 đ/m²XD.
D17: Ốp men cấu kiện: ( 0,95m x 4,1m) + (5,1m x 0,8m) + (5,1m x 1,8m) = 17,16 m² | E17: m² | F17: =(0.95*4.1) + (5.1*0.8) + (5.1*1.8) -> 17.155 | G17: 401056 | I17: 0.8 | J17: =ROUND((F17*G17*I17),0) -> 5504093
D18: Áp đơn giá tại phụ lục I, STT A33 Quyết định số 12/2026/QĐ-UBND ngày 24/02/2026 của UBND tỉnh Khánh Hòa, đơn giá: 401.056đ/m²
D19: - Mái che cột kèo sắt, mái lợp tôn nền xi măng DT: (6,9m x 3,5m) + ( 7,6m x 1,3m ) = 34,03 m² | E19: m²XD | F19: =(6.9*3.5)+(7.6*1.3) -> 34.03 | G19: 1259097 | I19: 0.8 | J19: =ROUND((F19*G19*I19),0) -> 34277657
D20: Áp đơn giá tại phụ lục STT C.04, Quyết định số 08/2026/QĐ-UBND ngày 22/01/2026 của UBND tỉnh Khánh Hòa, đơn giá: 1.259.097 đ/m².
D21: - Cổng trụ gạch, cánh thép hình cao 1,6m; dài 2,4m | E21: m dài | F21: 2.4 | G21: 3855960 | I21: 1 | J21: =ROUND((F21*G21*I21),0) -> 9254304
D22: Áp giá tại phần C, STT 13, Quyết định số 08/2026/QĐ-UBND ngày 22/01/2026 của UBND tỉnh Khánh Hòa, đơn giá: 3.855.960đ/m.
D23: Hàng rào lưới B40 trụ sắt cao 1,5m móng xây 2 lớp đá chẻ dài 19,2 m | E23: m dài | F23: 19.2 | G23: 537955 | I23: 1 | J23: =ROUND((F23*G23*I23),0) -> 10328736
D24: Áp giá tại phần C, STT 11, Quyết định số 08/2026/QĐ-UBND ngày 22/01/2026 của UBND tỉnh Khánh Hòa, đơn giá: 537.955 đ/md.
D25: Tường xây gạch dày 100 cao 0,8 m; dày 0,6m DT: 0,6m x 0,8m x 3 = 1,44 m² | E25: m² | F25: =0.6*0.8*3 -> 1.44 | G25: 195077 | I25: 1 | J25: =ROUND((F25*G25*I25),0) -> 280911
D26: Áp đơn giá tại phụ lục I, STT A9 Quyết định số 12/2026/QĐ-UBND ngày 24/02/2026 của UBND tỉnh Khánh Hòa, đơn giá: 195.077đ/m²
D27: 2 - Tài sản khác: Không | J27: =ROUND((F27*G27*I27),0) -> 0
D28: 3 - Cây trồng: | J28: =SUM(J30:J32) -> 390000
D29: * Căn cứ pháp lý áp dụng: - Quyết định số 35/2026/QĐ-UBND ngày 04/5/2026 của UBND tỉnh Khánh Hòa ban hành quy định đơn giá bồi thường thiệt hại đối với cây trồng, vật nuôi khi Nhà nước thu hồi đất trên địa bàn tỉnh Khánh Hòa; - Văn bản số 9455/SNNMT-TTBVTV ngày 30/6/2026 của Sở Nông nghiệp và Môi trường V/v hướng dẫn áp dụng đơn giá bồi thường đối với cây trồng khi Nhà nước thu hồi đất theo QĐ số 35/2026/QĐ-UBND ngày 04/5/2026 của UBND tỉnh Khánh Hòa.
D30: - Mai chiếu thủy - Áp giá tương đương cây dâu tằm STT II.13. ĐG: 168.000đồng | E30: cây | F30: 1 | G30: 168000 | I30: 1 | J30: =F30*G30*I30 -> 168000
D31: - Phát tài loại A - Áp giá tương đương cây Chùm ngây PLII - STT 10, ĐG: 169.000đ/m² | E31: cây | F31: 1 | G31: 169000 | I31: 1 | J31: =F31*G31*I31 -> 169000
D32: - Bạch đàn năm thứ 11 - Áp giá tương đương cây Bạch đàn năm thứ 4. ĐG: 53.000đồng | E32: cây | F32: 1 | G32: 53000 | I32: 1 | J32: =ROUND((F32*G32*I32),0) -> 53000
D33: III. Hỗ trợ chi phí di chuyển tài sản: Không | J33: 0
D34: IV/ Chính sách hỗ trợ (1+2): | J34: =SUM(J36+J35) -> 0
D35: 1. Hỗ trợ đào tạo, chuyển đổi nghề và tìm kiếm việc làm: (Hộ bà Nguyễn Ngọc Như Ý không trực tiếp sản xuất nông nghiệp trên đất) | E35: Hộ gia đình không trực tiếp sản xuất nông nghiệp tại vị trí thửa đất giải tỏa; không được bồi thường về đất nên không được hỗ trợ theo quy định tại Khoản 1, khoản 2 Điều 22 NĐ số 88/2024-NĐ-CP ngày 15/7/2024 và Điều 9, QĐ số 32/2026/QĐ-UBND ngày 29/4/2026 của UBND tỉnh Khánh Hòa
D36: 2. Hỗ trợ ổn định đời sống (Hộ bà Nguyễn Ngọc Như Ý thực tế không canh tác nông nghiệp trên đất) | E36: Hộ gia đình không được bồi thường về đất, thực tế không tham gia sản xuất nông nghiêp trên đất thu hồi nên không được hỗ trợ theo quy định tại Điều 19 NĐ số 88/2024-NĐ-CP ngày 15/7/2024 và Khoản 1, Điều 6, QĐ số 32/2026/QĐ-UBND ngày 29/4/2026 của UBND tỉnh Khánh Hòa | J36: 0
D37: * Tổng số tiền bồi thường, hỗ trợ | J37: =J5+J12+J34 -> 313055897
D38: V/ Hỗ trợ khen thưởng | J38: =J40 -> 8000000
D39: - Khoản 2, Điều 15 QĐ số 32/2026/QĐ-UBND ngày 29/4/2026 của UBND tỉnh Khánh Hòa:
D40: - Trường hợp thu hồi đất không thuộc các dự án quy định tại khoản 7 Điều 111 Luật Đất đai, bàn giao mặt bằng trước thời hạn quy định thì được khen thưởng 10% tổng giá trị bồi thường, hỗ trợ. Mức khen thưởng tối đa không vượt quá 8.000.000 (tám triệu) đồng /trường hợp; Trường hợp số tiền khen thưởng thấp hơn 1.000.000 (một triệu) đồng thì được khen thưởng là 1.000.000 (một triệu) đồng / trường hợp. | E40: TH | F40: 1 | G40: =IF(J37*10%>=8000000,8000000,IF(J37*10%<=1000000,1000000,J37*10%)) -> 8000000 | J40: =F40*G40 -> 8000000
...

Sheet N.Thị Hà (T118)
A1: II/ Kết quả bồi thường, hỗ trợ, tái định cư
A2: STT | B2: HỌ TÊN VÀ ĐỊA CHỈ (Nơi ở và nơi giải tỏa | C2: GIẤY TỜ NGUỒN GỐC NHÀ ĐẤT | D2: NỘI DUNG BỒI THƯỜNG, HỖ TRỢ | E2: Đơn vị tính | F2: Khối lượng BT, HT | G2: Đơn giá (đồng) | H2: Mức BT (%) | I2: Mức HT (%) | J2: Thành tiền (đồng) | K2: TỔNG TIỀN (đồng) | L2: Ký nhận
A3: 1 | B3: 2 | C3: 3 | D3: 4 | E3: 5 | F3: 6 | G3: 7 | H3: 8 | I3: 9 | J3: 10 | K3: 11 | L3: 12
A4: 3 | B4: Hộ bà Nguyễn Thị Hà | C4: "* Giấy xác nhận về thửa đất bị thu hồi để phục vụ cho công tác bồi thường, hỗ trợ, tái định cư khi Nhà nước thu hồi đất số 9897/GXN-KTHTĐT ngày 04/8/2026 của Phòng Kinh tế, Hạ tầng và Đô thị phường Nam Nha Trang xác nhận: - Về thông tin nguồn gốc đất: * Thửa đất số 118 tờ bản đồ số 10 - 353599-1 (theo Bản đồ địa chính phường Nam Nha Trang - Đo đạc bổ sung): Tổng diện tích: 244,0m², diện tích thu hồi: 244,0m², diện tích còn lại: 0m2 thuộc Bản đồ địa chính phường Nam Nha Trang được Sở Nông nghiệp và Môi trường thẩm định ngày 05/5/2026, đối chiếu tương ứng các thửa đất: + Theo Sổ dã ngoại và Bản đồ địa chính xã Vĩnh Thái năm 1996: Thửa đất chưa được đo vẽ. + Đối chiếu bản đồ và sổ mục kê năm 2002: Thửa đất thu hồi tương ứng một phần thửa đất số 407, TBĐ 07, diện tích 3300m2 ,Loại đất: đất chưa sử dụng. Ghi chú đất UBND xã. + Đối chiếu Bản đồ ĐC và sổ mục kê năm 2015: Thửa đất thu hồi tương ứng một phần thửa đất số 200 tờ bản đồ số 10; do ông Nguyễn Văn Ọ đứng tên kê khai; diện tích: 3.277,6m2; loại đất: BHK và một phần thửa đất số 287 tờ bản đồ số 10; diện tích: 11.650,2m2; loại đất DTL; do UBND phường quản lý, diện tích lấn mương là 43,6m2 + Vị trí thửa đất thu hồi nằm trong Danh sách Kết luận thanh tra Theo Thông báo số 749/TB-UBND-TTra ngày 18/6/2025 của Chủ tịch UBND thành phố Nha Trang, đính kèm Kết luận thanh tra số 511/KL-TTra-KTXH ngày 13/6/2025 của Chánh Thanh tra thành phố Nha Trang, tại Phụ lục I – STT 949 ghi nhận: thửa đất số 407, tờ bản đồ số 07, diện tích 3.300m2 (loại đất Hg/b) thuộc Danh sách các loại đất khác do Nhà nước quản lý theo Sổ mục kê năm 2002, hiện trạng do người dân đang sử dụng. * Nguồn gốc đất: * Theo giấy tờ nguồn gốc đất do hộ gia đình cung cấp: Nguồn gốc đất do ông Nguyễn Ọ chiếm trước năm 2012. Ngày 26/4/2012, ông Nguyễn Ọ lập đơn cho quyền sử dụng đất cho con là bà Nguyễn Thị Hà cùng chồng là ông Nguyễn Đại Phong, giấy viết tay, không có xác nhận của cơ quan có thẩm quyền. Diện tích kê khai sử dụng của bà Nguyễn Thị Hà: - Tổng diện tích đất: 244,0m² - Diện tích thu hồi: 244,0m2 (diện tích lấn mương là 43,6m2) - Diện tích còn lại: 0m2 - Loại đất: BHK (Theo hồ sơ địa chính năm 2015). - Thời điểm sử dụng đất: sau năm 2015. -Thời điểm hình thành tài sản, vật kiến trúc: Sau năm 2015 đến trước thông báo thu hồi đất. (Hiện trạng trên đất có nhà) - Thời điểm tạo lập cây trồng, vật nuôi: Sau năm 2015 đến trước thông báo thu hồi đất. - Tổng diện tích đất nông nghiệp của hộ gia đình tại thửa đất bị thu hồi: 244,0m2 (diện tích lấn mương là 43,6m2) - Tổng diện tích đất nông nghiệp của hộ gia đình tại địa phương: 244,0m2 - Hộ bà Nguyễn Thị Hà không trực tiếp sản xuất nông nghiệp tại vị trí thửa đất thu thồi. - Tình trạng có ăn ở, sinh hoạt tại vị trí thửa đất thu hồi: Căn cứ theo xác minh của Công an phường Nam Nha Trang về tình trạng ăn ở và quá trình cư trú của hộ gia đình tại vị trí thửa đất thu hồi. => Kết luận: Nguồn gốc sử dụng đất Thửa đất số 118, tờ bản đồ số 10 - 353599-1 (theo Bản đồ địa chính phường Nam Nha Trang - Đo đạc bổ sung), Tổng diện tích: 244m², diện tích thu hồi: 244m², diện tích còn lại: 0m2 thuộc Bản đồ địa chính phường Nam Nha Trang được Sở Nông nghiệp và Môi trường thẩm định ngày 05/5/2026, thuộc trường hợp hộ gia đình, cá nhân đang sử dụng đất do lấn đất hoặc chiếm đất do cơ quan, tổ chức của Nhà nước đã quản lý, được thể hiện trong hồ sơ địa chính (căn cứ Sổ mục kê năm 2002 và Thông báo số 749/TB-UBND-TTra ngày 18/6/2025 của Chủ tịch UBND thành phố Nha Trang, đính kèm Kết luận thanh tra số 511/KL-TTra-KTXH ngày 13/6/2025 của Chánh Thanh tra thành phố Nha Trang, Phụ lục I) 2. Quá trình sử dụng, thay đổi đất, nhà, vật kiến trúc xây dựng trên đất. * Thay đổi về sử dụng đất: - Thay đổi về diện tích, ranh giới sử dụng đất: không. - Thay đổi về mục đích sử dụng đất: không. * Thay đổi về nhà, vật kiến trúc, tài sản trên đất: không. * Thay đổi về địa chỉ thửa đất: không II. Tình hình tranh chấp đối với thửa đất: Hiện hộ bà Nguyễn Thị Hà đang sử dụng ổn định phần diện tích 244,0m2từ sau năm 2015 cho đến nay, không lấn chiếm, không tranh chấp, không thuộc trường hợp đất 5%, đất công, đất khác do Nhà nước quản lý, không có đơn thư ngăn chặn, tài sản không bị phong toả để đảm bảo thi hành án. III. Trường hợp diện tích đất thể hiện trên giấy tờ về quyền sử dụng đất có sự chênh lệch so với diện tích đất thực tế đang sử dụng: - Diện tích theo giấy tờ:m2 - Diện tích đất thực tế đang sử dụng: m2 - Diện tích đất chênh lệch tăng/giảm: IV. Trường hợp địa chỉ thửa đất thực tế đang sử dụng khác với địa chỉ thể hiện trên giấy tờ: - Địa chỉ thửa đất theo giấy tờ: thôn Vĩnh Xuân, xã Vĩnh Thái, Nha Trang - Địa chỉ đất giải tỏa: Tổ dân phố Vĩnh Xuân, phường Nam Nha Trang. Hai địa chỉ là cùng một thửa đất. V. Các loại giấy tờ, tài liệu, người làm chứng làm căn cứ xác nhận các nội dung trên: (Giấy tờ kèm theo hồ sơ) - Hồ sơ địa chính xã năm 2002, 2015; - Biên bản họp xác minh nguồn gốc nhà, đất ngày 27/7/2026; - Biên bản kiểm kê khối lượng giải tỏa ngày 24/6/2026; - Phiếu xác nhận kết quả đo đạc địa chính thửa đất số 118 tờ bản đồ số 10; - Bản tự kê khai ngày của bà Nguyễn Thị Hà. -CCCD số 056170005392 do Cục QLHC về TTXH cấp ngày 12/08/2021 cho bà Nguyễn Thị Hà - Giấy cho quyền sử dụng đất của ông Nguyễn Ọ cho con là ông Nguyễn Đại Phong và bà Nguyễn Thị Hà ngày 26/4/2012, không có xác nhận của cơ quan có thẩm quyền. - Văn bản số 12281/KTHTĐT ngày 22/9/2026 của Phòng Kinh tế, hạ tầng và đô thị phường Nam Nha Trang về việc góp ý phương án dự kiến bồi thường hỗ trợ, tái định cư của 19 trường hợp/ 19 thửa thuộc Dự án thành phần 1: Dự án thành phần giải phóng mặt bằng phục vụ dự án xây dựng Bệnh viện Đa khoa tỉnh Khánh Hòa thành Bệnh viện khu vực duyên hải Nam Trung Bộ tại phường Nam Nha Trang, tỉnh Khánh Hòa. - Biên bản làm việc về nội dung: xác minh tình trạng sinh sống ăn ở thực tế tại địa phương ngày 19/8/2026. - Văn bản số 12281/KTHTĐT ngày 22/9/2026 của Phòng Kinh tế, hạ tầng và đô thị phường Nam Nha Trang về việc góp ý phương án dự kiến bồi thường hỗ trợ, tái định cư của 19 trường hợp/ 19 thửa thuộc Dự án thành phần 1: Dự án thành phần giải phóng mặt bằng phục vụ dự án xây dựng Bệnh viện Đa khoa tỉnh Khánh Hòa thành Bệnh viện khu vực duyên hải Nam Trung Bộ tại phường Nam Nha Trang, tỉnh Khánh Hòa.
B5: CCCD số 056170005392 do Cục QLHC về TTXH cấp ngày 12/08/2021 cho bà Nguyễn Thị Hà | D5: I/ Về đất | J5: 0
D6: - Diện tích (thửa số 118 - tờ BĐ số 10-353599-1) | E6: m² | F6: 244
D7: + DT đất thu hồi: | E7: m² | F7: 244
D8: + DT đất còn lại | E8: m² | F8: 0
B9: - Địa chỉ thường trú: | D9: 1. Về đất:
B10: 15 Hương Điền, phường Nam Nha Trang, tỉnh Khánh Hòa | D10: ** Căn cứ pháp lý áp dụng: - Căn cứ Khoản 2, Điều 101 Luật đất đai năm 2024: " Trường hợp không được bồi thường về đất khi Nhà nước thu hồi đất: Đất do cơ quan tổ chức Nhà nước quản lý quy định tại Điều 217 của Luật này" - Căn cứ Điểm b, Khoản 1, Điều 217 Luật Đất đai năm 2024: "Đất do cơ quan, tổ chức của Nhà nước quản lý là đất chưa giao, chưa cho thuê hoặc đã được giao đất để quản lý, bao gồm: Đất sông, ngòi, kênh, rạch, suối, ao, hồ, đầm, phá....."
B11: - Địa chỉ giải tỏa: | D11: - Diện tích đất không bồi thường: | E11: m² | F11: =F7 -> 244 | G11: Vị trí thửa đất thu hồi nằm trong Danh sách Kết luận thanh tra thuộc Danh sách các loại đất khác do Nhà nước quản lý theo Sổ mục kê năm 2002, không bồi thường
B12: Tổ dân phố Vĩnh Xuân, Phường Nam Nha Trang, tỉnh Khánh Hòa | D12: II/ Tài sản gắn liền với đất (1+2+3) | J12: =J13+J24+J27 -> 95136417
D13: 1- Công trình, vật kiến trúc: | J13: =SUM(J15:J23) -> 90541417
D14: * Căn cứ pháp lý áp dụng: - Biên bản kiểm kê khối lượng giải tỏa: ngày 24/6/2026 - Thông báo thu hồi đất: số 2510/TB-UBND ngày 15/5/2026 của UBND phường Nam Nha Trang. - Quyết định số 08/2026/QĐ-UBND ngày 22/01/2026 của UBND tỉnh Khánh Hòa Quy định đơn giá bồi thường thiệt hại về nhà, nhà ở, công trình xây dựng gắn liền với đất khi Nhà nước thu hồi đất và mức hỗ trợ để tháo dỡ, phá dỡ, di dời công trình xây dựng theo giấy phép xây dựng có thời hạn khi Nhà nước thu hồi đất trên địa bàn tỉnh Khánh Hoà; - Văn bản số 2093/SXD-KTVLXD ngày 05/3/2026 của Sở Xây Dựng V/v hướng dẫn triển khai thực hiện các Quyết định của UBND tỉnh. - Quyết định số 32/2026/QĐ-UBND ngày 29/4/2026 của UBND tỉnh Khánh Hòa Quy định một số biện pháp hỗ trợ khác khi Nhà nước thu hồi đất trên địa bàn tỉnh Khánh Hòa. - Căn cứ Biên bản làm việc về nội dung: xác minh tình trạng sinh sống ăn ở thực tế tại địa phương ngày 19/8/2026 Tổ công tác xác nhận bà Nguyễn Thị Hà không thường xuyên sinh sống, ăn ở, sinh hoạt tại khu vực UBND phường Nam Nha Trang ban hành Thông báo số 2510/TB-UBND ngày 15/05/2026 về việc thu hồi đất để thực hiện dự án Bệnh viện đa khoa tỉnh Khánh Hòa.
D15: - Nhà mái lợp tole, cột kèo sắt, vách tole, cửa tole, có hệ vệ sinh trong nhà có hầm tự hoại. + DT nhà có nền lát gạch men: DTXD: 5m x 6,1m =30,5 m²; DTGT: 30,5m² + DT nhà có nền xi măng: 5,0m x 1,9m =9,5 m²; DTGT: 9,5 m²
D16: + Nhà mái lợp tole, cột kèo sắt, vách tole, cửa tole, có hệ vệ sinh trong nhà (có hầm tự hoại). Nền lát gạch men: DTXD: 5m x 6,1m =30,5m²; DTGT: 30,5m² | E16: m²XD | F16: =5*6.1 -> 30.5 | G16: =(2115140*1.1)+(2115140*8.5%)+481600 -> 2988040.9 | I16: 0.7 | J16: =ROUND((F16*G16*I16),0) -> 63794673
D17: Áp giá tại STT A17, PLI Quyết định số 08/2026/QĐ-UBND ngày 22/01/2026 của UBND tỉnh Khánh Hòa, đơn giá: 2.115.140đ/m²XD. Đơn giá điều chỉnh tăng 8,5% vì cột kèo sắt (theo Mục I, STT 12 văn bản số 2093/SXD-KTVLXD ngày 05/3/2026 của Sở Xây dựng), đơn giá nhân hệ số điều chỉnh 1,1 vì có hệ vệ sinh (theo Mục I, STT 1 văn bản số 2093/SXD-KTVLXD ngày 05/3/2026 của Sở Xây dựng). Cộng thêm 481.600đ/m² vì nền gạch men (STT 37 mục A, Phụ lục I, Quyết định số 12/QĐ-UBND ngày 24/02/2026 (Áp theo Mục I, STT 03 văn bản số 2093/SXD-KTVLXD ngày 05/3/2026 của Sở Xây dựng) [(2.115.140 đ/m²XD x 1,1) + 481.600đ/m²] + (2.115.140 đ/m² x 8,5%) = 2.988.041đ/m²XD
D18: + Nhà mái lợp tole, cột kèo sắt, vách tole, cửa tole, có hệ vệ sinh trong nhà (có hầm tự hoại). DT nhà có nền xi măng: 5,0m x 1,9m =9,5m²; DTGT: 9,5m² | E18: m²XD | F18: =5*1.9 -> 9.5 | G18: =(2115140*1.1)+(2115140*8.5%) -> 2506440.9 | I18: 0.7 | J18: =ROUND((F18*G18*I18),0) -> 16667832
D19: Áp giá tại STT A17, PLI Quyết định số 08/2026/QĐ-UBND ngày 22/01/2026 của UBND tỉnh Khánh Hòa, đơn giá: 2.115.140đ/m²XD. Đơn giá điều chỉnh tăng 8,5% vì cột kèo sắt (theo Mục I, STT 12 văn bản số 2093/SXD-KTVLXD ngày 05/3/2026 của Sở Xây dựng), đơn giá nhân hệ số điều chỉnh 1,1 vì có hệ vệ sinh (theo Mục I, STT 1 văn bản số 2093/SXD-KTVLXD ngày 05/3/2026 của Sở Xây dựng). (2.115.140 đ/m²XD x 1,1) + (2.115.140 đ/m² x 8,5%) = 2.506.441đ/m²XD
D20: - Chuồng gà: vách lưới B40, trụ gỗ, mái lợp bạt, cột kèo gỗ, nền đất. DT: 2,7m x 3,5m = 9,45 m² | E20: m²XD | F20: =2.7*3.5 -> 9.45 | G20: 409513 | I20: 0.7 | J20: =ROUND((F20*G20*I20),0) -> 2708928
D21: Áp đơn giá tại phụ lục STT C.02, Quyết định số 08/2026/QĐ-UBND ngày 22/01/2026 của UBND tỉnh Khánh Hòa, đơn giá: 409,513 đ/m². Giảm 8,5% vì lợp bạt, tăng 8,5% vì vách lưới B40. (theo Mục I, STT 12 văn bản số 2093/SXD-KTVLXD ngày 05/3/2026 của Sở Xây dựng)
D22: - Hàng rào lưới B40, trụ BTCT cao 1,5m dài 13,7m | E22: m dài | F22: 13.7 | G22: 537955 | I22: 1 | J22: =ROUND((F22*G22*I22),0) -> 7369984
D23: Áp giá tại phần C, STT 11, Quyết định số 08/2026/QĐ-UBND ngày 22/01/2026 của UBND tỉnh Khánh Hòa, đơn giá: 537.955 đ/md.
D24: 2 - Tài sản khác: | J24: 0
D25: - Công tơ điện 1 pha: 01 cái | F25: Không có Hợp đồng, hóa đơn thu tiền của điện lực
D26: - Đồng hồ nước: 01 cụm
D27: 3 - Cây trồng: | J27: =SUM(J29:J38) -> 4595000
D28: * Căn cứ pháp lý áp dụng: - Quyết định số 35/2026/QĐ-UBND ngày 04/5/2026 của UBND tỉnh Khánh Hòa ban hành quy định đơn giá bồi thường thiệt hại đối với cây trồng, vật nuôi khi Nhà nước thu hồi đất trên địa bàn tỉnh Khánh Hòa; - Văn bản số 9455/SNNMT-TTBVTV ngày 30/6/2026 của Sở Nông nghiệp và Môi trường V/v hướng dẫn áp dụng đơn giá bồi thường đối với cây trồng khi Nhà nước thu hồi đất theo QĐ số 35/2026/QĐ-UBND ngày 04/5/2026 của UBND tỉnh Khánh Hòa.
D29: - Khế loại A: 02 cây | E29: cây | F29: 2 | G29: 276000 | I29: 1 | J29: =ROUND((F29*G29*I29),0) -> 552000
D30: - Thanh long loại A: 1 bụi | E30: bụi | F30: 1 | G30: 169000 | I30: 1 | J30: =ROUND((F30*G30*I30),0) -> 169000
D31: - Nhãn 4 năm: 02 cây | E31: cây | F31: 2 | G31: 544000 | I31: 1 | J31: =ROUND((F31*G31*I31),0) -> 1088000
D32: - Sơ ri loại 1 năm: 01 cây | E32: cây | F32: 1 | G32: 103000 | I32: 1 | J32: =ROUND((F32*G32*I32),0) -> 103000
D33: - Bạch đàn trên 4 năm: 05 cây - Áp giá tương đương bạch đàn năm thứ 3 | E33: cây | F33: 5 | G33: 53000 | I33: 1 | J33: =ROUND((F33*G33*I33),0) -> 265000
D34: - Gỗ hương trên 4 năm: 01 cây - Áp giá tương đương Sưa năm thứ 4. ĐG: 114.000 đồng/cây | E34: cây | F34: 1 | G34: 114000 | I34: 1 | J34: =ROUND((F34*G34*I34),0) -> 114000
D35: - Sanh loại A: 08 cây - Áp giá tương đương cây bồ quân STT II.3. ĐG: 228.000đồng | E35: cây | F35: 8 | G35: 228000 | I35: 1 | J35: =ROUND((F35*G35*I35),0) -> 1824000
D36: - Trúc loại A: 01 cây | E36: cây | F36: 1 | G36: 84000 | I36: 1 | J36: =F36*G36*I36 -> 84000
D37: - Bàng loại A: 01 cây - Áp giá tương đương cây bồ quân STT II.3. ĐG: 228.000đồng | E37: cây | F37: 1 | G37: 228000 | I37: 1 | J37: =ROUND((F37*G37*I37),0) -> 228000
D38: - Mai loại A: 01 cây - Áp giá tương đương cây dâu tằm STT II.13. ĐG: 168.000đồng | E38: cây | F38: 1 | G38: 168000 | I38: 1 | J38: =F38*G38*I38 -> 168000
D39: III. Hỗ trợ chi phí di chuyển tài sản: Không | J39: 0
D40: IV/ Chính sách hỗ trợ (1+2+3): | J40: =SUM(J41:J42) -> 0
...

Sheet L.THỊ THÀNH (T115)
A1: II/ Kết quả bồi thường, hỗ trợ, tái định cư
A2: STT | B2: HỌ TÊN VÀ ĐỊA CHỈ (Nơi ở và nơi giải tỏa | C2: GIẤY TỜ NGUỒN GỐC NHÀ ĐẤT | D2: NỘI DUNG BỒI THƯỜNG, HỖ TRỢ | E2: Đơn vị tính | F2: Khối lượng BT, HT | G2: Đơn giá (đồng) | H2: Mức BT (%) | I2: Mức HT (%) | J2: Thành tiền (đồng) | K2: TỔNG TIỀN (đồng) | L2: Ký nhận
